BEGIN:VCALENDAR
VERSION:2.0
PRODID:-//Bildeston Village - ECPv6.15.18//NONSGML v1.0//EN
CALSCALE:GREGORIAN
METHOD:PUBLISH
X-WR-CALNAME:Bildeston Village
X-ORIGINAL-URL:https://bildeston.org
X-WR-CALDESC:Events for Bildeston Village
REFRESH-INTERVAL;VALUE=DURATION:PT1H
X-Robots-Tag:noindex
X-PUBLISHED-TTL:PT1H
BEGIN:VTIMEZONE
TZID:Europe/London
BEGIN:DAYLIGHT
TZOFFSETFROM:+0000
TZOFFSETTO:+0100
TZNAME:BST
DTSTART:20220327T010000
END:DAYLIGHT
BEGIN:STANDARD
TZOFFSETFROM:+0100
TZOFFSETTO:+0000
TZNAME:GMT
DTSTART:20221030T010000
END:STANDARD
BEGIN:DAYLIGHT
TZOFFSETFROM:+0000
TZOFFSETTO:+0100
TZNAME:BST
DTSTART:20230326T010000
END:DAYLIGHT
BEGIN:STANDARD
TZOFFSETFROM:+0100
TZOFFSETTO:+0000
TZNAME:GMT
DTSTART:20231029T010000
END:STANDARD
BEGIN:DAYLIGHT
TZOFFSETFROM:+0000
TZOFFSETTO:+0100
TZNAME:BST
DTSTART:20240331T010000
END:DAYLIGHT
BEGIN:STANDARD
TZOFFSETFROM:+0100
TZOFFSETTO:+0000
TZNAME:GMT
DTSTART:20241027T010000
END:STANDARD
END:VTIMEZONE
BEGIN:VEVENT
DTSTART;TZID=Europe/London:20230228T103000
DTEND;TZID=Europe/London:20230228T120000
DTSTAMP:20260422T100157
CREATED:20230220T144815Z
LAST-MODIFIED:20230220T144815Z
UID:22748-1677580200-1677585600@bildeston.org
SUMMARY:Come and See Coffee Mornings
DESCRIPTION:Starting onTuesday 28th February \nand continuing on Tuesdays \n(During term time only) \nCome at any time between  \n10.30am to 12noon \nAt Tankard House\, Wattisham Road\, Bildeston \nAn opportunity for fellowship\, to pray together\,and to ask questions about our faith in Jesus \nAll Welcome \nFor more information\, please call Teresa on 01449 744120 or email teresalester47@gmail.comor Revd Elke Cattermole on 01449 403698
URL:https://bildeston.org/event/come-and-see-coffee-mornings/
LOCATION:Tankard House\, Wattisham Road\, Bildeston
END:VEVENT
BEGIN:VEVENT
DTSTART;TZID=Europe/London:20230305T110000
DTEND;TZID=Europe/London:20230305T110000
DTSTAMP:20260422T100157
CREATED:20230220T144930Z
LAST-MODIFIED:20230220T150236Z
UID:22752-1678014000-1678014000@bildeston.org
SUMMARY:Service of Holy Communion
DESCRIPTION:
URL:https://bildeston.org/event/service-of-holy-communion/
LOCATION:St. Mary Magdalene Church\, Bildeston
END:VEVENT
END:VCALENDAR