BEGIN:VCALENDAR
VERSION:2.0
PRODID:-//Bildeston Village - ECPv6.15.18//NONSGML v1.0//EN
CALSCALE:GREGORIAN
METHOD:PUBLISH
X-ORIGINAL-URL:https://bildeston.org
X-WR-CALDESC:Events for Bildeston Village
REFRESH-INTERVAL;VALUE=DURATION:PT1H
X-Robots-Tag:noindex
X-PUBLISHED-TTL:PT1H
BEGIN:VTIMEZONE
TZID:Europe/London
BEGIN:DAYLIGHT
TZOFFSETFROM:+0000
TZOFFSETTO:+0100
TZNAME:BST
DTSTART:20240331T010000
END:DAYLIGHT
BEGIN:STANDARD
TZOFFSETFROM:+0100
TZOFFSETTO:+0000
TZNAME:GMT
DTSTART:20241027T010000
END:STANDARD
BEGIN:DAYLIGHT
TZOFFSETFROM:+0000
TZOFFSETTO:+0100
TZNAME:BST
DTSTART:20250330T010000
END:DAYLIGHT
BEGIN:STANDARD
TZOFFSETFROM:+0100
TZOFFSETTO:+0000
TZNAME:GMT
DTSTART:20251026T010000
END:STANDARD
BEGIN:DAYLIGHT
TZOFFSETFROM:+0000
TZOFFSETTO:+0100
TZNAME:BST
DTSTART:20260329T010000
END:DAYLIGHT
BEGIN:STANDARD
TZOFFSETFROM:+0100
TZOFFSETTO:+0000
TZNAME:GMT
DTSTART:20261025T010000
END:STANDARD
END:VTIMEZONE
BEGIN:VEVENT
DTSTART;TZID=Europe/London:20250402T123000
DTEND;TZID=Europe/London:20250402T170000
DTSTAMP:20260420T233423
CREATED:20210923T092930Z
LAST-MODIFIED:20210923T092930Z
UID:22952-1743597000-1743613200@bildeston.org
SUMMARY:Lunch Club
DESCRIPTION:Lunch club runs the first Wednesday each month – please ring 07584 189356 to reserve a place
URL:https://bildeston.org/event/lunch-club-2/2025-04-02/
LOCATION:Bildeston Baptist Church\, Duke street\, Bildeston\, IP7 7EW\, United Kingdom
CATEGORIES:Bildeston Baptist Church
ORGANIZER;CN="Bildeston Baptist Church":MAILTO:bildestonbc@gmail.com
END:VEVENT
BEGIN:VEVENT
DTSTART;TZID=Europe/London:20250401T193000
DTEND;TZID=Europe/London:20250401T193000
DTSTAMP:20260420T233423
CREATED:20210827T153117Z
LAST-MODIFIED:20210827T153117Z
UID:22949-1743535800-1743535800@bildeston.org
SUMMARY:Bildeston Carpet Bowls Club
DESCRIPTION:New members are very welcome to join our friendly club. Please ring our Club Captain Mike on 01284 827688.
URL:https://bildeston.org/event/bildeston-carpet-bowls-club/2025-04-01/
LOCATION:Chamberlin Hall
CATEGORIES:Chamberlin Hall
END:VEVENT
BEGIN:VEVENT
DTSTART;TZID=Europe/London:20250401T190000
DTEND;TZID=Europe/London:20250401T190000
DTSTAMP:20260420T233423
CREATED:20210816T211454Z
LAST-MODIFIED:20210816T211454Z
UID:22948-1743534000-1743534000@bildeston.org
SUMMARY:Snooker club
DESCRIPTION:
URL:https://bildeston.org/event/snooker-club-2/2025-04-01/
LOCATION:Chamberlin Hall
CATEGORIES:Chamberlin Hall
END:VEVENT
BEGIN:VEVENT
DTSTART;TZID=Europe/London:20250401T130000
DTEND;TZID=Europe/London:20250401T130000
DTSTAMP:20260420T233423
CREATED:20220327T212757Z
LAST-MODIFIED:20220327T212757Z
UID:22950-1743512400-1743512400@bildeston.org
SUMMARY:Zumba Gold!
DESCRIPTION:
URL:https://bildeston.org/event/zumba-gold-3/2025-04-01/
LOCATION:Chamberlin Hall
CATEGORIES:Chamberlin Hall
ORGANIZER;CN="Jo Brown":MAILTO:joanna-m-brown@hotmail.co.uk
END:VEVENT
BEGIN:VEVENT
DTSTART;TZID=Europe/London:20250401T110000
DTEND;TZID=Europe/London:20250401T120000
DTSTAMP:20260420T233423
CREATED:20210816T205642Z
LAST-MODIFIED:20210816T205642Z
UID:22947-1743505200-1743508800@bildeston.org
SUMMARY:Rosie’s line dancing
DESCRIPTION:
URL:https://bildeston.org/event/rosies-line-dancing/2025-04-01/
LOCATION:Chamberlin Hall
CATEGORIES:Chamberlin Hall
END:VEVENT
BEGIN:VEVENT
DTSTART;TZID=Europe/London:20250328T190000
DTEND;TZID=Europe/London:20250328T190000
DTSTAMP:20260420T233423
CREATED:20211105T141555Z
LAST-MODIFIED:20211105T141555Z
UID:22933-1743188400-1743188400@bildeston.org
SUMMARY:Bowling social evening
DESCRIPTION:
URL:https://bildeston.org/event/bowling-social-evening/2025-03-28/
LOCATION:Chamberlin Hall
CATEGORIES:Chamberlin Hall
END:VEVENT
BEGIN:VEVENT
DTSTART;TZID=Europe/London:20250328T120000
DTEND;TZID=Europe/London:20250328T130000
DTSTAMP:20260420T233423
CREATED:20200510T142415Z
LAST-MODIFIED:20200510T142415Z
UID:22931-1743163200-1743166800@bildeston.org
SUMMARY:Beginners Pilates
DESCRIPTION:
URL:https://bildeston.org/event/beginners-pilates-cancelled-2023-05-05/2025-03-28/
LOCATION:Chamberlin Hall
CATEGORIES:Chamberlin Hall
ORGANIZER;CN="Claire Jacobs":MAILTO:claire@fitframephysio.com
END:VEVENT
BEGIN:VEVENT
DTSTART;TZID=Europe/London:20250328T104500
DTEND;TZID=Europe/London:20250328T234500
DTSTAMP:20260420T233423
CREATED:20200510T141707Z
LAST-MODIFIED:20200510T141707Z
UID:22929-1743158700-1743205500@bildeston.org
SUMMARY:Intermediate Pilates
DESCRIPTION:
URL:https://bildeston.org/event/intermediate-pilates/2025-03-28/
LOCATION:Chamberlin Hall
CATEGORIES:Chamberlin Hall
ORGANIZER;CN="Claire Jacobs":MAILTO:claire@fitframephysio.com
END:VEVENT
BEGIN:VEVENT
DTSTART;TZID=Europe/London:20250328T104500
DTEND;TZID=Europe/London:20250328T234500
DTSTAMP:20260420T233423
CREATED:20200510T141707Z
LAST-MODIFIED:20200510T141707Z
UID:22930-1743158700-1743205500@bildeston.org
SUMMARY:Intermediate Pilates
DESCRIPTION:
URL:https://bildeston.org/event/intermediate-pilates-2/2025-03-28/
LOCATION:Chamberlin Hall
CATEGORIES:Chamberlin Hall
ORGANIZER;CN="Claire Jacobs":MAILTO:claire@fitframephysio.com
END:VEVENT
BEGIN:VEVENT
DTSTART;TZID=Europe/London:20250328T091500
DTEND;TZID=Europe/London:20250328T113000
DTSTAMP:20260420T233423
CREATED:20211105T110322Z
LAST-MODIFIED:20211105T110322Z
UID:22932-1743153300-1743161400@bildeston.org
SUMMARY:Community coffee centre
DESCRIPTION:Come along to the Bildeston Community Cafe and enjoy tea\, coffee\, scones\, bacon rolls or one of our delicious cup cakes! Parents and children welcome.
URL:https://bildeston.org/event/community-coffee-centre/2025-03-28/
LOCATION:Bildeston Baptist Church\, Duke street\, Bildeston\, IP7 7EW\, United Kingdom
CATEGORIES:Bildeston Baptist Church
ORGANIZER;CN="Bildeston Baptist Church":MAILTO:bildestonbc@gmail.com
END:VEVENT
BEGIN:VEVENT
DTSTART;TZID=Europe/London:20250327T190000
DTEND;TZID=Europe/London:20250327T220000
DTSTAMP:20260420T233423
CREATED:20211105T141438Z
LAST-MODIFIED:20211105T141438Z
UID:22926-1743102000-1743112800@bildeston.org
SUMMARY:VIPs Drama Group
DESCRIPTION:For details on how to join\, call Debbie: 01449 740375
URL:https://bildeston.org/event/vips-drama-group/2025-03-27/
LOCATION:Chamberlin Hall
CATEGORIES:Chamberlin Hall
END:VEVENT
BEGIN:VEVENT
DTSTART;TZID=Europe/London:20250327T100000
DTEND;TZID=Europe/London:20250327T104500
DTSTAMP:20260420T233423
CREATED:20210827T162858Z
LAST-MODIFIED:20210827T162858Z
UID:22924-1743069600-1743072300@bildeston.org
SUMMARY:Zumba Gold!
DESCRIPTION:£4 pay as you go \n(Every 10th class free)
URL:https://bildeston.org/event/zumba-gold-2/2025-03-27/
LOCATION:Chamberlin Hall
CATEGORIES:Chamberlin Hall
ORGANIZER;CN="Jo Brown":MAILTO:joanna-m-brown@hotmail.co.uk
END:VEVENT
BEGIN:VEVENT
DTSTART;TZID=Europe/London:20250327T091500
DTEND;TZID=Europe/London:20250327T101500
DTSTAMP:20260420T233423
CREATED:20211105T141138Z
LAST-MODIFIED:20211105T141138Z
UID:22925-1743066900-1743070500@bildeston.org
SUMMARY:Exercise classes
DESCRIPTION:Call 07718593532 for details
URL:https://bildeston.org/event/exercise-classes/2025-03-27/
LOCATION:Chamberlin Hall
CATEGORIES:Chamberlin Hall
END:VEVENT
BEGIN:VEVENT
DTSTART;TZID=Europe/London:20250325T193000
DTEND;TZID=Europe/London:20250325T193000
DTSTAMP:20260420T233423
CREATED:20210827T153117Z
LAST-MODIFIED:20210827T153117Z
UID:22920-1742931000-1742931000@bildeston.org
SUMMARY:Bildeston Carpet Bowls Club
DESCRIPTION:New members are very welcome to join our friendly club. Please ring our Club Captain Mike on 01284 827688.
URL:https://bildeston.org/event/bildeston-carpet-bowls-club/2025-03-25/
LOCATION:Chamberlin Hall
CATEGORIES:Chamberlin Hall
END:VEVENT
BEGIN:VEVENT
DTSTART;TZID=Europe/London:20250325T190000
DTEND;TZID=Europe/London:20250325T190000
DTSTAMP:20260420T233423
CREATED:20210816T211454Z
LAST-MODIFIED:20210816T211454Z
UID:22919-1742929200-1742929200@bildeston.org
SUMMARY:Snooker club
DESCRIPTION:
URL:https://bildeston.org/event/snooker-club-2/2025-03-25/
LOCATION:Chamberlin Hall
CATEGORIES:Chamberlin Hall
END:VEVENT
BEGIN:VEVENT
DTSTART;TZID=Europe/London:20250325T130000
DTEND;TZID=Europe/London:20250325T130000
DTSTAMP:20260420T233423
CREATED:20220327T212757Z
LAST-MODIFIED:20220327T212757Z
UID:22921-1742907600-1742907600@bildeston.org
SUMMARY:Zumba Gold!
DESCRIPTION:
URL:https://bildeston.org/event/zumba-gold-3/2025-03-25/
LOCATION:Chamberlin Hall
CATEGORIES:Chamberlin Hall
ORGANIZER;CN="Jo Brown":MAILTO:joanna-m-brown@hotmail.co.uk
END:VEVENT
BEGIN:VEVENT
DTSTART;TZID=Europe/London:20250325T110000
DTEND;TZID=Europe/London:20250325T120000
DTSTAMP:20260420T233423
CREATED:20210816T205642Z
LAST-MODIFIED:20210816T205642Z
UID:22918-1742900400-1742904000@bildeston.org
SUMMARY:Rosie’s line dancing
DESCRIPTION:
URL:https://bildeston.org/event/rosies-line-dancing/2025-03-25/
LOCATION:Chamberlin Hall
CATEGORIES:Chamberlin Hall
END:VEVENT
BEGIN:VEVENT
DTSTART;TZID=Europe/London:20250321T190000
DTEND;TZID=Europe/London:20250321T190000
DTSTAMP:20260420T233423
CREATED:20211105T141555Z
LAST-MODIFIED:20211105T141555Z
UID:22905-1742583600-1742583600@bildeston.org
SUMMARY:Bowling social evening
DESCRIPTION:
URL:https://bildeston.org/event/bowling-social-evening/2025-03-21/
LOCATION:Chamberlin Hall
CATEGORIES:Chamberlin Hall
END:VEVENT
BEGIN:VEVENT
DTSTART;TZID=Europe/London:20250321T120000
DTEND;TZID=Europe/London:20250321T130000
DTSTAMP:20260420T233423
CREATED:20200510T142415Z
LAST-MODIFIED:20200510T142415Z
UID:22903-1742558400-1742562000@bildeston.org
SUMMARY:Beginners Pilates
DESCRIPTION:
URL:https://bildeston.org/event/beginners-pilates-cancelled-2023-05-05/2025-03-21/
LOCATION:Chamberlin Hall
CATEGORIES:Chamberlin Hall
ORGANIZER;CN="Claire Jacobs":MAILTO:claire@fitframephysio.com
END:VEVENT
BEGIN:VEVENT
DTSTART;TZID=Europe/London:20250321T104500
DTEND;TZID=Europe/London:20250321T234500
DTSTAMP:20260420T233423
CREATED:20200510T141707Z
LAST-MODIFIED:20200510T141707Z
UID:22901-1742553900-1742600700@bildeston.org
SUMMARY:Intermediate Pilates
DESCRIPTION:
URL:https://bildeston.org/event/intermediate-pilates/2025-03-21/
LOCATION:Chamberlin Hall
CATEGORIES:Chamberlin Hall
ORGANIZER;CN="Claire Jacobs":MAILTO:claire@fitframephysio.com
END:VEVENT
BEGIN:VEVENT
DTSTART;TZID=Europe/London:20250321T104500
DTEND;TZID=Europe/London:20250321T234500
DTSTAMP:20260420T233423
CREATED:20200510T141707Z
LAST-MODIFIED:20200510T141707Z
UID:22902-1742553900-1742600700@bildeston.org
SUMMARY:Intermediate Pilates
DESCRIPTION:
URL:https://bildeston.org/event/intermediate-pilates-2/2025-03-21/
LOCATION:Chamberlin Hall
CATEGORIES:Chamberlin Hall
ORGANIZER;CN="Claire Jacobs":MAILTO:claire@fitframephysio.com
END:VEVENT
BEGIN:VEVENT
DTSTART;TZID=Europe/London:20250321T091500
DTEND;TZID=Europe/London:20250321T113000
DTSTAMP:20260420T233423
CREATED:20211105T110322Z
LAST-MODIFIED:20211105T110322Z
UID:22904-1742548500-1742556600@bildeston.org
SUMMARY:Community coffee centre
DESCRIPTION:Come along to the Bildeston Community Cafe and enjoy tea\, coffee\, scones\, bacon rolls or one of our delicious cup cakes! Parents and children welcome.
URL:https://bildeston.org/event/community-coffee-centre/2025-03-21/
LOCATION:Bildeston Baptist Church\, Duke street\, Bildeston\, IP7 7EW\, United Kingdom
CATEGORIES:Bildeston Baptist Church
ORGANIZER;CN="Bildeston Baptist Church":MAILTO:bildestonbc@gmail.com
END:VEVENT
BEGIN:VEVENT
DTSTART;TZID=Europe/London:20250320T190000
DTEND;TZID=Europe/London:20250320T220000
DTSTAMP:20260420T233423
CREATED:20211105T141438Z
LAST-MODIFIED:20211105T141438Z
UID:22898-1742497200-1742508000@bildeston.org
SUMMARY:VIPs Drama Group
DESCRIPTION:For details on how to join\, call Debbie: 01449 740375
URL:https://bildeston.org/event/vips-drama-group/2025-03-20/
LOCATION:Chamberlin Hall
CATEGORIES:Chamberlin Hall
END:VEVENT
BEGIN:VEVENT
DTSTART;TZID=Europe/London:20250320T100000
DTEND;TZID=Europe/London:20250320T104500
DTSTAMP:20260420T233423
CREATED:20210827T162858Z
LAST-MODIFIED:20210827T162858Z
UID:22896-1742464800-1742467500@bildeston.org
SUMMARY:Zumba Gold!
DESCRIPTION:£4 pay as you go \n(Every 10th class free)
URL:https://bildeston.org/event/zumba-gold-2/2025-03-20/
LOCATION:Chamberlin Hall
CATEGORIES:Chamberlin Hall
ORGANIZER;CN="Jo Brown":MAILTO:joanna-m-brown@hotmail.co.uk
END:VEVENT
BEGIN:VEVENT
DTSTART;TZID=Europe/London:20250320T091500
DTEND;TZID=Europe/London:20250320T101500
DTSTAMP:20260420T233423
CREATED:20211105T141138Z
LAST-MODIFIED:20211105T141138Z
UID:22897-1742462100-1742465700@bildeston.org
SUMMARY:Exercise classes
DESCRIPTION:Call 07718593532 for details
URL:https://bildeston.org/event/exercise-classes/2025-03-20/
LOCATION:Chamberlin Hall
CATEGORIES:Chamberlin Hall
END:VEVENT
BEGIN:VEVENT
DTSTART;TZID=Europe/London:20250318T193000
DTEND;TZID=Europe/London:20250318T193000
DTSTAMP:20260420T233423
CREATED:20210827T153117Z
LAST-MODIFIED:20210827T153117Z
UID:22892-1742326200-1742326200@bildeston.org
SUMMARY:Bildeston Carpet Bowls Club
DESCRIPTION:New members are very welcome to join our friendly club. Please ring our Club Captain Mike on 01284 827688.
URL:https://bildeston.org/event/bildeston-carpet-bowls-club/2025-03-18/
LOCATION:Chamberlin Hall
CATEGORIES:Chamberlin Hall
END:VEVENT
BEGIN:VEVENT
DTSTART;TZID=Europe/London:20250318T190000
DTEND;TZID=Europe/London:20250318T190000
DTSTAMP:20260420T233423
CREATED:20210816T211454Z
LAST-MODIFIED:20210816T211454Z
UID:22891-1742324400-1742324400@bildeston.org
SUMMARY:Snooker club
DESCRIPTION:
URL:https://bildeston.org/event/snooker-club-2/2025-03-18/
LOCATION:Chamberlin Hall
CATEGORIES:Chamberlin Hall
END:VEVENT
BEGIN:VEVENT
DTSTART;TZID=Europe/London:20250318T130000
DTEND;TZID=Europe/London:20250318T130000
DTSTAMP:20260420T233423
CREATED:20220327T212757Z
LAST-MODIFIED:20220327T212757Z
UID:22893-1742302800-1742302800@bildeston.org
SUMMARY:Zumba Gold!
DESCRIPTION:
URL:https://bildeston.org/event/zumba-gold-3/2025-03-18/
LOCATION:Chamberlin Hall
CATEGORIES:Chamberlin Hall
ORGANIZER;CN="Jo Brown":MAILTO:joanna-m-brown@hotmail.co.uk
END:VEVENT
BEGIN:VEVENT
DTSTART;TZID=Europe/London:20250318T110000
DTEND;TZID=Europe/London:20250318T120000
DTSTAMP:20260420T233423
CREATED:20210816T205642Z
LAST-MODIFIED:20210816T205642Z
UID:22890-1742295600-1742299200@bildeston.org
SUMMARY:Rosie’s line dancing
DESCRIPTION:
URL:https://bildeston.org/event/rosies-line-dancing/2025-03-18/
LOCATION:Chamberlin Hall
CATEGORIES:Chamberlin Hall
END:VEVENT
BEGIN:VEVENT
DTSTART;TZID=Europe/London:20250314T190000
DTEND;TZID=Europe/London:20250314T190000
DTSTAMP:20260420T233423
CREATED:20211105T141555Z
LAST-MODIFIED:20211105T141555Z
UID:22879-1741978800-1741978800@bildeston.org
SUMMARY:Bowling social evening
DESCRIPTION:
URL:https://bildeston.org/event/bowling-social-evening/2025-03-14/
LOCATION:Chamberlin Hall
CATEGORIES:Chamberlin Hall
END:VEVENT
END:VCALENDAR