BEGIN:VCALENDAR
VERSION:2.0
PRODID:-//Bildeston Village - ECPv6.15.18//NONSGML v1.0//EN
CALSCALE:GREGORIAN
METHOD:PUBLISH
X-WR-CALNAME:Bildeston Village
X-ORIGINAL-URL:https://bildeston.org
X-WR-CALDESC:Events for Bildeston Village
REFRESH-INTERVAL;VALUE=DURATION:PT1H
X-Robots-Tag:noindex
X-PUBLISHED-TTL:PT1H
BEGIN:VTIMEZONE
TZID:Europe/London
BEGIN:DAYLIGHT
TZOFFSETFROM:+0000
TZOFFSETTO:+0100
TZNAME:BST
DTSTART:20240331T010000
END:DAYLIGHT
BEGIN:STANDARD
TZOFFSETFROM:+0100
TZOFFSETTO:+0000
TZNAME:GMT
DTSTART:20241027T010000
END:STANDARD
BEGIN:DAYLIGHT
TZOFFSETFROM:+0000
TZOFFSETTO:+0100
TZNAME:BST
DTSTART:20250330T010000
END:DAYLIGHT
BEGIN:STANDARD
TZOFFSETFROM:+0100
TZOFFSETTO:+0000
TZNAME:GMT
DTSTART:20251026T010000
END:STANDARD
BEGIN:DAYLIGHT
TZOFFSETFROM:+0000
TZOFFSETTO:+0100
TZNAME:BST
DTSTART:20260329T010000
END:DAYLIGHT
BEGIN:STANDARD
TZOFFSETFROM:+0100
TZOFFSETTO:+0000
TZNAME:GMT
DTSTART:20261025T010000
END:STANDARD
END:VTIMEZONE
BEGIN:VEVENT
DTSTART;TZID=Europe/London:20250529T190000
DTEND;TZID=Europe/London:20250529T220000
DTSTAMP:20260420T212549
CREATED:20211105T141438Z
LAST-MODIFIED:20211105T141438Z
UID:23326-1748545200-1748556000@bildeston.org
SUMMARY:VIPs Drama Group
DESCRIPTION:For details on how to join\, call Debbie: 01449 740375
URL:https://bildeston.org/event/vips-drama-group/2025-05-29/
LOCATION:Chamberlin Hall
CATEGORIES:Chamberlin Hall
END:VEVENT
BEGIN:VEVENT
DTSTART;TZID=Europe/London:20250530T091500
DTEND;TZID=Europe/London:20250530T113000
DTSTAMP:20260420T212549
CREATED:20211105T110322Z
LAST-MODIFIED:20211105T110322Z
UID:23331-1748596500-1748604600@bildeston.org
SUMMARY:Community coffee centre
DESCRIPTION:Come along to the Bildeston Community Cafe and enjoy tea\, coffee\, scones\, bacon rolls or one of our delicious cup cakes! Parents and children welcome.
URL:https://bildeston.org/event/community-coffee-centre/2025-05-30/
LOCATION:Bildeston Baptist Church\, Duke street\, Bildeston\, IP7 7EW\, United Kingdom
CATEGORIES:Bildeston Baptist Church
ORGANIZER;CN="Bildeston Baptist Church":MAILTO:bildestonbc@gmail.com
END:VEVENT
BEGIN:VEVENT
DTSTART;TZID=Europe/London:20250530T104500
DTEND;TZID=Europe/London:20250530T234500
DTSTAMP:20260420T212549
CREATED:20200510T141707Z
LAST-MODIFIED:20200510T141707Z
UID:23328-1748601900-1748648700@bildeston.org
SUMMARY:Intermediate Pilates
DESCRIPTION:
URL:https://bildeston.org/event/intermediate-pilates/2025-05-30/
LOCATION:Chamberlin Hall
CATEGORIES:Chamberlin Hall
ORGANIZER;CN="Claire Jacobs":MAILTO:claire@fitframephysio.com
END:VEVENT
BEGIN:VEVENT
DTSTART;TZID=Europe/London:20250530T104500
DTEND;TZID=Europe/London:20250530T234500
DTSTAMP:20260420T212549
CREATED:20200510T141707Z
LAST-MODIFIED:20200510T141707Z
UID:23329-1748601900-1748648700@bildeston.org
SUMMARY:Intermediate Pilates
DESCRIPTION:
URL:https://bildeston.org/event/intermediate-pilates-2/2025-05-30/
LOCATION:Chamberlin Hall
CATEGORIES:Chamberlin Hall
ORGANIZER;CN="Claire Jacobs":MAILTO:claire@fitframephysio.com
END:VEVENT
BEGIN:VEVENT
DTSTART;TZID=Europe/London:20250530T120000
DTEND;TZID=Europe/London:20250530T130000
DTSTAMP:20260420T212549
CREATED:20200510T142415Z
LAST-MODIFIED:20200510T142415Z
UID:23330-1748606400-1748610000@bildeston.org
SUMMARY:Beginners Pilates
DESCRIPTION:
URL:https://bildeston.org/event/beginners-pilates-cancelled-2023-05-05/2025-05-30/
LOCATION:Chamberlin Hall
CATEGORIES:Chamberlin Hall
ORGANIZER;CN="Claire Jacobs":MAILTO:claire@fitframephysio.com
END:VEVENT
BEGIN:VEVENT
DTSTART;TZID=Europe/London:20250530T190000
DTEND;TZID=Europe/London:20250530T190000
DTSTAMP:20260420T212549
CREATED:20211105T141555Z
LAST-MODIFIED:20211105T141555Z
UID:23332-1748631600-1748631600@bildeston.org
SUMMARY:Bowling social evening
DESCRIPTION:
URL:https://bildeston.org/event/bowling-social-evening/2025-05-30/
LOCATION:Chamberlin Hall
CATEGORIES:Chamberlin Hall
END:VEVENT
BEGIN:VEVENT
DTSTART;TZID=Europe/London:20250603T110000
DTEND;TZID=Europe/London:20250603T120000
DTSTAMP:20260420T212549
CREATED:20210816T205642Z
LAST-MODIFIED:20210816T205642Z
UID:23403-1748948400-1748952000@bildeston.org
SUMMARY:Rosie’s line dancing
DESCRIPTION:
URL:https://bildeston.org/event/rosies-line-dancing/2025-06-03/
LOCATION:Chamberlin Hall
CATEGORIES:Chamberlin Hall
END:VEVENT
BEGIN:VEVENT
DTSTART;TZID=Europe/London:20250603T130000
DTEND;TZID=Europe/London:20250603T130000
DTSTAMP:20260420T212549
CREATED:20220327T212757Z
LAST-MODIFIED:20220327T212757Z
UID:23412-1748955600-1748955600@bildeston.org
SUMMARY:Zumba Gold!
DESCRIPTION:
URL:https://bildeston.org/event/zumba-gold-3/2025-06-03/
LOCATION:Chamberlin Hall
CATEGORIES:Chamberlin Hall
ORGANIZER;CN="Jo Brown":MAILTO:joanna-m-brown@hotmail.co.uk
END:VEVENT
BEGIN:VEVENT
DTSTART;TZID=Europe/London:20250603T190000
DTEND;TZID=Europe/London:20250603T190000
DTSTAMP:20260420T212549
CREATED:20210816T211454Z
LAST-MODIFIED:20210816T211454Z
UID:23406-1748977200-1748977200@bildeston.org
SUMMARY:Snooker club
DESCRIPTION:
URL:https://bildeston.org/event/snooker-club-2/2025-06-03/
LOCATION:Chamberlin Hall
CATEGORIES:Chamberlin Hall
END:VEVENT
BEGIN:VEVENT
DTSTART;TZID=Europe/London:20250603T193000
DTEND;TZID=Europe/London:20250603T193000
DTSTAMP:20260420T212549
CREATED:20210827T153117Z
LAST-MODIFIED:20210827T153117Z
UID:23409-1748979000-1748979000@bildeston.org
SUMMARY:Bildeston Carpet Bowls Club
DESCRIPTION:New members are very welcome to join our friendly club. Please ring our Club Captain Mike on 01284 827688.
URL:https://bildeston.org/event/bildeston-carpet-bowls-club/2025-06-03/
LOCATION:Chamberlin Hall
CATEGORIES:Chamberlin Hall
END:VEVENT
BEGIN:VEVENT
DTSTART;TZID=Europe/London:20250604T123000
DTEND;TZID=Europe/London:20250604T170000
DTSTAMP:20260420T212549
CREATED:20210923T092930Z
LAST-MODIFIED:20210923T092930Z
UID:23402-1749040200-1749056400@bildeston.org
SUMMARY:Lunch Club
DESCRIPTION:Lunch club runs the first Wednesday each month – please ring 07584 189356 to reserve a place
URL:https://bildeston.org/event/lunch-club-2/2025-06-04/
LOCATION:Bildeston Baptist Church\, Duke street\, Bildeston\, IP7 7EW\, United Kingdom
CATEGORIES:Bildeston Baptist Church
ORGANIZER;CN="Bildeston Baptist Church":MAILTO:bildestonbc@gmail.com
END:VEVENT
BEGIN:VEVENT
DTSTART;TZID=Europe/London:20250604T193000
DTEND;TZID=Europe/London:20250604T193000
DTSTAMP:20260420T212549
CREATED:20240710T143821Z
LAST-MODIFIED:20250801T141811Z
UID:32419-1749065400-1749065400@bildeston.org
SUMMARY:Parish Council Meeting
DESCRIPTION:This meeting will be held at Chamberlin Hall. Members of the public are welcome to attend; please see the agenda for more details.
URL:https://bildeston.org/event/parish-council-meeting-45/
LOCATION:Chamberlin Hall
CATEGORIES:Parish Council Meetings
END:VEVENT
BEGIN:VEVENT
DTSTART;TZID=Europe/London:20250605T091500
DTEND;TZID=Europe/London:20250605T101500
DTSTAMP:20260420T212549
CREATED:20211105T141138Z
LAST-MODIFIED:20211105T141138Z
UID:23418-1749114900-1749118500@bildeston.org
SUMMARY:Exercise classes
DESCRIPTION:Call 07718593532 for details
URL:https://bildeston.org/event/exercise-classes/2025-06-05/
LOCATION:Chamberlin Hall
CATEGORIES:Chamberlin Hall
END:VEVENT
BEGIN:VEVENT
DTSTART;TZID=Europe/London:20250605T100000
DTEND;TZID=Europe/London:20250605T104500
DTSTAMP:20260420T212549
CREATED:20210827T162858Z
LAST-MODIFIED:20210827T162858Z
UID:23415-1749117600-1749120300@bildeston.org
SUMMARY:Zumba Gold!
DESCRIPTION:£4 pay as you go \n(Every 10th class free)
URL:https://bildeston.org/event/zumba-gold-2/2025-06-05/
LOCATION:Chamberlin Hall
CATEGORIES:Chamberlin Hall
ORGANIZER;CN="Jo Brown":MAILTO:joanna-m-brown@hotmail.co.uk
END:VEVENT
BEGIN:VEVENT
DTSTART;TZID=Europe/London:20250605T190000
DTEND;TZID=Europe/London:20250605T220000
DTSTAMP:20260420T212549
CREATED:20211105T141438Z
LAST-MODIFIED:20211105T141438Z
UID:23421-1749150000-1749160800@bildeston.org
SUMMARY:VIPs Drama Group
DESCRIPTION:For details on how to join\, call Debbie: 01449 740375
URL:https://bildeston.org/event/vips-drama-group/2025-06-05/
LOCATION:Chamberlin Hall
CATEGORIES:Chamberlin Hall
END:VEVENT
BEGIN:VEVENT
DTSTART;TZID=Europe/London:20250606T091500
DTEND;TZID=Europe/London:20250606T113000
DTSTAMP:20260420T212549
CREATED:20211105T110322Z
LAST-MODIFIED:20211105T110322Z
UID:23433-1749201300-1749209400@bildeston.org
SUMMARY:Community coffee centre
DESCRIPTION:Come along to the Bildeston Community Cafe and enjoy tea\, coffee\, scones\, bacon rolls or one of our delicious cup cakes! Parents and children welcome.
URL:https://bildeston.org/event/community-coffee-centre/2025-06-06/
LOCATION:Bildeston Baptist Church\, Duke street\, Bildeston\, IP7 7EW\, United Kingdom
CATEGORIES:Bildeston Baptist Church
ORGANIZER;CN="Bildeston Baptist Church":MAILTO:bildestonbc@gmail.com
END:VEVENT
BEGIN:VEVENT
DTSTART;TZID=Europe/London:20250606T104500
DTEND;TZID=Europe/London:20250606T234500
DTSTAMP:20260420T212549
CREATED:20200510T141707Z
LAST-MODIFIED:20200510T141707Z
UID:23424-1749206700-1749253500@bildeston.org
SUMMARY:Intermediate Pilates
DESCRIPTION:
URL:https://bildeston.org/event/intermediate-pilates/2025-06-06/
LOCATION:Chamberlin Hall
CATEGORIES:Chamberlin Hall
ORGANIZER;CN="Claire Jacobs":MAILTO:claire@fitframephysio.com
END:VEVENT
BEGIN:VEVENT
DTSTART;TZID=Europe/London:20250606T104500
DTEND;TZID=Europe/London:20250606T234500
DTSTAMP:20260420T212549
CREATED:20200510T141707Z
LAST-MODIFIED:20200510T141707Z
UID:23427-1749206700-1749253500@bildeston.org
SUMMARY:Intermediate Pilates
DESCRIPTION:
URL:https://bildeston.org/event/intermediate-pilates-2/2025-06-06/
LOCATION:Chamberlin Hall
CATEGORIES:Chamberlin Hall
ORGANIZER;CN="Claire Jacobs":MAILTO:claire@fitframephysio.com
END:VEVENT
BEGIN:VEVENT
DTSTART;TZID=Europe/London:20250606T120000
DTEND;TZID=Europe/London:20250606T130000
DTSTAMP:20260420T212549
CREATED:20200510T142415Z
LAST-MODIFIED:20200510T142415Z
UID:23430-1749211200-1749214800@bildeston.org
SUMMARY:Beginners Pilates
DESCRIPTION:
URL:https://bildeston.org/event/beginners-pilates-cancelled-2023-05-05/2025-06-06/
LOCATION:Chamberlin Hall
CATEGORIES:Chamberlin Hall
ORGANIZER;CN="Claire Jacobs":MAILTO:claire@fitframephysio.com
END:VEVENT
BEGIN:VEVENT
DTSTART;TZID=Europe/London:20250606T190000
DTEND;TZID=Europe/London:20250606T190000
DTSTAMP:20260420T212549
CREATED:20211105T141555Z
LAST-MODIFIED:20211105T141555Z
UID:23436-1749236400-1749236400@bildeston.org
SUMMARY:Bowling social evening
DESCRIPTION:
URL:https://bildeston.org/event/bowling-social-evening/2025-06-06/
LOCATION:Chamberlin Hall
CATEGORIES:Chamberlin Hall
END:VEVENT
BEGIN:VEVENT
DTSTART;TZID=Europe/London:20250610T110000
DTEND;TZID=Europe/London:20250610T120000
DTSTAMP:20260420T212549
CREATED:20210816T205642Z
LAST-MODIFIED:20210816T205642Z
UID:23404-1749553200-1749556800@bildeston.org
SUMMARY:Rosie’s line dancing
DESCRIPTION:
URL:https://bildeston.org/event/rosies-line-dancing/2025-06-10/
LOCATION:Chamberlin Hall
CATEGORIES:Chamberlin Hall
END:VEVENT
BEGIN:VEVENT
DTSTART;TZID=Europe/London:20250610T130000
DTEND;TZID=Europe/London:20250610T130000
DTSTAMP:20260420T212549
CREATED:20220327T212757Z
LAST-MODIFIED:20220327T212757Z
UID:23413-1749560400-1749560400@bildeston.org
SUMMARY:Zumba Gold!
DESCRIPTION:
URL:https://bildeston.org/event/zumba-gold-3/2025-06-10/
LOCATION:Chamberlin Hall
CATEGORIES:Chamberlin Hall
ORGANIZER;CN="Jo Brown":MAILTO:joanna-m-brown@hotmail.co.uk
END:VEVENT
BEGIN:VEVENT
DTSTART;TZID=Europe/London:20250610T190000
DTEND;TZID=Europe/London:20250610T190000
DTSTAMP:20260420T212549
CREATED:20210816T211454Z
LAST-MODIFIED:20210816T211454Z
UID:23407-1749582000-1749582000@bildeston.org
SUMMARY:Snooker club
DESCRIPTION:
URL:https://bildeston.org/event/snooker-club-2/2025-06-10/
LOCATION:Chamberlin Hall
CATEGORIES:Chamberlin Hall
END:VEVENT
BEGIN:VEVENT
DTSTART;TZID=Europe/London:20250610T193000
DTEND;TZID=Europe/London:20250610T193000
DTSTAMP:20260420T212549
CREATED:20210827T153117Z
LAST-MODIFIED:20210827T153117Z
UID:23410-1749583800-1749583800@bildeston.org
SUMMARY:Bildeston Carpet Bowls Club
DESCRIPTION:New members are very welcome to join our friendly club. Please ring our Club Captain Mike on 01284 827688.
URL:https://bildeston.org/event/bildeston-carpet-bowls-club/2025-06-10/
LOCATION:Chamberlin Hall
CATEGORIES:Chamberlin Hall
END:VEVENT
BEGIN:VEVENT
DTSTART;TZID=Europe/London:20250612T091500
DTEND;TZID=Europe/London:20250612T101500
DTSTAMP:20260420T212549
CREATED:20211105T141138Z
LAST-MODIFIED:20211105T141138Z
UID:23419-1749719700-1749723300@bildeston.org
SUMMARY:Exercise classes
DESCRIPTION:Call 07718593532 for details
URL:https://bildeston.org/event/exercise-classes/2025-06-12/
LOCATION:Chamberlin Hall
CATEGORIES:Chamberlin Hall
END:VEVENT
BEGIN:VEVENT
DTSTART;TZID=Europe/London:20250612T100000
DTEND;TZID=Europe/London:20250612T104500
DTSTAMP:20260420T212549
CREATED:20210827T162858Z
LAST-MODIFIED:20210827T162858Z
UID:23416-1749722400-1749725100@bildeston.org
SUMMARY:Zumba Gold!
DESCRIPTION:£4 pay as you go \n(Every 10th class free)
URL:https://bildeston.org/event/zumba-gold-2/2025-06-12/
LOCATION:Chamberlin Hall
CATEGORIES:Chamberlin Hall
ORGANIZER;CN="Jo Brown":MAILTO:joanna-m-brown@hotmail.co.uk
END:VEVENT
BEGIN:VEVENT
DTSTART;TZID=Europe/London:20250612T190000
DTEND;TZID=Europe/London:20250612T220000
DTSTAMP:20260420T212549
CREATED:20211105T141438Z
LAST-MODIFIED:20211105T141438Z
UID:23422-1749754800-1749765600@bildeston.org
SUMMARY:VIPs Drama Group
DESCRIPTION:For details on how to join\, call Debbie: 01449 740375
URL:https://bildeston.org/event/vips-drama-group/2025-06-12/
LOCATION:Chamberlin Hall
CATEGORIES:Chamberlin Hall
END:VEVENT
BEGIN:VEVENT
DTSTART;TZID=Europe/London:20250613T091500
DTEND;TZID=Europe/London:20250613T113000
DTSTAMP:20260420T212549
CREATED:20211105T110322Z
LAST-MODIFIED:20211105T110322Z
UID:23434-1749806100-1749814200@bildeston.org
SUMMARY:Community coffee centre
DESCRIPTION:Come along to the Bildeston Community Cafe and enjoy tea\, coffee\, scones\, bacon rolls or one of our delicious cup cakes! Parents and children welcome.
URL:https://bildeston.org/event/community-coffee-centre/2025-06-13/
LOCATION:Bildeston Baptist Church\, Duke street\, Bildeston\, IP7 7EW\, United Kingdom
CATEGORIES:Bildeston Baptist Church
ORGANIZER;CN="Bildeston Baptist Church":MAILTO:bildestonbc@gmail.com
END:VEVENT
BEGIN:VEVENT
DTSTART;TZID=Europe/London:20250613T104500
DTEND;TZID=Europe/London:20250613T234500
DTSTAMP:20260420T212549
CREATED:20200510T141707Z
LAST-MODIFIED:20200510T141707Z
UID:23428-1749811500-1749858300@bildeston.org
SUMMARY:Intermediate Pilates
DESCRIPTION:
URL:https://bildeston.org/event/intermediate-pilates-2/2025-06-13/
LOCATION:Chamberlin Hall
CATEGORIES:Chamberlin Hall
ORGANIZER;CN="Claire Jacobs":MAILTO:claire@fitframephysio.com
END:VEVENT
BEGIN:VEVENT
DTSTART;TZID=Europe/London:20250613T104500
DTEND;TZID=Europe/London:20250613T234500
DTSTAMP:20260420T212549
CREATED:20200510T141707Z
LAST-MODIFIED:20200510T141707Z
UID:23425-1749811500-1749858300@bildeston.org
SUMMARY:Intermediate Pilates
DESCRIPTION:
URL:https://bildeston.org/event/intermediate-pilates/2025-06-13/
LOCATION:Chamberlin Hall
CATEGORIES:Chamberlin Hall
ORGANIZER;CN="Claire Jacobs":MAILTO:claire@fitframephysio.com
END:VEVENT
END:VCALENDAR