BEGIN:VCALENDAR
VERSION:2.0
PRODID:-//Bildeston Village - ECPv6.15.18//NONSGML v1.0//EN
CALSCALE:GREGORIAN
METHOD:PUBLISH
X-ORIGINAL-URL:https://bildeston.org
X-WR-CALDESC:Events for Bildeston Village
REFRESH-INTERVAL;VALUE=DURATION:PT1H
X-Robots-Tag:noindex
X-PUBLISHED-TTL:PT1H
BEGIN:VTIMEZONE
TZID:Europe/London
BEGIN:DAYLIGHT
TZOFFSETFROM:+0000
TZOFFSETTO:+0100
TZNAME:BST
DTSTART:20230326T010000
END:DAYLIGHT
BEGIN:STANDARD
TZOFFSETFROM:+0100
TZOFFSETTO:+0000
TZNAME:GMT
DTSTART:20231029T010000
END:STANDARD
BEGIN:DAYLIGHT
TZOFFSETFROM:+0000
TZOFFSETTO:+0100
TZNAME:BST
DTSTART:20240331T010000
END:DAYLIGHT
BEGIN:STANDARD
TZOFFSETFROM:+0100
TZOFFSETTO:+0000
TZNAME:GMT
DTSTART:20241027T010000
END:STANDARD
BEGIN:DAYLIGHT
TZOFFSETFROM:+0000
TZOFFSETTO:+0100
TZNAME:BST
DTSTART:20250330T010000
END:DAYLIGHT
BEGIN:STANDARD
TZOFFSETFROM:+0100
TZOFFSETTO:+0000
TZNAME:GMT
DTSTART:20251026T010000
END:STANDARD
END:VTIMEZONE
BEGIN:VEVENT
DTSTART;TZID=Europe/London:20241206T091500
DTEND;TZID=Europe/London:20241206T113000
DTSTAMP:20260421T024844
CREATED:20211105T110322Z
LAST-MODIFIED:20211105T110322Z
UID:22217-1733476500-1733484600@bildeston.org
SUMMARY:Community coffee centre
DESCRIPTION:Come along to the Bildeston Community Cafe and enjoy tea\, coffee\, scones\, bacon rolls or one of our delicious cup cakes! Parents and children welcome.
URL:https://bildeston.org/event/community-coffee-centre/2024-12-06/
LOCATION:Bildeston Baptist Church\, Duke street\, Bildeston\, IP7 7EW\, United Kingdom
CATEGORIES:Bildeston Baptist Church
ORGANIZER;CN="Bildeston Baptist Church":MAILTO:bildestonbc@gmail.com
END:VEVENT
BEGIN:VEVENT
DTSTART;TZID=Europe/London:20241206T104500
DTEND;TZID=Europe/London:20241206T234500
DTSTAMP:20260421T024844
CREATED:20200510T141707Z
LAST-MODIFIED:20200510T141707Z
UID:22214-1733481900-1733528700@bildeston.org
SUMMARY:Intermediate Pilates
DESCRIPTION:
URL:https://bildeston.org/event/intermediate-pilates/2024-12-06/
LOCATION:Chamberlin Hall
CATEGORIES:Chamberlin Hall
ORGANIZER;CN="Claire Jacobs":MAILTO:claire@fitframephysio.com
END:VEVENT
BEGIN:VEVENT
DTSTART;TZID=Europe/London:20241206T104500
DTEND;TZID=Europe/London:20241206T234500
DTSTAMP:20260421T024844
CREATED:20200510T141707Z
LAST-MODIFIED:20200510T141707Z
UID:22215-1733481900-1733528700@bildeston.org
SUMMARY:Intermediate Pilates
DESCRIPTION:
URL:https://bildeston.org/event/intermediate-pilates-2/2024-12-06/
LOCATION:Chamberlin Hall
CATEGORIES:Chamberlin Hall
ORGANIZER;CN="Claire Jacobs":MAILTO:claire@fitframephysio.com
END:VEVENT
BEGIN:VEVENT
DTSTART;TZID=Europe/London:20241206T120000
DTEND;TZID=Europe/London:20241206T130000
DTSTAMP:20260421T024844
CREATED:20200510T142415Z
LAST-MODIFIED:20200510T142415Z
UID:22216-1733486400-1733490000@bildeston.org
SUMMARY:Beginners Pilates
DESCRIPTION:
URL:https://bildeston.org/event/beginners-pilates-cancelled-2023-05-05/2024-12-06/
LOCATION:Chamberlin Hall
CATEGORIES:Chamberlin Hall
ORGANIZER;CN="Claire Jacobs":MAILTO:claire@fitframephysio.com
END:VEVENT
BEGIN:VEVENT
DTSTART;TZID=Europe/London:20241206T190000
DTEND;TZID=Europe/London:20241206T190000
DTSTAMP:20260421T024844
CREATED:20211105T141555Z
LAST-MODIFIED:20211105T141555Z
UID:22218-1733511600-1733511600@bildeston.org
SUMMARY:Bowling social evening
DESCRIPTION:
URL:https://bildeston.org/event/bowling-social-evening/2024-12-06/
LOCATION:Chamberlin Hall
CATEGORIES:Chamberlin Hall
END:VEVENT
BEGIN:VEVENT
DTSTART;TZID=Europe/London:20241210T110000
DTEND;TZID=Europe/London:20241210T120000
DTSTAMP:20260421T024844
CREATED:20210816T205642Z
LAST-MODIFIED:20210816T205642Z
UID:22240-1733828400-1733832000@bildeston.org
SUMMARY:Rosie’s line dancing
DESCRIPTION:
URL:https://bildeston.org/event/rosies-line-dancing/2024-12-10/
LOCATION:Chamberlin Hall
CATEGORIES:Chamberlin Hall
END:VEVENT
BEGIN:VEVENT
DTSTART;TZID=Europe/London:20241210T130000
DTEND;TZID=Europe/London:20241210T130000
DTSTAMP:20260421T024844
CREATED:20220327T212757Z
LAST-MODIFIED:20220327T212757Z
UID:22243-1733835600-1733835600@bildeston.org
SUMMARY:Zumba Gold!
DESCRIPTION:
URL:https://bildeston.org/event/zumba-gold-3/2024-12-10/
LOCATION:Chamberlin Hall
CATEGORIES:Chamberlin Hall
ORGANIZER;CN="Jo Brown":MAILTO:joanna-m-brown@hotmail.co.uk
END:VEVENT
BEGIN:VEVENT
DTSTART;TZID=Europe/London:20241210T190000
DTEND;TZID=Europe/London:20241210T190000
DTSTAMP:20260421T024844
CREATED:20210816T211454Z
LAST-MODIFIED:20210816T211454Z
UID:22241-1733857200-1733857200@bildeston.org
SUMMARY:Snooker club
DESCRIPTION:
URL:https://bildeston.org/event/snooker-club-2/2024-12-10/
LOCATION:Chamberlin Hall
CATEGORIES:Chamberlin Hall
END:VEVENT
BEGIN:VEVENT
DTSTART;TZID=Europe/London:20241210T193000
DTEND;TZID=Europe/London:20241210T193000
DTSTAMP:20260421T024844
CREATED:20210827T153117Z
LAST-MODIFIED:20210827T153117Z
UID:22242-1733859000-1733859000@bildeston.org
SUMMARY:Bildeston Carpet Bowls Club
DESCRIPTION:New members are very welcome to join our friendly club. Please ring our Club Captain Mike on 01284 827688.
URL:https://bildeston.org/event/bildeston-carpet-bowls-club/2024-12-10/
LOCATION:Chamberlin Hall
CATEGORIES:Chamberlin Hall
END:VEVENT
BEGIN:VEVENT
DTSTART;TZID=Europe/London:20241211T141000
DTEND;TZID=Europe/London:20241211T160000
DTSTAMP:20260421T024844
CREATED:20220124T224416Z
LAST-MODIFIED:20220124T224416Z
UID:22245-1733926200-1733932800@bildeston.org
SUMMARY:Mobile library
DESCRIPTION:The Mobile Library is operating as normal now\, but with the following provisions: \n\nOne customer at a time\nEveryone to sanitise their hands before entering\nStaff will wear face masks and customers encouraged to do the same\nPlease be as quick as possible to allow others time to choose\nThere is a temporary limit of 4 items per person\nAll returned stock is quarantined for 72 hours\nShelves are sanitised between stops\n\nThe Bildeston stops are as follows: \n\nBrooksfield at 14.10 to 14.25\nMarket Square 14.30 to 14.45\nNewberry Road 14.50 to 15.05\nPaddock Way 15.10 to 16.00
URL:https://bildeston.org/event/mobile-library/2024-12-11/
CATEGORIES:Market Square
END:VEVENT
BEGIN:VEVENT
DTSTART;TZID=Europe/London:20241212T091500
DTEND;TZID=Europe/London:20241212T101500
DTSTAMP:20260421T024844
CREATED:20211105T141138Z
LAST-MODIFIED:20211105T141138Z
UID:22248-1733994900-1733998500@bildeston.org
SUMMARY:Exercise classes
DESCRIPTION:Call 07718593532 for details
URL:https://bildeston.org/event/exercise-classes/2024-12-12/
LOCATION:Chamberlin Hall
CATEGORIES:Chamberlin Hall
END:VEVENT
BEGIN:VEVENT
DTSTART;TZID=Europe/London:20241212T100000
DTEND;TZID=Europe/London:20241212T104500
DTSTAMP:20260421T024844
CREATED:20210827T162858Z
LAST-MODIFIED:20210827T162858Z
UID:22247-1733997600-1734000300@bildeston.org
SUMMARY:Zumba Gold!
DESCRIPTION:£4 pay as you go \n(Every 10th class free)
URL:https://bildeston.org/event/zumba-gold-2/2024-12-12/
LOCATION:Chamberlin Hall
CATEGORIES:Chamberlin Hall
ORGANIZER;CN="Jo Brown":MAILTO:joanna-m-brown@hotmail.co.uk
END:VEVENT
BEGIN:VEVENT
DTSTART;TZID=Europe/London:20241212T190000
DTEND;TZID=Europe/London:20241212T220000
DTSTAMP:20260421T024844
CREATED:20211105T141438Z
LAST-MODIFIED:20211105T141438Z
UID:22249-1734030000-1734040800@bildeston.org
SUMMARY:VIPs Drama Group
DESCRIPTION:For details on how to join\, call Debbie: 01449 740375
URL:https://bildeston.org/event/vips-drama-group/2024-12-12/
LOCATION:Chamberlin Hall
CATEGORIES:Chamberlin Hall
END:VEVENT
BEGIN:VEVENT
DTSTART;TZID=Europe/London:20241213T091500
DTEND;TZID=Europe/London:20241213T113000
DTSTAMP:20260421T024844
CREATED:20211105T110322Z
LAST-MODIFIED:20211105T110322Z
UID:22254-1734081300-1734089400@bildeston.org
SUMMARY:Community coffee centre
DESCRIPTION:Come along to the Bildeston Community Cafe and enjoy tea\, coffee\, scones\, bacon rolls or one of our delicious cup cakes! Parents and children welcome.
URL:https://bildeston.org/event/community-coffee-centre/2024-12-13/
LOCATION:Bildeston Baptist Church\, Duke street\, Bildeston\, IP7 7EW\, United Kingdom
CATEGORIES:Bildeston Baptist Church
ORGANIZER;CN="Bildeston Baptist Church":MAILTO:bildestonbc@gmail.com
END:VEVENT
BEGIN:VEVENT
DTSTART;TZID=Europe/London:20241213T104500
DTEND;TZID=Europe/London:20241213T234500
DTSTAMP:20260421T024844
CREATED:20200510T141707Z
LAST-MODIFIED:20200510T141707Z
UID:22251-1734086700-1734133500@bildeston.org
SUMMARY:Intermediate Pilates
DESCRIPTION:
URL:https://bildeston.org/event/intermediate-pilates/2024-12-13/
LOCATION:Chamberlin Hall
CATEGORIES:Chamberlin Hall
ORGANIZER;CN="Claire Jacobs":MAILTO:claire@fitframephysio.com
END:VEVENT
BEGIN:VEVENT
DTSTART;TZID=Europe/London:20241213T104500
DTEND;TZID=Europe/London:20241213T234500
DTSTAMP:20260421T024844
CREATED:20200510T141707Z
LAST-MODIFIED:20200510T141707Z
UID:22252-1734086700-1734133500@bildeston.org
SUMMARY:Intermediate Pilates
DESCRIPTION:
URL:https://bildeston.org/event/intermediate-pilates-2/2024-12-13/
LOCATION:Chamberlin Hall
CATEGORIES:Chamberlin Hall
ORGANIZER;CN="Claire Jacobs":MAILTO:claire@fitframephysio.com
END:VEVENT
BEGIN:VEVENT
DTSTART;TZID=Europe/London:20241213T120000
DTEND;TZID=Europe/London:20241213T130000
DTSTAMP:20260421T024844
CREATED:20200510T142415Z
LAST-MODIFIED:20200510T142415Z
UID:22253-1734091200-1734094800@bildeston.org
SUMMARY:Beginners Pilates
DESCRIPTION:
URL:https://bildeston.org/event/beginners-pilates-cancelled-2023-05-05/2024-12-13/
LOCATION:Chamberlin Hall
CATEGORIES:Chamberlin Hall
ORGANIZER;CN="Claire Jacobs":MAILTO:claire@fitframephysio.com
END:VEVENT
BEGIN:VEVENT
DTSTART;TZID=Europe/London:20241213T190000
DTEND;TZID=Europe/London:20241213T190000
DTSTAMP:20260421T024844
CREATED:20211105T141555Z
LAST-MODIFIED:20211105T141555Z
UID:22255-1734116400-1734116400@bildeston.org
SUMMARY:Bowling social evening
DESCRIPTION:
URL:https://bildeston.org/event/bowling-social-evening/2024-12-13/
LOCATION:Chamberlin Hall
CATEGORIES:Chamberlin Hall
END:VEVENT
BEGIN:VEVENT
DTSTART;TZID=Europe/London:20241217T110000
DTEND;TZID=Europe/London:20241217T120000
DTSTAMP:20260421T024844
CREATED:20210816T205642Z
LAST-MODIFIED:20210816T205642Z
UID:22270-1734433200-1734436800@bildeston.org
SUMMARY:Rosie’s line dancing
DESCRIPTION:
URL:https://bildeston.org/event/rosies-line-dancing/2024-12-17/
LOCATION:Chamberlin Hall
CATEGORIES:Chamberlin Hall
END:VEVENT
BEGIN:VEVENT
DTSTART;TZID=Europe/London:20241217T130000
DTEND;TZID=Europe/London:20241217T130000
DTSTAMP:20260421T024844
CREATED:20220327T212757Z
LAST-MODIFIED:20220327T212757Z
UID:22273-1734440400-1734440400@bildeston.org
SUMMARY:Zumba Gold!
DESCRIPTION:
URL:https://bildeston.org/event/zumba-gold-3/2024-12-17/
LOCATION:Chamberlin Hall
CATEGORIES:Chamberlin Hall
ORGANIZER;CN="Jo Brown":MAILTO:joanna-m-brown@hotmail.co.uk
END:VEVENT
BEGIN:VEVENT
DTSTART;TZID=Europe/London:20241217T190000
DTEND;TZID=Europe/London:20241217T190000
DTSTAMP:20260421T024844
CREATED:20210816T211454Z
LAST-MODIFIED:20210816T211454Z
UID:22271-1734462000-1734462000@bildeston.org
SUMMARY:Snooker club
DESCRIPTION:
URL:https://bildeston.org/event/snooker-club-2/2024-12-17/
LOCATION:Chamberlin Hall
CATEGORIES:Chamberlin Hall
END:VEVENT
BEGIN:VEVENT
DTSTART;TZID=Europe/London:20241217T193000
DTEND;TZID=Europe/London:20241217T193000
DTSTAMP:20260421T024844
CREATED:20210827T153117Z
LAST-MODIFIED:20210827T153117Z
UID:22272-1734463800-1734463800@bildeston.org
SUMMARY:Bildeston Carpet Bowls Club
DESCRIPTION:New members are very welcome to join our friendly club. Please ring our Club Captain Mike on 01284 827688.
URL:https://bildeston.org/event/bildeston-carpet-bowls-club/2024-12-17/
LOCATION:Chamberlin Hall
CATEGORIES:Chamberlin Hall
END:VEVENT
BEGIN:VEVENT
DTSTART;TZID=Europe/London:20241219T091500
DTEND;TZID=Europe/London:20241219T101500
DTSTAMP:20260421T024844
CREATED:20211105T141138Z
LAST-MODIFIED:20211105T141138Z
UID:22280-1734599700-1734603300@bildeston.org
SUMMARY:Exercise classes
DESCRIPTION:Call 07718593532 for details
URL:https://bildeston.org/event/exercise-classes/2024-12-19/
LOCATION:Chamberlin Hall
CATEGORIES:Chamberlin Hall
END:VEVENT
BEGIN:VEVENT
DTSTART;TZID=Europe/London:20241219T100000
DTEND;TZID=Europe/London:20241219T104500
DTSTAMP:20260421T024844
CREATED:20210827T162858Z
LAST-MODIFIED:20210827T162858Z
UID:22279-1734602400-1734605100@bildeston.org
SUMMARY:Zumba Gold!
DESCRIPTION:£4 pay as you go \n(Every 10th class free)
URL:https://bildeston.org/event/zumba-gold-2/2024-12-19/
LOCATION:Chamberlin Hall
CATEGORIES:Chamberlin Hall
ORGANIZER;CN="Jo Brown":MAILTO:joanna-m-brown@hotmail.co.uk
END:VEVENT
BEGIN:VEVENT
DTSTART;TZID=Europe/London:20241219T190000
DTEND;TZID=Europe/London:20241219T220000
DTSTAMP:20260421T024844
CREATED:20211105T141438Z
LAST-MODIFIED:20211105T141438Z
UID:22281-1734634800-1734645600@bildeston.org
SUMMARY:VIPs Drama Group
DESCRIPTION:For details on how to join\, call Debbie: 01449 740375
URL:https://bildeston.org/event/vips-drama-group/2024-12-19/
LOCATION:Chamberlin Hall
CATEGORIES:Chamberlin Hall
END:VEVENT
BEGIN:VEVENT
DTSTART;TZID=Europe/London:20241220T091500
DTEND;TZID=Europe/London:20241220T113000
DTSTAMP:20260421T024844
CREATED:20211105T110322Z
LAST-MODIFIED:20211105T110322Z
UID:22286-1734686100-1734694200@bildeston.org
SUMMARY:Community coffee centre
DESCRIPTION:Come along to the Bildeston Community Cafe and enjoy tea\, coffee\, scones\, bacon rolls or one of our delicious cup cakes! Parents and children welcome.
URL:https://bildeston.org/event/community-coffee-centre/2024-12-20/
LOCATION:Bildeston Baptist Church\, Duke street\, Bildeston\, IP7 7EW\, United Kingdom
CATEGORIES:Bildeston Baptist Church
ORGANIZER;CN="Bildeston Baptist Church":MAILTO:bildestonbc@gmail.com
END:VEVENT
BEGIN:VEVENT
DTSTART;TZID=Europe/London:20241220T104500
DTEND;TZID=Europe/London:20241220T234500
DTSTAMP:20260421T024844
CREATED:20200510T141707Z
LAST-MODIFIED:20200510T141707Z
UID:22284-1734691500-1734738300@bildeston.org
SUMMARY:Intermediate Pilates
DESCRIPTION:
URL:https://bildeston.org/event/intermediate-pilates-2/2024-12-20/
LOCATION:Chamberlin Hall
CATEGORIES:Chamberlin Hall
ORGANIZER;CN="Claire Jacobs":MAILTO:claire@fitframephysio.com
END:VEVENT
BEGIN:VEVENT
DTSTART;TZID=Europe/London:20241220T104500
DTEND;TZID=Europe/London:20241220T234500
DTSTAMP:20260421T024844
CREATED:20200510T141707Z
LAST-MODIFIED:20200510T141707Z
UID:22283-1734691500-1734738300@bildeston.org
SUMMARY:Intermediate Pilates
DESCRIPTION:
URL:https://bildeston.org/event/intermediate-pilates/2024-12-20/
LOCATION:Chamberlin Hall
CATEGORIES:Chamberlin Hall
ORGANIZER;CN="Claire Jacobs":MAILTO:claire@fitframephysio.com
END:VEVENT
BEGIN:VEVENT
DTSTART;TZID=Europe/London:20241220T120000
DTEND;TZID=Europe/London:20241220T130000
DTSTAMP:20260421T024844
CREATED:20200510T142415Z
LAST-MODIFIED:20200510T142415Z
UID:22285-1734696000-1734699600@bildeston.org
SUMMARY:Beginners Pilates
DESCRIPTION:
URL:https://bildeston.org/event/beginners-pilates-cancelled-2023-05-05/2024-12-20/
LOCATION:Chamberlin Hall
CATEGORIES:Chamberlin Hall
ORGANIZER;CN="Claire Jacobs":MAILTO:claire@fitframephysio.com
END:VEVENT
BEGIN:VEVENT
DTSTART;TZID=Europe/London:20241220T190000
DTEND;TZID=Europe/London:20241220T190000
DTSTAMP:20260421T024844
CREATED:20211105T141555Z
LAST-MODIFIED:20211105T141555Z
UID:22287-1734721200-1734721200@bildeston.org
SUMMARY:Bowling social evening
DESCRIPTION:
URL:https://bildeston.org/event/bowling-social-evening/2024-12-20/
LOCATION:Chamberlin Hall
CATEGORIES:Chamberlin Hall
END:VEVENT
END:VCALENDAR