BEGIN:VCALENDAR
VERSION:2.0
PRODID:-//Bildeston Village - ECPv6.15.18//NONSGML v1.0//EN
CALSCALE:GREGORIAN
METHOD:PUBLISH
X-WR-CALNAME:Bildeston Village
X-ORIGINAL-URL:https://bildeston.org
X-WR-CALDESC:Events for Bildeston Village
REFRESH-INTERVAL;VALUE=DURATION:PT1H
X-Robots-Tag:noindex
X-PUBLISHED-TTL:PT1H
BEGIN:VTIMEZONE
TZID:Europe/London
BEGIN:DAYLIGHT
TZOFFSETFROM:+0000
TZOFFSETTO:+0100
TZNAME:BST
DTSTART:20220327T010000
END:DAYLIGHT
BEGIN:STANDARD
TZOFFSETFROM:+0100
TZOFFSETTO:+0000
TZNAME:GMT
DTSTART:20221030T010000
END:STANDARD
BEGIN:DAYLIGHT
TZOFFSETFROM:+0000
TZOFFSETTO:+0100
TZNAME:BST
DTSTART:20230326T010000
END:DAYLIGHT
BEGIN:STANDARD
TZOFFSETFROM:+0100
TZOFFSETTO:+0000
TZNAME:GMT
DTSTART:20231029T010000
END:STANDARD
BEGIN:DAYLIGHT
TZOFFSETFROM:+0000
TZOFFSETTO:+0100
TZNAME:BST
DTSTART:20240331T010000
END:DAYLIGHT
BEGIN:STANDARD
TZOFFSETFROM:+0100
TZOFFSETTO:+0000
TZNAME:GMT
DTSTART:20241027T010000
END:STANDARD
END:VTIMEZONE
BEGIN:VEVENT
DTSTART;TZID=Europe/London:20230505T104500
DTEND;TZID=Europe/London:20230505T234500
DTSTAMP:20260422T114045
CREATED:20200510T141707Z
LAST-MODIFIED:20210506T201136Z
UID:12201-1683283500-1683330300@bildeston.org
SUMMARY:Intermediate Pilates
DESCRIPTION:
URL:https://bildeston.org/event/intermediate-pilates-2/2023-05-05/
LOCATION:Chamberlin Hall
CATEGORIES:Chamberlin Hall
ORGANIZER;CN="Claire Jacobs":MAILTO:claire@fitframephysio.com
END:VEVENT
BEGIN:VEVENT
DTSTART;TZID=Europe/London:20230430T110000
DTEND;TZID=Europe/London:20230430T110000
DTSTAMP:20260422T114045
CREATED:20230426T155546Z
LAST-MODIFIED:20230426T155546Z
UID:23061-1682852400-1682852400@bildeston.org
SUMMARY:Morning Prayer
DESCRIPTION:
URL:https://bildeston.org/event/morning-prayer-3/
LOCATION:St. Mary Magdalene Church Bildeston
END:VEVENT
BEGIN:VEVENT
DTSTART;TZID=Europe/London:20230416T110000
DTEND;TZID=Europe/London:20230416T110000
DTSTAMP:20260422T114045
CREATED:20230301T122046Z
LAST-MODIFIED:20230301T122046Z
UID:22824-1681642800-1681642800@bildeston.org
SUMMARY:Benefice service of HC or MP
DESCRIPTION:
URL:https://bildeston.org/event/benefice-service-of-hc-or-mp/
LOCATION:All Saint’s Church\, Semer
END:VEVENT
BEGIN:VEVENT
DTSTART;TZID=Europe/London:20230413T170000
DTEND;TZID=Europe/London:20230413T200000
DTSTAMP:20260422T114045
CREATED:20230125T102456Z
LAST-MODIFIED:20230125T102456Z
UID:22639-1681405200-1681416000@bildeston.org
SUMMARY:Easter Family Disco
DESCRIPTION:April 13 @ 5:00 pm – 8:00 pm \n\n\n\nChildren’s Easter disco \nBar and food available \nEaster activities and family fun.
URL:https://bildeston.org/event/easter-family-disco/
END:VEVENT
BEGIN:VEVENT
DTSTART;TZID=Europe/London:20230409T110000
DTEND;TZID=Europe/London:20230409T110000
DTSTAMP:20260422T114045
CREATED:20230301T122000Z
LAST-MODIFIED:20230301T122000Z
UID:22821-1681038000-1681038000@bildeston.org
SUMMARY:Easter Sunday Benefice Service of Holy communion
DESCRIPTION:
URL:https://bildeston.org/event/easter-sunday-benefice-service-of-holy-communion/
LOCATION:St. Mary Magdalene Church\, Bildeston
END:VEVENT
BEGIN:VEVENT
DTSTART;TZID=Europe/London:20230408T190000
DTEND;TZID=Europe/London:20230408T190000
DTSTAMP:20260422T114045
CREATED:20230125T093209Z
LAST-MODIFIED:20230125T093209Z
UID:22605-1680980400-1680980400@bildeston.org
SUMMARY:Bingo
DESCRIPTION:
URL:https://bildeston.org/event/bingo-8/
END:VEVENT
BEGIN:VEVENT
DTSTART;TZID=Europe/London:20230326T110000
DTEND;TZID=Europe/London:20230326T110000
DTSTAMP:20260422T114045
CREATED:20230301T121849Z
LAST-MODIFIED:20230301T121849Z
UID:22817-1679828400-1679828400@bildeston.org
SUMMARY:Benefice service of Holy Communion
DESCRIPTION:
URL:https://bildeston.org/event/benefice-service-of-holy-communion/
LOCATION:St. Mary’s Church\, Nedging
END:VEVENT
BEGIN:VEVENT
DTSTART;TZID=Europe/London:20230325T190000
DTEND;TZID=Europe/London:20230325T230000
DTSTAMP:20260422T114045
CREATED:20230125T102410Z
LAST-MODIFIED:20230125T102410Z
UID:22636-1679770800-1679785200@bildeston.org
SUMMARY:Quiz
DESCRIPTION:March 25 @ 7:00 pm – 11:00 pm \n\n\n\n25th March 7pm \nBar open with nibbles \n£10/table (max 6 people)
URL:https://bildeston.org/event/quiz/
END:VEVENT
BEGIN:VEVENT
DTSTART;TZID=Europe/London:20230319T110000
DTEND;TZID=Europe/London:20230319T110000
DTSTAMP:20260422T114045
CREATED:20230220T145012Z
LAST-MODIFIED:20230220T150628Z
UID:22756-1679223600-1679223600@bildeston.org
SUMMARY:Mothering Sunday Service
DESCRIPTION:
URL:https://bildeston.org/event/mothering-sunday-service/
LOCATION:St. Mary Magdalene Church\, Bildeston
END:VEVENT
BEGIN:VEVENT
DTSTART;TZID=Europe/London:20230318T120000
DTEND;TZID=Europe/London:20230318T120000
DTSTAMP:20260422T114045
CREATED:20230125T101053Z
LAST-MODIFIED:20230125T101053Z
UID:22629-1679140800-1679140800@bildeston.org
SUMMARY:Rugby – Six Nations
DESCRIPTION:
URL:https://bildeston.org/event/rugby-six-nations-5/
END:VEVENT
BEGIN:VEVENT
DTSTART;TZID=Europe/London:20230313T190000
DTEND;TZID=Europe/London:20230313T190000
DTSTAMP:20260422T114045
CREATED:20220406T160735Z
LAST-MODIFIED:20220408T101956Z
UID:18189-1678734000-1678734000@bildeston.org
SUMMARY:Parish Council meeting
DESCRIPTION:This meeting will be held at Baptist Hall\, Duke Street . Members of the public are welcome to attend; please see the agenda for more details.
URL:https://bildeston.org/event/parish-council-meeting-25/
LOCATION:Baptist Hall\, Duke Street
CATEGORIES:Parish Council Meetings
END:VEVENT
BEGIN:VEVENT
DTSTART;TZID=Europe/London:20230311T190000
DTEND;TZID=Europe/London:20230311T190000
DTSTAMP:20260422T114045
CREATED:20230125T093058Z
LAST-MODIFIED:20230125T093058Z
UID:22602-1678561200-1678561200@bildeston.org
SUMMARY:Bingo
DESCRIPTION:
URL:https://bildeston.org/event/bingo-7/
END:VEVENT
BEGIN:VEVENT
DTSTART;TZID=Europe/London:20230311T163000
DTEND;TZID=Europe/London:20230311T163000
DTSTAMP:20260422T114045
CREATED:20230125T100008Z
LAST-MODIFIED:20230125T100008Z
UID:22626-1678552200-1678552200@bildeston.org
SUMMARY:Rugby – Six Nations
DESCRIPTION:
URL:https://bildeston.org/event/rugby-six-nations-4/
END:VEVENT
BEGIN:VEVENT
DTSTART;TZID=Europe/London:20230307T103000
DTEND;TZID=Europe/London:20230307T120000
DTSTAMP:20260422T114045
CREATED:20230220T145123Z
LAST-MODIFIED:20230221T100114Z
UID:22759-1678185000-1678190400@bildeston.org
SUMMARY:Lent Coffee Morning
DESCRIPTION:Starting onTuesday 28th February \nand continuing on Tuesdays \n(During term time only) \nCome at any time between  \n10.30am to 12noon \nAt Tankard House\, Wattisham Road\, Bildeston \nAn opportunity for fellowship\, to pray together\,and to ask questions about our faith in Jesus \nAll Welcome \nFor more information\, please call Teresa on 01449 744120 or email teresalester47@gmail.comor Revd Elke Cattermole on 01449 403698
URL:https://bildeston.org/event/lent-coffee-morning/2023-03-07/
END:VEVENT
BEGIN:VEVENT
DTSTART;TZID=Europe/London:20230305T110000
DTEND;TZID=Europe/London:20230305T110000
DTSTAMP:20260422T114045
CREATED:20230220T144930Z
LAST-MODIFIED:20230220T150236Z
UID:22752-1678014000-1678014000@bildeston.org
SUMMARY:Service of Holy Communion
DESCRIPTION:
URL:https://bildeston.org/event/service-of-holy-communion/
LOCATION:St. Mary Magdalene Church\, Bildeston
END:VEVENT
BEGIN:VEVENT
DTSTART;TZID=Europe/London:20230228T103000
DTEND;TZID=Europe/London:20230228T120000
DTSTAMP:20260422T114045
CREATED:20230220T144815Z
LAST-MODIFIED:20230220T144815Z
UID:22748-1677580200-1677585600@bildeston.org
SUMMARY:Come and See Coffee Mornings
DESCRIPTION:Starting onTuesday 28th February \nand continuing on Tuesdays \n(During term time only) \nCome at any time between  \n10.30am to 12noon \nAt Tankard House\, Wattisham Road\, Bildeston \nAn opportunity for fellowship\, to pray together\,and to ask questions about our faith in Jesus \nAll Welcome \nFor more information\, please call Teresa on 01449 744120 or email teresalester47@gmail.comor Revd Elke Cattermole on 01449 403698
URL:https://bildeston.org/event/come-and-see-coffee-mornings/
LOCATION:Tankard House\, Wattisham Road\, Bildeston
END:VEVENT
BEGIN:VEVENT
DTSTART;TZID=Europe/London:20230225T163000
DTEND;TZID=Europe/London:20230225T163000
DTSTAMP:20260422T114045
CREATED:20230125T095835Z
LAST-MODIFIED:20230125T095835Z
UID:22622-1677342600-1677342600@bildeston.org
SUMMARY:Rugby – Six Nations
DESCRIPTION:
URL:https://bildeston.org/event/rugby-six-nations-3/
END:VEVENT
BEGIN:VEVENT
DTSTART;TZID=Europe/London:20230222T103000
DTEND;TZID=Europe/London:20230222T103000
DTSTAMP:20260422T114045
CREATED:20230220T144534Z
LAST-MODIFIED:20230220T150717Z
UID:22744-1677061800-1677061800@bildeston.org
SUMMARY:Ash Wednesday Service
DESCRIPTION:
URL:https://bildeston.org/event/ash-wednesday-service/
LOCATION:St. Mary’s church\, Naughton
END:VEVENT
BEGIN:VEVENT
DTSTART;TZID=Europe/London:20230213T190000
DTEND;TZID=Europe/London:20230213T190000
DTSTAMP:20260422T114045
CREATED:20220406T160706Z
LAST-MODIFIED:20220408T101945Z
UID:18187-1676314800-1676314800@bildeston.org
SUMMARY:Parish Council meeting
DESCRIPTION:This meeting will be held at Baptist Hall\, Duke Street . Members of the public are welcome to attend; please see the agenda for more details.
URL:https://bildeston.org/event/parish-council-meeting-24/
LOCATION:Baptist Hall\, Duke Street
CATEGORIES:Parish Council Meetings
END:VEVENT
BEGIN:VEVENT
DTSTART;TZID=Europe/London:20230212T143000
DTEND;TZID=Europe/London:20230212T143000
DTSTAMP:20260422T114045
CREATED:20230125T095707Z
LAST-MODIFIED:20230125T095707Z
UID:22619-1676212200-1676212200@bildeston.org
SUMMARY:Rugby – Six Nations
DESCRIPTION:
URL:https://bildeston.org/event/rugby-six-nations-2/
END:VEVENT
BEGIN:VEVENT
DTSTART;TZID=Europe/London:20230211T193000
DTEND;TZID=Europe/London:20230211T193000
DTSTAMP:20260422T114045
CREATED:20230125T102257Z
LAST-MODIFIED:20230125T102257Z
UID:22632-1676143800-1676143800@bildeston.org
SUMMARY:The Kicks
DESCRIPTION:Bar open – Free entry \nDoors open 7:30pm – live music from 8:30pm
URL:https://bildeston.org/event/the-kicks-2/
END:VEVENT
BEGIN:VEVENT
DTSTART;TZID=Europe/London:20230204T163000
DTEND;TZID=Europe/London:20230204T163000
DTSTAMP:20260422T114045
CREATED:20230125T095359Z
LAST-MODIFIED:20230125T095359Z
UID:22615-1675528200-1675528200@bildeston.org
SUMMARY:Rugby – Six Nations
DESCRIPTION:
URL:https://bildeston.org/event/rugby-six-nations/
END:VEVENT
BEGIN:VEVENT
DTSTART;TZID=Europe/London:20230129T110000
DTEND;TZID=Europe/London:20230129T110000
DTSTAMP:20260422T114045
CREATED:20230106T114052Z
LAST-MODIFIED:20230106T114052Z
UID:22416-1674990000-1674990000@bildeston.org
SUMMARY:Services in the Brett Valley Benefice
DESCRIPTION:
URL:https://bildeston.org/event/services-in-the-brett-valley-benefice-23/
LOCATION:Holy Communion at All Saint’s Semer
END:VEVENT
BEGIN:VEVENT
DTSTART;TZID=Europe/London:20230129T100000
DTEND;TZID=Europe/London:20230129T120000
DTSTAMP:20260422T114045
CREATED:20230124T115051Z
LAST-MODIFIED:20230124T122749Z
UID:22532-1674986400-1674993600@bildeston.org
SUMMARY:Social Sundays
DESCRIPTION:Social Sundays provide tea/ coffee\, bacon rolls\, cheese scones\, cakes\, company and chat!
URL:https://bildeston.org/event/social-sundays-2/2023-01-29/
LOCATION:Bildeston Sports Pavilion\, Consent Lane\, Bildeston\, United Kingdom
END:VEVENT
BEGIN:VEVENT
DTSTART;TZID=Europe/London:20230127T190000
DTEND;TZID=Europe/London:20230129T190000
DTSTAMP:20260422T114045
CREATED:20230125T094729Z
LAST-MODIFIED:20230125T094729Z
UID:22611-1674846000-1675018800@bildeston.org
SUMMARY:Panto
DESCRIPTION:Treasure Island and the Silver  long Johns \n \nFriday 27th Jan 19.00 \nSaturday 28th Jan 19.00 \nSunday 29th Jan 14.00 \nChamberlin Hall’s festive panto!!!! \nFor tickets please contact Debbie Bailey on 07948 083769
URL:https://bildeston.org/event/panto/
END:VEVENT
BEGIN:VEVENT
DTSTART;TZID=Europe/London:20230127T190000
DTEND;TZID=Europe/London:20230129T190000
DTSTAMP:20260422T114045
CREATED:20230106T103828Z
LAST-MODIFIED:20230106T103828Z
UID:22341-1674846000-1675018800@bildeston.org
SUMMARY:Treasure Island and Silver Long Johns
DESCRIPTION:Treasure Island
URL:https://bildeston.org/event/treasure-island-and-silver-long-johns/
LOCATION:Chamberlin Hall
CATEGORIES:Art
END:VEVENT
BEGIN:VEVENT
DTSTART;VALUE=DATE:20230125
DTEND;VALUE=DATE:20230126
DTSTAMP:20260422T114045
CREATED:20230106T115718Z
LAST-MODIFIED:20230106T115718Z
UID:22461-1674604800-1674691199@bildeston.org
SUMMARY:Bildeston Garden Group
DESCRIPTION:call Debbie 07948083769
URL:https://bildeston.org/event/bildeston-garden-group-5/
END:VEVENT
BEGIN:VEVENT
DTSTART;TZID=Europe/London:20230122T110000
DTEND;TZID=Europe/London:20230122T110000
DTSTAMP:20260422T114045
CREATED:20230106T114006Z
LAST-MODIFIED:20230106T114006Z
UID:22413-1674385200-1674385200@bildeston.org
SUMMARY:Services in the Brett Valley Benefice
DESCRIPTION:
URL:https://bildeston.org/event/services-in-the-brett-valley-benefice-22/
LOCATION:Morning Prayer at St Mary’s Naughton
END:VEVENT
BEGIN:VEVENT
DTSTART;TZID=Europe/London:20230122T110000
DTEND;TZID=Europe/London:20230122T110000
DTSTAMP:20260422T114045
CREATED:20230106T113919Z
LAST-MODIFIED:20230106T113919Z
UID:22409-1674385200-1674385200@bildeston.org
SUMMARY:Services in the Brett Valley Benefice
DESCRIPTION:
URL:https://bildeston.org/event/services-in-the-brett-valley-benefice-21/
LOCATION:Holy Communion at St Mary Magdalene Bildeston
END:VEVENT
BEGIN:VEVENT
DTSTART;TZID=Europe/London:20230121T093000
DTEND;TZID=Europe/London:20230121T093000
DTSTAMP:20260422T114045
CREATED:20230106T105341Z
LAST-MODIFIED:20230106T105341Z
UID:22376-1674293400-1674293400@bildeston.org
SUMMARY:BILDESTON COMMUNITY CYCLING
DESCRIPTION:BILDESTON COMMUNITY CYCLING\nWhy not join our monthly Saturday morning Winter Warmer series?\nThese rides are for riders of all abilities.\nWINTER WARMER 4\nJOIN US FOR A RIDE OF ABOUT 25 MILES\,\nSTARTING FROM THE MA. RKET PLACE\nAT 9.30am\, ON SATURDAY 21 JANUARY\nCAFE STOP HALFWAY. BACK ABOUT 12.30pm.\nPUT IT IN THE DIARY NOW!\nWarm clothing recommended. The ride will be mainly on quiet lanes\,\nat an acceptable speed (no-one left behind!). Regret no\nunaccompanied children under 16.\nJUST TURN UP; or for more information\, contact Robin Weaver 741048
URL:https://bildeston.org/event/bildeston-community-cycling-6/
END:VEVENT
END:VCALENDAR