BEGIN:VCALENDAR
VERSION:2.0
PRODID:-//Bildeston Village - ECPv6.15.18//NONSGML v1.0//EN
CALSCALE:GREGORIAN
METHOD:PUBLISH
X-ORIGINAL-URL:https://bildeston.org
X-WR-CALDESC:Events for Bildeston Village
REFRESH-INTERVAL;VALUE=DURATION:PT1H
X-Robots-Tag:noindex
X-PUBLISHED-TTL:PT1H
BEGIN:VTIMEZONE
TZID:Europe/London
BEGIN:DAYLIGHT
TZOFFSETFROM:+0000
TZOFFSETTO:+0100
TZNAME:BST
DTSTART:20230326T010000
END:DAYLIGHT
BEGIN:STANDARD
TZOFFSETFROM:+0100
TZOFFSETTO:+0000
TZNAME:GMT
DTSTART:20231029T010000
END:STANDARD
BEGIN:DAYLIGHT
TZOFFSETFROM:+0000
TZOFFSETTO:+0100
TZNAME:BST
DTSTART:20240331T010000
END:DAYLIGHT
BEGIN:STANDARD
TZOFFSETFROM:+0100
TZOFFSETTO:+0000
TZNAME:GMT
DTSTART:20241027T010000
END:STANDARD
BEGIN:DAYLIGHT
TZOFFSETFROM:+0000
TZOFFSETTO:+0100
TZNAME:BST
DTSTART:20250330T010000
END:DAYLIGHT
BEGIN:STANDARD
TZOFFSETFROM:+0100
TZOFFSETTO:+0000
TZNAME:GMT
DTSTART:20251026T010000
END:STANDARD
END:VTIMEZONE
BEGIN:VEVENT
DTSTART;TZID=Europe/London:20240430T110000
DTEND;TZID=Europe/London:20240430T120000
DTSTAMP:20260420T181707
CREATED:20210816T205642Z
LAST-MODIFIED:20210816T205642Z
UID:18308-1714474800-1714478400@bildeston.org
SUMMARY:Rosie’s line dancing
DESCRIPTION:
URL:https://bildeston.org/event/rosies-line-dancing/2024-04-30/
LOCATION:Chamberlin Hall
CATEGORIES:Chamberlin Hall
END:VEVENT
BEGIN:VEVENT
DTSTART;TZID=Europe/London:20240430T130000
DTEND;TZID=Europe/London:20240430T130000
DTSTAMP:20260420T181707
CREATED:20220327T212757Z
LAST-MODIFIED:20220327T212757Z
UID:18313-1714482000-1714482000@bildeston.org
SUMMARY:Zumba Gold!
DESCRIPTION:
URL:https://bildeston.org/event/zumba-gold-3/2024-04-30/
LOCATION:Chamberlin Hall
CATEGORIES:Chamberlin Hall
ORGANIZER;CN="Jo Brown":MAILTO:joanna-m-brown@hotmail.co.uk
END:VEVENT
BEGIN:VEVENT
DTSTART;TZID=Europe/London:20240430T190000
DTEND;TZID=Europe/London:20240430T190000
DTSTAMP:20260420T181707
CREATED:20210816T211454Z
LAST-MODIFIED:20210816T211454Z
UID:18309-1714503600-1714503600@bildeston.org
SUMMARY:Snooker club
DESCRIPTION:
URL:https://bildeston.org/event/snooker-club-2/2024-04-30/
LOCATION:Chamberlin Hall
CATEGORIES:Chamberlin Hall
END:VEVENT
BEGIN:VEVENT
DTSTART;TZID=Europe/London:20240430T193000
DTEND;TZID=Europe/London:20240430T193000
DTSTAMP:20260420T181707
CREATED:20210827T153117Z
LAST-MODIFIED:20210827T153117Z
UID:18310-1714505400-1714505400@bildeston.org
SUMMARY:Bildeston Carpet Bowls Club
DESCRIPTION:New members are very welcome to join our friendly club. Please ring our Club Captain Mike on 01284 827688.
URL:https://bildeston.org/event/bildeston-carpet-bowls-club/2024-04-30/
LOCATION:Chamberlin Hall
CATEGORIES:Chamberlin Hall
END:VEVENT
BEGIN:VEVENT
DTSTART;TZID=Europe/London:20240501T123000
DTEND;TZID=Europe/London:20240501T170000
DTSTAMP:20260420T181707
CREATED:20210923T092930Z
LAST-MODIFIED:20210923T092930Z
UID:18314-1714566600-1714582800@bildeston.org
SUMMARY:Lunch Club
DESCRIPTION:Lunch club runs the first Wednesday each month – please ring 07584 189356 to reserve a place
URL:https://bildeston.org/event/lunch-club-2/2024-05-01/
LOCATION:Bildeston Baptist Church\, Duke street\, Bildeston\, IP7 7EW\, United Kingdom
CATEGORIES:Bildeston Baptist Church
ORGANIZER;CN="Bildeston Baptist Church":MAILTO:bildestonbc@gmail.com
END:VEVENT
BEGIN:VEVENT
DTSTART;TZID=Europe/London:20240501T141000
DTEND;TZID=Europe/London:20240501T160000
DTSTAMP:20260420T181707
CREATED:20220124T224416Z
LAST-MODIFIED:20220124T224416Z
UID:18316-1714572600-1714579200@bildeston.org
SUMMARY:Mobile library
DESCRIPTION:The Mobile Library is operating as normal now\, but with the following provisions: \n\nOne customer at a time\nEveryone to sanitise their hands before entering\nStaff will wear face masks and customers encouraged to do the same\nPlease be as quick as possible to allow others time to choose\nThere is a temporary limit of 4 items per person\nAll returned stock is quarantined for 72 hours\nShelves are sanitised between stops\n\nThe Bildeston stops are as follows: \n\nBrooksfield at 14.10 to 14.25\nMarket Square 14.30 to 14.45\nNewberry Road 14.50 to 15.05\nPaddock Way 15.10 to 16.00
URL:https://bildeston.org/event/mobile-library/2024-05-01/
CATEGORIES:Market Square
END:VEVENT
BEGIN:VEVENT
DTSTART;TZID=Europe/London:20240502T091500
DTEND;TZID=Europe/London:20240502T101500
DTSTAMP:20260420T181707
CREATED:20211105T141138Z
LAST-MODIFIED:20211105T141138Z
UID:18318-1714641300-1714644900@bildeston.org
SUMMARY:Exercise classes
DESCRIPTION:Call 07718593532 for details
URL:https://bildeston.org/event/exercise-classes/2024-05-02/
LOCATION:Chamberlin Hall
CATEGORIES:Chamberlin Hall
END:VEVENT
BEGIN:VEVENT
DTSTART;TZID=Europe/London:20240502T100000
DTEND;TZID=Europe/London:20240502T104500
DTSTAMP:20260420T181707
CREATED:20210827T162858Z
LAST-MODIFIED:20210827T162858Z
UID:18317-1714644000-1714646700@bildeston.org
SUMMARY:Zumba Gold!
DESCRIPTION:£4 pay as you go \n(Every 10th class free)
URL:https://bildeston.org/event/zumba-gold-2/2024-05-02/
LOCATION:Chamberlin Hall
CATEGORIES:Chamberlin Hall
ORGANIZER;CN="Jo Brown":MAILTO:joanna-m-brown@hotmail.co.uk
END:VEVENT
BEGIN:VEVENT
DTSTART;TZID=Europe/London:20240502T190000
DTEND;TZID=Europe/London:20240502T220000
DTSTAMP:20260420T181707
CREATED:20211105T141438Z
LAST-MODIFIED:20211105T141438Z
UID:18319-1714676400-1714687200@bildeston.org
SUMMARY:VIPs Drama Group
DESCRIPTION:For details on how to join\, call Debbie: 01449 740375
URL:https://bildeston.org/event/vips-drama-group/2024-05-02/
LOCATION:Chamberlin Hall
CATEGORIES:Chamberlin Hall
END:VEVENT
BEGIN:VEVENT
DTSTART;TZID=Europe/London:20240503T091500
DTEND;TZID=Europe/London:20240503T113000
DTSTAMP:20260420T181707
CREATED:20211105T110322Z
LAST-MODIFIED:20211105T110322Z
UID:18326-1714727700-1714735800@bildeston.org
SUMMARY:Community coffee centre
DESCRIPTION:Come along to the Bildeston Community Cafe and enjoy tea\, coffee\, scones\, bacon rolls or one of our delicious cup cakes! Parents and children welcome.
URL:https://bildeston.org/event/community-coffee-centre/2024-05-03/
LOCATION:Bildeston Baptist Church\, Duke street\, Bildeston\, IP7 7EW\, United Kingdom
CATEGORIES:Bildeston Baptist Church
ORGANIZER;CN="Bildeston Baptist Church":MAILTO:bildestonbc@gmail.com
END:VEVENT
BEGIN:VEVENT
DTSTART;TZID=Europe/London:20240503T104500
DTEND;TZID=Europe/London:20240503T234500
DTSTAMP:20260420T181707
CREATED:20200510T141707Z
LAST-MODIFIED:20200510T141707Z
UID:18322-1714733100-1714779900@bildeston.org
SUMMARY:Intermediate Pilates
DESCRIPTION:
URL:https://bildeston.org/event/intermediate-pilates/2024-05-03/
LOCATION:Chamberlin Hall
CATEGORIES:Chamberlin Hall
ORGANIZER;CN="Claire Jacobs":MAILTO:claire@fitframephysio.com
END:VEVENT
BEGIN:VEVENT
DTSTART;TZID=Europe/London:20240503T104500
DTEND;TZID=Europe/London:20240503T234500
DTSTAMP:20260420T181707
CREATED:20200510T141707Z
LAST-MODIFIED:20200510T141707Z
UID:18324-1714733100-1714779900@bildeston.org
SUMMARY:Intermediate Pilates
DESCRIPTION:
URL:https://bildeston.org/event/intermediate-pilates-2/2024-05-03/
LOCATION:Chamberlin Hall
CATEGORIES:Chamberlin Hall
ORGANIZER;CN="Claire Jacobs":MAILTO:claire@fitframephysio.com
END:VEVENT
BEGIN:VEVENT
DTSTART;TZID=Europe/London:20240503T110000
DTEND;TZID=Europe/London:20240503T130000
DTSTAMP:20260420T181707
CREATED:20200510T142415Z
LAST-MODIFIED:20200510T142415Z
UID:21194-1714734000-1714741200@bildeston.org
SUMMARY:Beginners Pilates
DESCRIPTION:(contact Claire: 07900 440141)
URL:https://bildeston.org/event/beginners-pilates/2024-05-03/
LOCATION:Chamberlin Hall
CATEGORIES:Chamberlin Hall
ORGANIZER;CN="Claire Jacobs":MAILTO:claire@fitframephysio.com
END:VEVENT
BEGIN:VEVENT
DTSTART;TZID=Europe/London:20240503T120000
DTEND;TZID=Europe/London:20240503T130000
DTSTAMP:20260420T181707
CREATED:20200510T142415Z
LAST-MODIFIED:20200510T142415Z
UID:18325-1714737600-1714741200@bildeston.org
SUMMARY:Beginners Pilates
DESCRIPTION:
URL:https://bildeston.org/event/beginners-pilates-cancelled-2023-05-05/2024-05-03/
LOCATION:Chamberlin Hall
CATEGORIES:Chamberlin Hall
ORGANIZER;CN="Claire Jacobs":MAILTO:claire@fitframephysio.com
END:VEVENT
BEGIN:VEVENT
DTSTART;TZID=Europe/London:20240503T190000
DTEND;TZID=Europe/London:20240503T190000
DTSTAMP:20260420T181707
CREATED:20211105T141555Z
LAST-MODIFIED:20211105T141555Z
UID:18327-1714762800-1714762800@bildeston.org
SUMMARY:Bowling social evening
DESCRIPTION:
URL:https://bildeston.org/event/bowling-social-evening/2024-05-03/
LOCATION:Chamberlin Hall
CATEGORIES:Chamberlin Hall
END:VEVENT
BEGIN:VEVENT
DTSTART;TZID=Europe/London:20240507T110000
DTEND;TZID=Europe/London:20240507T120000
DTSTAMP:20260420T181707
CREATED:20210816T205642Z
LAST-MODIFIED:20210816T205642Z
UID:18335-1715079600-1715083200@bildeston.org
SUMMARY:Rosie’s line dancing
DESCRIPTION:
URL:https://bildeston.org/event/rosies-line-dancing/2024-05-07/
LOCATION:Chamberlin Hall
CATEGORIES:Chamberlin Hall
END:VEVENT
BEGIN:VEVENT
DTSTART;TZID=Europe/London:20240507T130000
DTEND;TZID=Europe/London:20240507T130000
DTSTAMP:20260420T181707
CREATED:20220327T212757Z
LAST-MODIFIED:20220327T212757Z
UID:18340-1715086800-1715086800@bildeston.org
SUMMARY:Zumba Gold!
DESCRIPTION:
URL:https://bildeston.org/event/zumba-gold-3/2024-05-07/
LOCATION:Chamberlin Hall
CATEGORIES:Chamberlin Hall
ORGANIZER;CN="Jo Brown":MAILTO:joanna-m-brown@hotmail.co.uk
END:VEVENT
BEGIN:VEVENT
DTSTART;TZID=Europe/London:20240507T190000
DTEND;TZID=Europe/London:20240507T190000
DTSTAMP:20260420T181707
CREATED:20210816T211454Z
LAST-MODIFIED:20210816T211454Z
UID:18336-1715108400-1715108400@bildeston.org
SUMMARY:Snooker club
DESCRIPTION:
URL:https://bildeston.org/event/snooker-club-2/2024-05-07/
LOCATION:Chamberlin Hall
CATEGORIES:Chamberlin Hall
END:VEVENT
BEGIN:VEVENT
DTSTART;TZID=Europe/London:20240507T193000
DTEND;TZID=Europe/London:20240507T193000
DTSTAMP:20260420T181707
CREATED:20210827T153117Z
LAST-MODIFIED:20210827T153117Z
UID:18337-1715110200-1715110200@bildeston.org
SUMMARY:Bildeston Carpet Bowls Club
DESCRIPTION:New members are very welcome to join our friendly club. Please ring our Club Captain Mike on 01284 827688.
URL:https://bildeston.org/event/bildeston-carpet-bowls-club/2024-05-07/
LOCATION:Chamberlin Hall
CATEGORIES:Chamberlin Hall
END:VEVENT
BEGIN:VEVENT
DTSTART;TZID=Europe/London:20240509T091500
DTEND;TZID=Europe/London:20240509T101500
DTSTAMP:20260420T181707
CREATED:20211105T141138Z
LAST-MODIFIED:20211105T141138Z
UID:18343-1715246100-1715249700@bildeston.org
SUMMARY:Exercise classes
DESCRIPTION:Call 07718593532 for details
URL:https://bildeston.org/event/exercise-classes/2024-05-09/
LOCATION:Chamberlin Hall
CATEGORIES:Chamberlin Hall
END:VEVENT
BEGIN:VEVENT
DTSTART;TZID=Europe/London:20240509T100000
DTEND;TZID=Europe/London:20240509T104500
DTSTAMP:20260420T181707
CREATED:20210827T162858Z
LAST-MODIFIED:20210827T162858Z
UID:18342-1715248800-1715251500@bildeston.org
SUMMARY:Zumba Gold!
DESCRIPTION:£4 pay as you go \n(Every 10th class free)
URL:https://bildeston.org/event/zumba-gold-2/2024-05-09/
LOCATION:Chamberlin Hall
CATEGORIES:Chamberlin Hall
ORGANIZER;CN="Jo Brown":MAILTO:joanna-m-brown@hotmail.co.uk
END:VEVENT
BEGIN:VEVENT
DTSTART;TZID=Europe/London:20240509T190000
DTEND;TZID=Europe/London:20240509T220000
DTSTAMP:20260420T181707
CREATED:20211105T141438Z
LAST-MODIFIED:20211105T141438Z
UID:18344-1715281200-1715292000@bildeston.org
SUMMARY:VIPs Drama Group
DESCRIPTION:For details on how to join\, call Debbie: 01449 740375
URL:https://bildeston.org/event/vips-drama-group/2024-05-09/
LOCATION:Chamberlin Hall
CATEGORIES:Chamberlin Hall
END:VEVENT
BEGIN:VEVENT
DTSTART;TZID=Europe/London:20240510T091500
DTEND;TZID=Europe/London:20240510T113000
DTSTAMP:20260420T181707
CREATED:20211105T110322Z
LAST-MODIFIED:20211105T110322Z
UID:18351-1715332500-1715340600@bildeston.org
SUMMARY:Community coffee centre
DESCRIPTION:Come along to the Bildeston Community Cafe and enjoy tea\, coffee\, scones\, bacon rolls or one of our delicious cup cakes! Parents and children welcome.
URL:https://bildeston.org/event/community-coffee-centre/2024-05-10/
LOCATION:Bildeston Baptist Church\, Duke street\, Bildeston\, IP7 7EW\, United Kingdom
CATEGORIES:Bildeston Baptist Church
ORGANIZER;CN="Bildeston Baptist Church":MAILTO:bildestonbc@gmail.com
END:VEVENT
BEGIN:VEVENT
DTSTART;TZID=Europe/London:20240510T104500
DTEND;TZID=Europe/London:20240510T234500
DTSTAMP:20260420T181707
CREATED:20200510T141707Z
LAST-MODIFIED:20200510T141707Z
UID:18347-1715337900-1715384700@bildeston.org
SUMMARY:Intermediate Pilates
DESCRIPTION:
URL:https://bildeston.org/event/intermediate-pilates/2024-05-10/
LOCATION:Chamberlin Hall
CATEGORIES:Chamberlin Hall
ORGANIZER;CN="Claire Jacobs":MAILTO:claire@fitframephysio.com
END:VEVENT
BEGIN:VEVENT
DTSTART;TZID=Europe/London:20240510T104500
DTEND;TZID=Europe/London:20240510T234500
DTSTAMP:20260420T181707
CREATED:20200510T141707Z
LAST-MODIFIED:20200510T141707Z
UID:18349-1715337900-1715384700@bildeston.org
SUMMARY:Intermediate Pilates
DESCRIPTION:
URL:https://bildeston.org/event/intermediate-pilates-2/2024-05-10/
LOCATION:Chamberlin Hall
CATEGORIES:Chamberlin Hall
ORGANIZER;CN="Claire Jacobs":MAILTO:claire@fitframephysio.com
END:VEVENT
BEGIN:VEVENT
DTSTART;TZID=Europe/London:20240510T110000
DTEND;TZID=Europe/London:20240510T130000
DTSTAMP:20260420T181707
CREATED:20200510T142415Z
LAST-MODIFIED:20200510T142415Z
UID:21195-1715338800-1715346000@bildeston.org
SUMMARY:Beginners Pilates
DESCRIPTION:(contact Claire: 07900 440141)
URL:https://bildeston.org/event/beginners-pilates/2024-05-10/
LOCATION:Chamberlin Hall
CATEGORIES:Chamberlin Hall
ORGANIZER;CN="Claire Jacobs":MAILTO:claire@fitframephysio.com
END:VEVENT
BEGIN:VEVENT
DTSTART;TZID=Europe/London:20240510T120000
DTEND;TZID=Europe/London:20240510T130000
DTSTAMP:20260420T181707
CREATED:20200510T142415Z
LAST-MODIFIED:20200510T142415Z
UID:18350-1715342400-1715346000@bildeston.org
SUMMARY:Beginners Pilates
DESCRIPTION:
URL:https://bildeston.org/event/beginners-pilates-cancelled-2023-05-05/2024-05-10/
LOCATION:Chamberlin Hall
CATEGORIES:Chamberlin Hall
ORGANIZER;CN="Claire Jacobs":MAILTO:claire@fitframephysio.com
END:VEVENT
BEGIN:VEVENT
DTSTART;TZID=Europe/London:20240510T190000
DTEND;TZID=Europe/London:20240510T190000
DTSTAMP:20260420T181707
CREATED:20211105T141555Z
LAST-MODIFIED:20211105T141555Z
UID:18352-1715367600-1715367600@bildeston.org
SUMMARY:Bowling social evening
DESCRIPTION:
URL:https://bildeston.org/event/bowling-social-evening/2024-05-10/
LOCATION:Chamberlin Hall
CATEGORIES:Chamberlin Hall
END:VEVENT
BEGIN:VEVENT
DTSTART;TZID=Europe/London:20240513T190000
DTEND;TZID=Europe/London:20240513T190000
DTSTAMP:20260420T181707
CREATED:20240409T190905Z
LAST-MODIFIED:20240626T164231Z
UID:28319-1715626800-1715626800@bildeston.org
SUMMARY:Parish Council Meeting
DESCRIPTION:This meeting will be held at Sports Field Pavilion\, Consent Lane. Members of the public are welcome to attend; please see the agenda for more details.
URL:https://bildeston.org/event/parish-council-meeting-35/
LOCATION:Pavilion
CATEGORIES:Parish Council Meetings
END:VEVENT
BEGIN:VEVENT
DTSTART;TZID=Europe/London:20240513T190000
DTEND;TZID=Europe/London:20240513T190000
DTSTAMP:20260420T181707
CREATED:20240513T151418Z
LAST-MODIFIED:20240710T140745Z
UID:29295-1715626800-1715626800@bildeston.org
SUMMARY:Annual Meeting of the Parish Council
DESCRIPTION:This meeting will be held at Sports Field Pavilion\, Consent Lane. Members of the public are welcome to attend; please see the agenda for more details.
URL:https://bildeston.org/event/annual-meeting-of-the-parish-council-2/
LOCATION:Sports Field Pavilion
CATEGORIES:Parish Council Meetings
END:VEVENT
END:VCALENDAR