BEGIN:VCALENDAR
VERSION:2.0
PRODID:-//Bildeston Village - ECPv6.15.18//NONSGML v1.0//EN
CALSCALE:GREGORIAN
METHOD:PUBLISH
X-WR-CALNAME:Bildeston Village
X-ORIGINAL-URL:https://bildeston.org
X-WR-CALDESC:Events for Bildeston Village
REFRESH-INTERVAL;VALUE=DURATION:PT1H
X-Robots-Tag:noindex
X-PUBLISHED-TTL:PT1H
BEGIN:VTIMEZONE
TZID:Europe/London
BEGIN:DAYLIGHT
TZOFFSETFROM:+0000
TZOFFSETTO:+0100
TZNAME:BST
DTSTART:20210328T010000
END:DAYLIGHT
BEGIN:STANDARD
TZOFFSETFROM:+0100
TZOFFSETTO:+0000
TZNAME:GMT
DTSTART:20211031T010000
END:STANDARD
BEGIN:DAYLIGHT
TZOFFSETFROM:+0000
TZOFFSETTO:+0100
TZNAME:BST
DTSTART:20220327T010000
END:DAYLIGHT
BEGIN:STANDARD
TZOFFSETFROM:+0100
TZOFFSETTO:+0000
TZNAME:GMT
DTSTART:20221030T010000
END:STANDARD
BEGIN:DAYLIGHT
TZOFFSETFROM:+0000
TZOFFSETTO:+0100
TZNAME:BST
DTSTART:20230326T010000
END:DAYLIGHT
BEGIN:STANDARD
TZOFFSETFROM:+0100
TZOFFSETTO:+0000
TZNAME:GMT
DTSTART:20231029T010000
END:STANDARD
END:VTIMEZONE
BEGIN:VEVENT
DTSTART;TZID=Europe/London:20220213T150000
DTEND;TZID=Europe/London:20220213T150000
DTSTAMP:20260421T062318
CREATED:20220124T221835Z
LAST-MODIFIED:20220124T221835Z
UID:16409-1644764400-1644764400@bildeston.org
SUMMARY:The Six Nations 2022 Rugby
DESCRIPTION:Live game: Italy v England \nBar open!
URL:https://bildeston.org/event/the-six-nations-2022-rugby-2/
LOCATION:Chamberlin Hall
CATEGORIES:Chamberlin Hall
ORGANIZER;CN="Chamberlin Hall Management Committee":MAILTO:chamberlin.bookings@gmail.com
END:VEVENT
BEGIN:VEVENT
DTSTART;TZID=Europe/London:20220214T190000
DTEND;TZID=Europe/London:20220214T193000
DTSTAMP:20260421T062318
CREATED:20210624T084333Z
LAST-MODIFIED:20210624T084510Z
UID:13558-1644865200-1644867000@bildeston.org
SUMMARY:Parish Council meeting
DESCRIPTION:
URL:https://bildeston.org/event/parish-council-meeting-11/
LOCATION:Bildeston Baptist Church\, Duke street\, Bildeston\, IP7 7EW\, United Kingdom
CATEGORIES:Bildeston Baptist Church,Parish Council Meetings
END:VEVENT
BEGIN:VEVENT
DTSTART;TZID=Europe/London:20220219T093000
DTEND;TZID=Europe/London:20220219T093000
DTSTAMP:20260421T062318
CREATED:20220124T211602Z
LAST-MODIFIED:20220124T211602Z
UID:16372-1645263000-1645263000@bildeston.org
SUMMARY:Bildeston Community Cycling
DESCRIPTION:
URL:https://bildeston.org/event/bildeston-community-cycling-2/
LOCATION:Bildeston Market Square\, Market place\, Bildeston\, IP7 7EN
CATEGORIES:Market Square
END:VEVENT
BEGIN:VEVENT
DTSTART;TZID=Europe/London:20220220T110000
DTEND;TZID=Europe/London:20220220T110000
DTSTAMP:20260421T062318
CREATED:20220124T210919Z
LAST-MODIFIED:20220124T210919Z
UID:16369-1645354800-1645354800@bildeston.org
SUMMARY:Morning prayer
DESCRIPTION:
URL:https://bildeston.org/event/morning-prayer-2/
LOCATION:St Mary Magdalene Church\, Church Lane\, Bildeston\, United Kingdom
CATEGORIES:St Mary Magdalene
END:VEVENT
BEGIN:VEVENT
DTSTART;TZID=Europe/London:20220226T164500
DTEND;TZID=Europe/London:20220226T164500
DTSTAMP:20260421T062318
CREATED:20220124T221945Z
LAST-MODIFIED:20220124T221945Z
UID:16412-1645893900-1645893900@bildeston.org
SUMMARY:The Six Nations 2022 Rugby
DESCRIPTION:Live game: England v Wales \nBar open!
URL:https://bildeston.org/event/the-six-nations-2022-rugby-3/
LOCATION:Chamberlin Hall
CATEGORIES:Chamberlin Hall
ORGANIZER;CN="Chamberlin Hall Management Committee":MAILTO:chamberlin.bookings@gmail.com
END:VEVENT
BEGIN:VEVENT
DTSTART;VALUE=DATE:20220301
DTEND;VALUE=DATE:20220401
DTSTAMP:20260421T062318
CREATED:20220124T220828Z
LAST-MODIFIED:20220124T220828Z
UID:16403-1646092800-1648771199@bildeston.org
SUMMARY:Bildeston tree planting
DESCRIPTION:The parish council has secured 135 saplings for planting from the Woodland Trust. \nPlease join us to plant a small copse near the sports field and plant native hedges around the sports field main car park. If you are interested in helping with the planting\, we will be looking for\nvolunteers who would be available in early March. \nFor more information contact me at councillor.lester@bildeston.suffolk.gov.uk
URL:https://bildeston.org/event/bildeston-tree-planting/
LOCATION:King’s Pightle Nature Reserve\, consent lane\, Bildeston\, United Kingdom
CATEGORIES:King's Pightle,Sports Pavilion
END:VEVENT
BEGIN:VEVENT
DTSTART;TZID=Europe/London:20220305T210000
DTEND;TZID=Europe/London:20220305T210000
DTSTAMP:20260421T062318
CREATED:20220124T220519Z
LAST-MODIFIED:20220124T220519Z
UID:16400-1646514000-1646514000@bildeston.org
SUMMARY:The Kicks
DESCRIPTION:Call 07507511318 for tickets. Doors open 8pm
URL:https://bildeston.org/event/the-kicks/
LOCATION:Chamberlin Hall
CATEGORIES:Chamberlin Hall
ORGANIZER;CN="Chamberlin Hall Management Committee":MAILTO:chamberlin.bookings@gmail.com
END:VEVENT
BEGIN:VEVENT
DTSTART;TZID=Europe/London:20220312T164500
DTEND;TZID=Europe/London:20220312T164500
DTSTAMP:20260421T062318
CREATED:20220124T222056Z
LAST-MODIFIED:20220124T222056Z
UID:16415-1647103500-1647103500@bildeston.org
SUMMARY:The Six Nations 2022 Rugby
DESCRIPTION:Live game: England v Ireland \nBar open!
URL:https://bildeston.org/event/the-six-nations-2022-rugby-4/
LOCATION:Chamberlin Hall
CATEGORIES:Chamberlin Hall
ORGANIZER;CN="Chamberlin Hall Management Committee":MAILTO:chamberlin.bookings@gmail.com
END:VEVENT
BEGIN:VEVENT
DTSTART;TZID=Europe/London:20220313T100000
DTEND;TZID=Europe/London:20220313T100000
DTSTAMP:20260421T062318
CREATED:20220302T231318Z
LAST-MODIFIED:20220302T231318Z
UID:17366-1647165600-1647165600@bildeston.org
SUMMARY:Sports Pavilion Social Sunday planning meeting
DESCRIPTION:Social Sundays will be an opportunity for all members of the village from all age groups to join together with\nneighbours and friends to take some exercise around the field and beyond or just enjoy the view from the warmth of the pavilion\, chatting whilst indulging in a bacon roll\, (veggie options too) hot chocolate\, tea\, coffee\, cakes and more. \nMake it a date in your diary for the first one. Join us on Sunday 3rd April 10.00am – 12.00 noon.\nWe will be having a meeting on Sunday 13th March at the pavilion at 10.00am to plan these events. If you would like to get involved in this or you have any other ideas of how we can increase the use of our facilities\, please join us\, we would love to see you and hear your ideas.
URL:https://bildeston.org/event/sports-pavilion-social-sunday-planning-meeting/
LOCATION:Bildeston Sports Pavilion\, Consent Lane\, Bildeston\, United Kingdom
CATEGORIES:Sports Pavilion
END:VEVENT
BEGIN:VEVENT
DTSTART;TZID=Europe/London:20220314T190000
DTEND;TZID=Europe/London:20220314T190000
DTSTAMP:20260421T062318
CREATED:20210624T084403Z
LAST-MODIFIED:20210624T084502Z
UID:13560-1647284400-1647284400@bildeston.org
SUMMARY:Parish Council meeting
DESCRIPTION:
URL:https://bildeston.org/event/parish-council-meeting-12/
LOCATION:Bildeston Baptist Church\, Duke street\, Bildeston\, IP7 7EW\, United Kingdom
CATEGORIES:Bildeston Baptist Church,Parish Council Meetings
END:VEVENT
BEGIN:VEVENT
DTSTART;TZID=Europe/London:20220319T093000
DTEND;TZID=Europe/London:20220319T123000
DTSTAMP:20260421T062318
CREATED:20220302T231000Z
LAST-MODIFIED:20220302T231000Z
UID:17363-1647682200-1647693000@bildeston.org
SUMMARY:Cycling winter warmer
DESCRIPTION:BILDESTON COMMUNITY CYCLING\nWhy not join our monthly Saturday morning Winter Warmer series?\nThese rides are for riders of all abilities.\nWINTER WARMER 6\nJOIN US FOR A RIDE OF ABOUT 25 MILES\,\nSTARTING FROM THE MARKET PLACE\nAT 9.30am\, ON SATURDAY 19 MARCH.\nCAFE STOP HALFWAY. BACK ABOUT 12.30pm. \nPUT IT IN THE DIARY NOW!\nWarm clothing recommended. The ride will be mainly on quiet lanes\,\nat an acceptable speed (no-one left behind!).
URL:https://bildeston.org/event/cycling-winter-warmer/
LOCATION:Bildeston Market Square\, Market place\, Bildeston\, IP7 7EN
CATEGORIES:Market Square
END:VEVENT
BEGIN:VEVENT
DTSTART;TZID=Europe/London:20220319T200000
DTEND;TZID=Europe/London:20220319T200000
DTSTAMP:20260421T062318
CREATED:20220124T222230Z
LAST-MODIFIED:20220124T222230Z
UID:16418-1647720000-1647720000@bildeston.org
SUMMARY:The Six Nations 2022 Rugby
DESCRIPTION:Live game: France v England \nBar open!
URL:https://bildeston.org/event/the-six-nations-2022-rugby-5/
LOCATION:Chamberlin Hall
CATEGORIES:Chamberlin Hall
ORGANIZER;CN="Chamberlin Hall Management Committee":MAILTO:chamberlin.bookings@gmail.com
END:VEVENT
BEGIN:VEVENT
DTSTART;TZID=Europe/London:20220325T183000
DTEND;TZID=Europe/London:20220325T183000
DTSTAMP:20260421T062318
CREATED:20220302T230342Z
LAST-MODIFIED:20220302T230342Z
UID:17357-1648233000-1648233000@bildeston.org
SUMMARY:Bildeston Bowls Club meeting
DESCRIPTION:Bildeston Bowls Club is preparing for the opening of the 2022 summer season and will have its pre-season meeting on Friday 25th March 6.30pm at Chamberlin Hall. Anyone interested in joining this friendly club\, or want to find out more about bowling and the village club\, is very welcome\, just come along.
URL:https://bildeston.org/event/bildeston-bowls-club-meeting-2/
LOCATION:Chamberlin Hall
CATEGORIES:Chamberlin Hall
ORGANIZER;CN="Chamberlin Hall Management Committee":MAILTO:chamberlin.bookings@gmail.com
END:VEVENT
BEGIN:VEVENT
DTSTART;TZID=Europe/London:20220325T183000
DTEND;TZID=Europe/London:20220325T183000
DTSTAMP:20260421T062318
CREATED:20220124T225839Z
LAST-MODIFIED:20220124T225839Z
UID:16779-1648233000-1648233000@bildeston.org
SUMMARY:Bildeston Bowls Club meeting
DESCRIPTION:Bildeston Bowls Club is preparing for the opening of the 2022 summer season and will have its pre-season meeting on Friday 25th March at 6.30pm at Chamberlin Hall. \nAnyone interested in joining this friendly club or want to find out more about bowling and the village club is very welcome\, just come along.
URL:https://bildeston.org/event/bildeston-bowls-club-meeting/
LOCATION:Chamberlin Hall
CATEGORIES:Chamberlin Hall
ORGANIZER;CN="Chamberlin Hall Management Committee":MAILTO:chamberlin.bookings@gmail.com
END:VEVENT
BEGIN:VEVENT
DTSTART;TZID=Europe/London:20220326T100000
DTEND;TZID=Europe/London:20220326T100000
DTSTAMP:20260421T062318
CREATED:20220124T220210Z
LAST-MODIFIED:20220124T220210Z
UID:16397-1648288800-1648288800@bildeston.org
SUMMARY:Annual litter pick
DESCRIPTION:We are trying to be well organised\, so here is the first plea for help with our annual village spring clean.\nAs in recent years\, we are trying to get out there before the weeds and nettles grow too tall and hamper our efforts. \nWe will be conducting the Litter Pick from 10:00 a.m. on Saturday March 26th. \nAs usual you can pre-book a particular area of the village that you would like to work on or just join in where needed. Full details will follow in the March Bugle – so keep an eye out for them\, or give one of us a ring. (Book early to avoid disappointment!) \n 
URL:https://bildeston.org/event/annual-litter-pick/
LOCATION:Bildeston Market Square\, Market place\, Bildeston\, IP7 7EN
CATEGORIES:Market Square
END:VEVENT
BEGIN:VEVENT
DTSTART;TZID=Europe/London:20220326T190000
DTEND;TZID=Europe/London:20220326T190000
DTSTAMP:20260421T062318
CREATED:20220302T222134Z
LAST-MODIFIED:20220302T223208Z
UID:17063-1648321200-1648321200@bildeston.org
SUMMARY:Quiz night
DESCRIPTION:£10 a table up to 6 players per table. Doors open 7pm. Winning team picks charity to donate to!
URL:https://bildeston.org/event/quiz-night/
LOCATION:Chamberlin Hall
CATEGORIES:Chamberlin Hall
ORGANIZER;CN="Chamberlin Hall Management Committee":MAILTO:chamberlin.bookings@gmail.com
END:VEVENT
BEGIN:VEVENT
DTSTART;TZID=Europe/London:20220329T130000
DTEND;TZID=Europe/London:20220329T130000
DTSTAMP:20260421T062318
CREATED:20220327T212757Z
LAST-MODIFIED:20220327T212757Z
UID:17833-1648558800-1648558800@bildeston.org
SUMMARY:Zumba Gold!
DESCRIPTION:
URL:https://bildeston.org/event/zumba-gold-3/2022-03-29/
LOCATION:Chamberlin Hall
CATEGORIES:Chamberlin Hall
ORGANIZER;CN="Jo Brown":MAILTO:joanna-m-brown@hotmail.co.uk
END:VEVENT
BEGIN:VEVENT
DTSTART;TZID=Europe/London:20220405T190000
DTEND;TZID=Europe/London:20220405T190000
DTSTAMP:20260421T062318
CREATED:20220327T205640Z
LAST-MODIFIED:20220327T205640Z
UID:17695-1649185200-1649185200@bildeston.org
SUMMARY:BNatural AGM
DESCRIPTION:BNatural needs you! \nAll welcome to attend – there will be an opportunity to give feedback to the committee. \nWe would also welcome new members\, volunteers\, or any interested parties. \nThe BNatural bar will be open! \nwww.bnatural.bildeston.org
URL:https://bildeston.org/event/bnatural-agm/
LOCATION:Bildeston Sports Pavilion\, Consent Lane\, Bildeston\, United Kingdom
CATEGORIES:Sports Pavilion
END:VEVENT
BEGIN:VEVENT
DTSTART;TZID=Europe/London:20220409T100000
DTEND;TZID=Europe/London:20220409T100000
DTSTAMP:20260421T062318
CREATED:20220327T213644Z
LAST-MODIFIED:20220327T213644Z
UID:18030-1649498400-1649498400@bildeston.org
SUMMARY:Indoor market
DESCRIPTION:
URL:https://bildeston.org/event/indoor-market-2/
LOCATION:Chamberlin Hall
CATEGORIES:Chamberlin Hall
ORGANIZER;CN="Chamberlin Hall Management Committee":MAILTO:chamberlin.bookings@gmail.com
END:VEVENT
BEGIN:VEVENT
DTSTART;TZID=Europe/London:20220409T190000
DTEND;TZID=Europe/London:20220409T190000
DTSTAMP:20260421T062318
CREATED:20220327T213601Z
LAST-MODIFIED:20220327T213601Z
UID:18022-1649530800-1649530800@bildeston.org
SUMMARY:Bingo!
DESCRIPTION:
URL:https://bildeston.org/event/bingo-3/
LOCATION:Chamberlin Hall
CATEGORIES:Chamberlin Hall
ORGANIZER;CN="Chamberlin Hall Management Committee":MAILTO:chamberlin.bookings@gmail.com
END:VEVENT
BEGIN:VEVENT
DTSTART;TZID=Europe/London:20220411T170000
DTEND;TZID=Europe/London:20220411T210000
DTSTAMP:20260421T062318
CREATED:20220329T061022Z
LAST-MODIFIED:20220329T061022Z
UID:18046-1649696400-1649710800@bildeston.org
SUMMARY:Family disco
DESCRIPTION:50p entry \nBar open\, Tuck shop\, Hot food!
URL:https://bildeston.org/event/family-disco/
LOCATION:Chamberlin Hall
CATEGORIES:Chamberlin Hall
ORGANIZER;CN="Chamberlin Hall Management Committee":MAILTO:chamberlin.bookings@gmail.com
END:VEVENT
BEGIN:VEVENT
DTSTART;TZID=Europe/London:20220411T190000
DTEND;TZID=Europe/London:20220411T190000
DTSTAMP:20260421T062318
CREATED:20220406T160200Z
LAST-MODIFIED:20220408T101415Z
UID:18167-1649703600-1649703600@bildeston.org
SUMMARY:Parish Council meeting
DESCRIPTION:This meeting will be held at Sports Field Pavilion\, Consent Lane . Members of the public are welcome to attend; please see the agenda for more details.
URL:https://bildeston.org/event/parish-council-meeting-16/
LOCATION:Bildeston Sports Pavilion\, Consent Lane\, Bildeston\, United Kingdom
CATEGORIES:Parish Council Meetings
END:VEVENT
BEGIN:VEVENT
DTSTART;VALUE=DATE:20220417
DTEND;VALUE=DATE:20220418
DTSTAMP:20260421T062318
CREATED:20220327T210351Z
LAST-MODIFIED:20220327T210351Z
UID:17701-1650153600-1650239999@bildeston.org
SUMMARY:Easter flower day
DESCRIPTION:Easter flowers at St Mary Magdalene Church \nEvery year we buy lilies and other special flowers to decorate the Church for Easter Day\, this year on Sunday 17th April. \nBecause of the high price of flowers at Easter we have a special Resurrection Book where people might like to name those they have loved and lost as they donate towards the Easter flowers. We open this book on Easter Day as we celebrate the resurrection at our service and leave it by the font for you to see. If you would like the name of someone you wish to be remembered in this way to be written in the book\, please print their names on the list in the Church anytime before Wed 13th April and place donations for flowers in one of the envelopes provided on the table next to the list at the back of the church. \nPlace envelope in donations ‘hole in the wall’ next to the bell\ntower or deliver to: Angela Rodgers at 36 High Street. Thank you.
URL:https://bildeston.org/event/easter-flower-day/
LOCATION:St Mary Magdalene Church\, Church Lane\, Bildeston\, United Kingdom
CATEGORIES:St Mary Magdalene
END:VEVENT
BEGIN:VEVENT
DTSTART;TZID=Europe/London:20220423T100000
DTEND;TZID=Europe/London:20220423T120000
DTSTAMP:20260421T062318
CREATED:20220327T210613Z
LAST-MODIFIED:20220327T210613Z
UID:17704-1650708000-1650715200@bildeston.org
SUMMARY:Village coffee morning
DESCRIPTION:Raffle Cakes & produce  Books\, jigsaws & DVDs Refreshments – tea\, coffee\, cakes\, scones etc \nCome and have a cuppa to celebrate St George’s Day
URL:https://bildeston.org/event/village-coffee-morning/
LOCATION:Chamberlin Hall
CATEGORIES:Chamberlin Hall
ORGANIZER;CN="Bildeston Ladies Club Chairlady":MAILTO:thelaurels18@gmail.com
END:VEVENT
BEGIN:VEVENT
DTSTART;TZID=Europe/London:20220425T190000
DTEND;TZID=Europe/London:20220425T190000
DTSTAMP:20260421T062318
CREATED:20220406T160312Z
LAST-MODIFIED:20220408T101241Z
UID:18171-1650913200-1650913200@bildeston.org
SUMMARY:Annual Parish Meeting
DESCRIPTION:We are approaching the time of year for the Annual Parish Meeting. It is an opportunity for Village Organisations\, Clubs and Associations to report on the year past and plans for 2022. \nWhilst the Parish Council are aware most groups submit regular reports to the Bugle\, this is to invite your organisation/ club to join with other clubs in Bildeston. \nAll residents of Bildeston are welcome to attend.
URL:https://bildeston.org/event/annual-parish-meeting/
LOCATION:Bildeston Sports Pavilion\, Consent Lane\, Bildeston\, United Kingdom
CATEGORIES:Parish Council Meetings
END:VEVENT
BEGIN:VEVENT
DTSTART;TZID=Europe/London:20220426T184500
DTEND;TZID=Europe/London:20220426T184500
DTSTAMP:20260421T062318
CREATED:20220327T211117Z
LAST-MODIFIED:20220327T211117Z
UID:17711-1650998700-1650998700@bildeston.org
SUMMARY:Community cycling evening ride
DESCRIPTION:We mainly ride on quiet lanes. Speed and distance will vary to suit the riders who turn up (two groups if necessary)\, no one is ever left behind\, and walking on hills is ok. Lycra not necessary; electric bikes\nwelcomed. Please bring a drink and weather-appropriate clothing.
URL:https://bildeston.org/event/community-cycling-evening-ride/
LOCATION:Bildeston Market Square\, Market place\, Bildeston\, IP7 7EN
CATEGORIES:Market Square
END:VEVENT
BEGIN:VEVENT
DTSTART;TZID=Europe/London:20220509T154500
DTEND;TZID=Europe/London:20220509T190000
DTSTAMP:20260421T062318
CREATED:20200510T143053Z
LAST-MODIFIED:20200516T110514Z
UID:2139-1652111100-1652122800@bildeston.org
SUMMARY:15:45 Miss Lesley's School of Performing Arts (MLSPA) Cancelled
DESCRIPTION:
URL:https://bildeston.org/event/miss-lesleys-school-of-performing-arts-mlspa-2022-05-09/
LOCATION:Chamberlin Hall
CATEGORIES:Chamberlin Hall
ATTACH;FMTTYPE=image/jpeg:https://bildeston.org/wp-content/uploads/2020/05/MLSPAPoster.jpg
ORGANIZER;CN="Lesley Woods":MAILTO:lesley@misslesleysperformingarts.co.uk
END:VEVENT
BEGIN:VEVENT
DTSTART;TZID=Europe/London:20220509T190000
DTEND;TZID=Europe/London:20220509T190000
DTSTAMP:20260421T062318
CREATED:20220406T160239Z
LAST-MODIFIED:20220408T101732Z
UID:18169-1652122800-1652122800@bildeston.org
SUMMARY:Annual Meeting of the Parish Council
DESCRIPTION:This meeting will be held at Sports Field Pavilion\, Consent Lane . Members of the public are welcome to attend; please see the agenda for more details.
URL:https://bildeston.org/event/annual-meeting-of-the-parish-council/
LOCATION:Bildeston Sports Pavilion\, Consent Lane\, Bildeston\, United Kingdom
CATEGORIES:Parish Council Meetings
END:VEVENT
BEGIN:VEVENT
DTSTART;TZID=Europe/London:20220512T100000
DTEND;TZID=Europe/London:20220512T130000
DTSTAMP:20260421T062318
CREATED:20220327T210918Z
LAST-MODIFIED:20220327T210918Z
UID:17707-1652349600-1652360400@bildeston.org
SUMMARY:Fundraising plant sale and coffee morning
DESCRIPTION:FUND RAISING PLANT SALE AND COFFEE MORNING \nAll very welcome\nDonations of Potted Plants would be much appreciated.
URL:https://bildeston.org/event/fundraising-plant-sale-and-coffee-morning/
LOCATION:Carlisle House\, 13 Chapel St
CATEGORIES:St Mary Magdalene
END:VEVENT
BEGIN:VEVENT
DTSTART;TZID=Europe/London:20220514T190000
DTEND;TZID=Europe/London:20220514T190000
DTSTAMP:20260421T062318
CREATED:20220327T212219Z
LAST-MODIFIED:20220327T212219Z
UID:17829-1652554800-1652554800@bildeston.org
SUMMARY:BNatural Quiz night
DESCRIPTION:Tickets £5 a head. All proceeds to this year’s festival. \nBring a team\, enjoy the BNatural bar and Raffle – make a night of it!\nTICKET HOTLINE IS:\n07799 858676 (DAMON)
URL:https://bildeston.org/event/bnatural-quiz-night/
LOCATION:Bildeston Sports Pavilion\, Consent Lane\, Bildeston\, United Kingdom
CATEGORIES:BNatural Events,Sports Pavilion
END:VEVENT
END:VCALENDAR