BEGIN:VCALENDAR
VERSION:2.0
PRODID:-//Bildeston Village - ECPv6.15.18//NONSGML v1.0//EN
CALSCALE:GREGORIAN
METHOD:PUBLISH
X-WR-CALNAME:Bildeston Village
X-ORIGINAL-URL:https://bildeston.org
X-WR-CALDESC:Events for Bildeston Village
REFRESH-INTERVAL;VALUE=DURATION:PT1H
X-Robots-Tag:noindex
X-PUBLISHED-TTL:PT1H
BEGIN:VTIMEZONE
TZID:Europe/London
BEGIN:DAYLIGHT
TZOFFSETFROM:+0000
TZOFFSETTO:+0100
TZNAME:BST
DTSTART:20200329T010000
END:DAYLIGHT
BEGIN:STANDARD
TZOFFSETFROM:+0100
TZOFFSETTO:+0000
TZNAME:GMT
DTSTART:20201025T010000
END:STANDARD
BEGIN:DAYLIGHT
TZOFFSETFROM:+0000
TZOFFSETTO:+0100
TZNAME:BST
DTSTART:20210328T010000
END:DAYLIGHT
BEGIN:STANDARD
TZOFFSETFROM:+0100
TZOFFSETTO:+0000
TZNAME:GMT
DTSTART:20211031T010000
END:STANDARD
BEGIN:DAYLIGHT
TZOFFSETFROM:+0000
TZOFFSETTO:+0100
TZNAME:BST
DTSTART:20220327T010000
END:DAYLIGHT
BEGIN:STANDARD
TZOFFSETFROM:+0100
TZOFFSETTO:+0000
TZNAME:GMT
DTSTART:20221030T010000
END:STANDARD
END:VTIMEZONE
BEGIN:VEVENT
DTSTART;TZID=Europe/London:20210902T073000
DTEND;TZID=Europe/London:20210902T170000
DTSTAMP:20260422T202133
CREATED:20210827T155610Z
LAST-MODIFIED:20210827T160014Z
UID:14706-1630567800-1630602000@bildeston.org
SUMMARY:Ladies Club
DESCRIPTION:Doors open for 8pm start. \n 
URL:https://bildeston.org/event/ladies-club/2021-09-02/
LOCATION:Chamberlin Hall
CATEGORIES:Chamberlin Hall
END:VEVENT
BEGIN:VEVENT
DTSTART;TZID=Europe/London:20210902T100000
DTEND;TZID=Europe/London:20210902T104500
DTSTAMP:20260422T202133
CREATED:20210827T162858Z
LAST-MODIFIED:20210827T162924Z
UID:14750-1630576800-1630579500@bildeston.org
SUMMARY:Zumba Gold!
DESCRIPTION:£4 pay as you go \n(Every 10th class free)
URL:https://bildeston.org/event/zumba-gold-2/2021-09-02/
LOCATION:Chamberlin Hall
CATEGORIES:Chamberlin Hall
ORGANIZER;CN="Jo Brown":MAILTO:joanna-m-brown@hotmail.co.uk
END:VEVENT
BEGIN:VEVENT
DTSTART;TZID=Europe/London:20210904T120000
DTEND;TZID=Europe/London:20210905T170000
DTSTAMP:20260422T202133
CREATED:20210509T211918Z
LAST-MODIFIED:20210901T203252Z
UID:13068-1630756800-1630861200@bildeston.org
SUMMARY:BNatural Weekend Music Festival
DESCRIPTION:The main event! The long awaited Year 10!
URL:https://bildeston.org/event/bnatural/
LOCATION:Bildeston Market Square\, Market place\, Bildeston\, IP7 7EN
CATEGORIES:BNatural Events,Market Square
END:VEVENT
BEGIN:VEVENT
DTSTART;TZID=Europe/London:20210913T190000
DTEND;TZID=Europe/London:20210913T190000
DTSTAMP:20260422T202133
CREATED:20210624T083952Z
LAST-MODIFIED:20210624T084532Z
UID:13544-1631559600-1631559600@bildeston.org
SUMMARY:Parish Council meeting
DESCRIPTION:
URL:https://bildeston.org/event/parish-council-meeting-6/
LOCATION:Bildeston Sports Pavilion\, Consent Lane\, Bildeston\, United Kingdom
CATEGORIES:Parish Council Meetings,Sports Pavilion
END:VEVENT
BEGIN:VEVENT
DTSTART;TZID=Europe/London:20210924T093000
DTEND;TZID=Europe/London:20210924T113000
DTSTAMP:20260422T202133
CREATED:20210917T105346Z
LAST-MODIFIED:20210917T105346Z
UID:15012-1632475800-1632483000@bildeston.org
SUMMARY:Community cafe
DESCRIPTION:Come along to the Bildeston Community Cafe and enjoy tea\, coffee\, scones\, bacon rolls or one of our delicious cup cakes! Parents and children welcome.
URL:https://bildeston.org/event/community-cafe-3/2021-09-24/
LOCATION:Bildeston Baptist Church\, Duke street\, Bildeston\, IP7 7EW\, United Kingdom
CATEGORIES:Bildeston Baptist Church
ORGANIZER;CN="Bildeston Baptist Church":MAILTO:bildestonbc@gmail.com
END:VEVENT
BEGIN:VEVENT
DTSTART;TZID=Europe/London:20210924T183000
DTEND;TZID=Europe/London:20210924T183000
DTSTAMP:20260422T202133
CREATED:20210827T160836Z
LAST-MODIFIED:20210827T161155Z
UID:14722-1632508200-1632508200@bildeston.org
SUMMARY:Quiz night supper
DESCRIPTION:Fun Social Evening with Quiz\, Supper and Raffle! \nEntry: £10 per head to include Chilli Supper \nDonations for Glass Wine/Beer/Soft Drinks \n 
URL:https://bildeston.org/event/quiz-night-supper/
LOCATION:St Mary Magdalene Church\, Church Lane\, Bildeston\, United Kingdom
CATEGORIES:St Mary Magdalene
ORGANIZER;CN="Martin Rodgers":MAILTO:mam.rodgers@btinternet.com
END:VEVENT
BEGIN:VEVENT
DTSTART;TZID=Europe/London:20211003T110000
DTEND;TZID=Europe/London:20211003T170000
DTSTAMP:20260422T202133
CREATED:20210923T092159Z
LAST-MODIFIED:20210923T092159Z
UID:15061-1633258800-1633280400@bildeston.org
SUMMARY:Holy Communion: Harvest & Baptism
DESCRIPTION:
URL:https://bildeston.org/event/holy-communion-harvest-baptism/
LOCATION:St Mary Magdalene Church\, Church Lane\, Bildeston\, United Kingdom
CATEGORIES:St Mary Magdalene
END:VEVENT
BEGIN:VEVENT
DTSTART;TZID=Europe/London:20211006T123000
DTEND;TZID=Europe/London:20211006T170000
DTSTAMP:20260422T202133
CREATED:20210923T092930Z
LAST-MODIFIED:20210923T093337Z
UID:15075-1633523400-1633539600@bildeston.org
SUMMARY:Lunch Club
DESCRIPTION:Lunch club runs the first Wednesday each month – please ring 07584 189356 to reserve a place
URL:https://bildeston.org/event/lunch-club-2/2021-10-06/
LOCATION:Bildeston Baptist Church\, Duke street\, Bildeston\, IP7 7EW\, United Kingdom
CATEGORIES:Bildeston Baptist Church
ORGANIZER;CN="Bildeston Baptist Church":MAILTO:bildestonbc@gmail.com
END:VEVENT
BEGIN:VEVENT
DTSTART;TZID=Europe/London:20211008T110000
DTEND;TZID=Europe/London:20211008T130000
DTSTAMP:20260422T202133
CREATED:20200510T142415Z
LAST-MODIFIED:20220927T121703Z
UID:1773-1633690800-1633698000@bildeston.org
SUMMARY:Beginners Pilates
DESCRIPTION:(contact Claire: 07900 440141)
URL:https://bildeston.org/event/beginners-pilates/2021-10-08/
LOCATION:Chamberlin Hall
CATEGORIES:Chamberlin Hall
ORGANIZER;CN="Claire Jacobs":MAILTO:claire@fitframephysio.com
END:VEVENT
BEGIN:VEVENT
DTSTART;TZID=Europe/London:20211011T190000
DTEND;TZID=Europe/London:20211011T190000
DTSTAMP:20260422T202133
CREATED:20210624T084038Z
LAST-MODIFIED:20210624T084537Z
UID:13547-1633978800-1633978800@bildeston.org
SUMMARY:Parish Council meeting
DESCRIPTION:
URL:https://bildeston.org/event/parish-council-meeting-7/
LOCATION:Bildeston Baptist Church\, Duke street\, Bildeston\, IP7 7EW\, United Kingdom
CATEGORIES:Bildeston Baptist Church,Parish Council Meetings
END:VEVENT
BEGIN:VEVENT
DTSTART;TZID=Europe/London:20211016T093000
DTEND;TZID=Europe/London:20211016T123000
DTSTAMP:20260422T202133
CREATED:20210923T103232Z
LAST-MODIFIED:20210923T103232Z
UID:15220-1634376600-1634387400@bildeston.org
SUMMARY:Bildeston community cycling: Winter warmer 1
DESCRIPTION:Why not join our monthly Saturday morning Winter Warmer series? \nThese rides are for riders of all abilities. \nWINTER WARMER 1 \nJOIN US FOR A RIDE OF ABOUT 25 MILES\, STARTING FROM THE MARKET PLACE AT 9.30am\, ON SATURDAY 16 OCTOBER.\nCAFE STOP HALFWAY. BACK ABOUT 12.30pm. \nPUT IT IN THE DIARY NOW!\nWarm clothing recommended. The ride will be mainly on quiet lanes\, at an acceptable speed (no-one left behind!). Regret no unaccompanied children under 16. \nJUST TURN UP; or for more information\, contact Robin Weaver 741048
URL:https://bildeston.org/event/bildeston-community-cycling-winter-warmer-1/
LOCATION:Bildeston Market Square\, Market place\, Bildeston\, IP7 7EN
CATEGORIES:Market Square
END:VEVENT
BEGIN:VEVENT
DTSTART;TZID=Europe/London:20211023T190000
DTEND;TZID=Europe/London:20211023T190000
DTSTAMP:20260422T202133
CREATED:20210923T091959Z
LAST-MODIFIED:20210923T095825Z
UID:15059-1635015600-1635015600@bildeston.org
SUMMARY:King's Pightle Special Quiz
DESCRIPTION:Can your team claim the Brain of Bildeston Trophy? \nSaturday 23rd October 7.00pm \nAt Bildeston Sports Pavilion \n£5.00 per person –maximum of 6 in a team \nTo enter contact Elaine Talbott 07766527433 or elainetalbott@hotmail.co.uk
URL:https://bildeston.org/event/kings-pightle-special-quiz/
LOCATION:Bildeston Sports Pavilion\, Consent Lane\, Bildeston\, United Kingdom
CATEGORIES:Sports Pavilion
ORGANIZER;CN="King's Pightle Committee":MAILTO:info@nature.bildeston.org
END:VEVENT
BEGIN:VEVENT
DTSTART;TZID=Europe/London:20211023T190000
DTEND;TZID=Europe/London:20211023T190000
DTSTAMP:20260422T202133
CREATED:20210827T162055Z
LAST-MODIFIED:20210827T162055Z
UID:14737-1635015600-1635015600@bildeston.org
SUMMARY:King's Pightle Quiz
DESCRIPTION:Can your team claim the Brain of Bildeston Trophy? \nMax 6 per team
URL:https://bildeston.org/event/kings-pightle-quiz/
LOCATION:Bildeston Sports Pavilion\, Consent Lane\, Bildeston\, United Kingdom
CATEGORIES:Sports Pavilion
ORGANIZER;CN="Elaine Talbott":MAILTO:elainetalbott@hotmail.co.uk
END:VEVENT
BEGIN:VEVENT
DTSTART;TZID=Europe/London:20211027T190000
DTEND;TZID=Europe/London:20211027T190000
DTSTAMP:20260422T202133
CREATED:20210923T091848Z
LAST-MODIFIED:20210923T095633Z
UID:15055-1635361200-1635361200@bildeston.org
SUMMARY:King's Pightle AGM
DESCRIPTION:If you are interested in taking a more active role in the nature reserve or just want to find out what we have been doing during the last year and what we have planned for the future do come along and join us. \nFor more information email sue@jacksfarm.co.uk or phone Elaine on 07766527433
URL:https://bildeston.org/event/kings-pightle-agm/
LOCATION:Bildeston Sports Pavilion\, Consent Lane\, Bildeston\, United Kingdom
CATEGORIES:Sports Pavilion
ORGANIZER;CN="King's Pightle Committee":MAILTO:info@nature.bildeston.org
END:VEVENT
BEGIN:VEVENT
DTSTART;TZID=Europe/London:20211030T203000
DTEND;TZID=Europe/London:20211030T203000
DTSTAMP:20260422T202133
CREATED:20210923T104452Z
LAST-MODIFIED:20210923T104452Z
UID:15229-1635625800-1635625800@bildeston.org
SUMMARY:80's Disco night
DESCRIPTION:Free entry!
URL:https://bildeston.org/event/80s-disco-night/
LOCATION:Chamberlin Hall
CATEGORIES:Chamberlin Hall
ORGANIZER;CN="Chamberlin Hall Management Committee":MAILTO:chamberlin.bookings@gmail.com
END:VEVENT
BEGIN:VEVENT
DTSTART;TZID=Europe/London:20211031T150000
DTEND;TZID=Europe/London:20211031T150000
DTSTAMP:20260422T202133
CREATED:20210923T092320Z
LAST-MODIFIED:20210923T092320Z
UID:15064-1635692400-1635692400@bildeston.org
SUMMARY:Service of Reflection and Remembrance
DESCRIPTION:
URL:https://bildeston.org/event/service-of-reflection-and-remembrance/
LOCATION:St Mary Magdalene Church\, Church Lane\, Bildeston\, United Kingdom
CATEGORIES:St Mary Magdalene
END:VEVENT
BEGIN:VEVENT
DTSTART;TZID=Europe/London:20211105T190000
DTEND;TZID=Europe/London:20211105T190000
DTSTAMP:20260422T202133
CREATED:20211105T141555Z
LAST-MODIFIED:20220302T225224Z
UID:15894-1636138800-1636138800@bildeston.org
SUMMARY:Bowling social evening
DESCRIPTION:
URL:https://bildeston.org/event/bowling-social-evening/2021-11-05/
LOCATION:Chamberlin Hall
CATEGORIES:Chamberlin Hall
END:VEVENT
BEGIN:VEVENT
DTSTART;VALUE=DATE:20211106
DTEND;VALUE=DATE:20211107
DTSTAMP:20260422T202133
CREATED:20211105T143227Z
LAST-MODIFIED:20211105T143227Z
UID:15932-1636156800-1636243199@bildeston.org
SUMMARY:East Anglian Garden Club meeting
DESCRIPTION:
URL:https://bildeston.org/event/east-anglian-garden-club-meeting/
LOCATION:Chamberlin Hall
CATEGORIES:Chamberlin Hall
END:VEVENT
BEGIN:VEVENT
DTSTART;TZID=Europe/London:20211108T190000
DTEND;TZID=Europe/London:20211108T190000
DTSTAMP:20260422T202133
CREATED:20210624T084108Z
LAST-MODIFIED:20210624T084523Z
UID:13549-1636398000-1636398000@bildeston.org
SUMMARY:Parish Council meeting
DESCRIPTION:
URL:https://bildeston.org/event/parish-council-meeting-8/
LOCATION:Bildeston Baptist Church\, Duke street\, Bildeston\, IP7 7EW\, United Kingdom
CATEGORIES:Bildeston Baptist Church,Parish Council Meetings
END:VEVENT
BEGIN:VEVENT
DTSTART;TZID=Europe/London:20211111T091500
DTEND;TZID=Europe/London:20211111T101500
DTSTAMP:20260422T202133
CREATED:20211105T141138Z
LAST-MODIFIED:20211105T141138Z
UID:15823-1636622100-1636625700@bildeston.org
SUMMARY:Exercise classes
DESCRIPTION:Call 07718593532 for details
URL:https://bildeston.org/event/exercise-classes/2021-11-11/
LOCATION:Chamberlin Hall
CATEGORIES:Chamberlin Hall
END:VEVENT
BEGIN:VEVENT
DTSTART;TZID=Europe/London:20211111T190000
DTEND;TZID=Europe/London:20211111T220000
DTSTAMP:20260422T202133
CREATED:20211105T141438Z
LAST-MODIFIED:20211105T141438Z
UID:15855-1636657200-1636668000@bildeston.org
SUMMARY:VIPs Drama Group
DESCRIPTION:For details on how to join\, call Debbie: 01449 740375
URL:https://bildeston.org/event/vips-drama-group/2021-11-11/
LOCATION:Chamberlin Hall
CATEGORIES:Chamberlin Hall
END:VEVENT
BEGIN:VEVENT
DTSTART;TZID=Europe/London:20211112T091500
DTEND;TZID=Europe/London:20211112T113000
DTSTAMP:20260422T202133
CREATED:20211105T110322Z
LAST-MODIFIED:20211105T110322Z
UID:15703-1636708500-1636716600@bildeston.org
SUMMARY:Community coffee centre
DESCRIPTION:Come along to the Bildeston Community Cafe and enjoy tea\, coffee\, scones\, bacon rolls or one of our delicious cup cakes! Parents and children welcome.
URL:https://bildeston.org/event/community-coffee-centre/2021-11-12/
LOCATION:Bildeston Baptist Church\, Duke street\, Bildeston\, IP7 7EW\, United Kingdom
CATEGORIES:Bildeston Baptist Church
ORGANIZER;CN="Bildeston Baptist Church":MAILTO:bildestonbc@gmail.com
END:VEVENT
BEGIN:VEVENT
DTSTART;TZID=Europe/London:20211113T093000
DTEND;TZID=Europe/London:20211113T123000
DTSTAMP:20260422T202133
CREATED:20211105T135911Z
LAST-MODIFIED:20211105T135911Z
UID:15817-1636795800-1636806600@bildeston.org
SUMMARY:Bildeston Community Cycling: Winter Warmer 2
DESCRIPTION:Why not join our monthly Saturday morning Winter Warmer series? \nThese rides are for riders of all abilities. \nJOIN US FOR A RIDE OF ABOUT 25 MILES\, STARTING FROM THE MARKET PLACE \nCAFE STOP HALFWAY. BACK ABOUT 12.30pm. \nPUT IT IN THE DIARY NOW!\nWarm clothing recommended. The ride will be mainly on quiet lanes\,\nat an acceptable speed (no-one left behind!). Regret no\nunaccompanied children under 16.\nJUST TURN UP; or for more information\, contact Robin Weaver 741048
URL:https://bildeston.org/event/bildeston-community-cycling-winter-warmer-2/
LOCATION:Bildeston Market Square\, Market place\, Bildeston\, IP7 7EN
CATEGORIES:Market Square
END:VEVENT
BEGIN:VEVENT
DTSTART;TZID=Europe/London:20211113T093000
DTEND;TZID=Europe/London:20211113T130000
DTSTAMP:20260422T202133
CREATED:20211105T143143Z
LAST-MODIFIED:20211105T143143Z
UID:15928-1636795800-1636808400@bildeston.org
SUMMARY:Indoor market
DESCRIPTION:Indoor market with market stalls selling a variety of crafts and local produce.
URL:https://bildeston.org/event/indoor-market/
LOCATION:Chamberlin Hall
CATEGORIES:Chamberlin Hall
END:VEVENT
BEGIN:VEVENT
DTSTART;TZID=Europe/London:20211113T110000
DTEND;TZID=Europe/London:20211113T170000
DTSTAMP:20260422T202133
CREATED:20210827T161319Z
LAST-MODIFIED:20210923T104142Z
UID:14731-1636801200-1636822800@bildeston.org
SUMMARY:St Mary Magdalene Christmas Fayre
DESCRIPTION:The Bildeston Christmas Fayre will take place on Saturday 13th November in St Mary Magdalene Church. The traditional stalls of raffle\, tombola\, jams and preserves\, cakes and Christmas ‘surprise boxes’\, will be there. Refreshments will be available throughout the day. \nThere are now opportunities for individuals to book a stall at a cost of £15 per stall. Each stall space is approximately six feet wide and will be set up across the pews allowing attendees to walk down the aisles to view the items on sale.
URL:https://bildeston.org/event/st-mary-magdalene-christmas-fayre/
LOCATION:St Mary Magdalene Church\, Church Lane\, Bildeston\, United Kingdom
CATEGORIES:St Mary Magdalene
END:VEVENT
BEGIN:VEVENT
DTSTART;TZID=Europe/London:20211114T104500
DTEND;TZID=Europe/London:20211114T104500
DTSTAMP:20260422T202133
CREATED:20211105T110445Z
LAST-MODIFIED:20211105T110445Z
UID:15736-1636886700-1636886700@bildeston.org
SUMMARY:Remembrance Service
DESCRIPTION:
URL:https://bildeston.org/event/remembrance-service/
LOCATION:Bildeston Market Square\, Market place\, Bildeston\, IP7 7EN
CATEGORIES:Market Square
END:VEVENT
BEGIN:VEVENT
DTSTART;TZID=Europe/London:20211121T110000
DTEND;TZID=Europe/London:20211121T110000
DTSTAMP:20260422T202133
CREATED:20211105T110712Z
LAST-MODIFIED:20211105T110712Z
UID:15739-1637492400-1637492400@bildeston.org
SUMMARY:Morning prayer
DESCRIPTION:To arrange Baptism\, Weddings\, Home Communion\, or Pastoral visits\, please contact Revd Elke Cattermole. revdelkecattermole@gmail.com 01449 403368
URL:https://bildeston.org/event/morning-prayer/
LOCATION:St Mary Magdalene Church\, Church Lane\, Bildeston\, United Kingdom
CATEGORIES:St Mary Magdalene
END:VEVENT
BEGIN:VEVENT
DTSTART;VALUE=DATE:20211211
DTEND;VALUE=DATE:20211213
DTSTAMP:20260422T202133
CREATED:20211105T140854Z
LAST-MODIFIED:20211105T140854Z
UID:15820-1639180800-1639353599@bildeston.org
SUMMARY:King's Pightle skills event: how to lay a hedge
DESCRIPTION:Join us at Kings Pightle Nature reserve on Saturday 11th December and Sunday 12th December to learn how to lay a hedge in the traditional time-honoured way. \nWe’ve got John Esling\, a local artisan\, who is an expert in hedge laying\, coppicing and other traditional country skills. He’ll be providing training and teaching on site. Bring your own saws\, tools or even a chain saw if you have one. \nIf you’re interested\, then let me know via info@nature.bildeston.org or call me on 744120.\nI hope you can join us.\nRichard Lester\nKings Pightle Trustee
URL:https://bildeston.org/event/kings-pightle-skills-event-how-to-lay-a-hedge/
LOCATION:King’s Pightle Nature Reserve\, consent lane\, Bildeston\, United Kingdom
CATEGORIES:King's Pightle
ORGANIZER;CN="King's Pightle Committee":MAILTO:info@nature.bildeston.org
END:VEVENT
BEGIN:VEVENT
DTSTART;TZID=Europe/London:20211213T190000
DTEND;TZID=Europe/London:20211213T190000
DTSTAMP:20260422T202133
CREATED:20210624T084148Z
LAST-MODIFIED:20210624T084148Z
UID:13552-1639422000-1639422000@bildeston.org
SUMMARY:Parish Council meeting
DESCRIPTION:
URL:https://bildeston.org/event/parish-council-meeting-9/
LOCATION:Bildeston Baptist Church\, Duke street\, Bildeston\, IP7 7EW\, United Kingdom
CATEGORIES:Bildeston Baptist Church
END:VEVENT
BEGIN:VEVENT
DTSTART;TZID=Europe/London:20211218T080000
DTEND;TZID=Europe/London:20211218T170000
DTSTAMP:20260422T202133
CREATED:20211105T143318Z
LAST-MODIFIED:20211105T143318Z
UID:15935-1639814400-1639846800@bildeston.org
SUMMARY:RockHouse\, Rock and Roll Band
DESCRIPTION:Tickets on sale soon
URL:https://bildeston.org/event/rockhouse-rock-and-roll-band/
LOCATION:Chamberlin Hall
CATEGORIES:Chamberlin Hall
END:VEVENT
END:VCALENDAR