BEGIN:VCALENDAR
VERSION:2.0
PRODID:-//Bildeston Village - ECPv6.15.18//NONSGML v1.0//EN
CALSCALE:GREGORIAN
METHOD:PUBLISH
X-ORIGINAL-URL:https://bildeston.org
X-WR-CALDESC:Events for Bildeston Village
REFRESH-INTERVAL;VALUE=DURATION:PT1H
X-Robots-Tag:noindex
X-PUBLISHED-TTL:PT1H
BEGIN:VTIMEZONE
TZID:Europe/London
BEGIN:DAYLIGHT
TZOFFSETFROM:+0000
TZOFFSETTO:+0100
TZNAME:BST
DTSTART:20250330T010000
END:DAYLIGHT
BEGIN:STANDARD
TZOFFSETFROM:+0100
TZOFFSETTO:+0000
TZNAME:GMT
DTSTART:20251026T010000
END:STANDARD
BEGIN:DAYLIGHT
TZOFFSETFROM:+0000
TZOFFSETTO:+0100
TZNAME:BST
DTSTART:20260329T010000
END:DAYLIGHT
BEGIN:STANDARD
TZOFFSETFROM:+0100
TZOFFSETTO:+0000
TZNAME:GMT
DTSTART:20261025T010000
END:STANDARD
BEGIN:DAYLIGHT
TZOFFSETFROM:+0000
TZOFFSETTO:+0100
TZNAME:BST
DTSTART:20270328T010000
END:DAYLIGHT
BEGIN:STANDARD
TZOFFSETFROM:+0100
TZOFFSETTO:+0000
TZNAME:GMT
DTSTART:20271031T010000
END:STANDARD
BEGIN:DAYLIGHT
TZOFFSETFROM:+0000
TZOFFSETTO:+0100
TZNAME:BST
DTSTART:20280326T010000
END:DAYLIGHT
BEGIN:STANDARD
TZOFFSETFROM:+0100
TZOFFSETTO:+0000
TZNAME:GMT
DTSTART:20281029T010000
END:STANDARD
END:VTIMEZONE
BEGIN:VEVENT
DTSTART;TZID=Europe/London:20261222T130000
DTEND;TZID=Europe/London:20261222T130000
DTSTAMP:20260423T202926
CREATED:20220327T212757Z
LAST-MODIFIED:20220327T212757Z
UID:49012-1797944400-1797944400@bildeston.org
SUMMARY:Zumba Gold!
DESCRIPTION:
URL:https://bildeston.org/event/zumba-gold-3/2026-12-22/
LOCATION:Chamberlin Hall
CATEGORIES:Chamberlin Hall
ORGANIZER;CN="Jo Brown":MAILTO:joanna-m-brown@hotmail.co.uk
END:VEVENT
BEGIN:VEVENT
DTSTART;TZID=Europe/London:20261222T190000
DTEND;TZID=Europe/London:20261222T190000
DTSTAMP:20260423T202926
CREATED:20210816T211454Z
LAST-MODIFIED:20210816T211454Z
UID:49010-1797966000-1797966000@bildeston.org
SUMMARY:Snooker club
DESCRIPTION:
URL:https://bildeston.org/event/snooker-club-2/2026-12-22/
LOCATION:Chamberlin Hall
CATEGORIES:Chamberlin Hall
END:VEVENT
BEGIN:VEVENT
DTSTART;TZID=Europe/London:20261222T193000
DTEND;TZID=Europe/London:20261222T193000
DTSTAMP:20260423T202926
CREATED:20210827T153117Z
LAST-MODIFIED:20210827T153117Z
UID:49011-1797967800-1797967800@bildeston.org
SUMMARY:Bildeston Carpet Bowls Club
DESCRIPTION:New members are very welcome to join our friendly club. Please ring our Club Captain Mike on 01284 827688.
URL:https://bildeston.org/event/bildeston-carpet-bowls-club/2026-12-22/
LOCATION:Chamberlin Hall
CATEGORIES:Chamberlin Hall
END:VEVENT
BEGIN:VEVENT
DTSTART;TZID=Europe/London:20261224T091500
DTEND;TZID=Europe/London:20261224T101500
DTSTAMP:20260423T202926
CREATED:20211105T141138Z
LAST-MODIFIED:20211105T141138Z
UID:49022-1798103700-1798107300@bildeston.org
SUMMARY:Exercise classes
DESCRIPTION:Call 07718593532 for details
URL:https://bildeston.org/event/exercise-classes/2026-12-24/
LOCATION:Chamberlin Hall
CATEGORIES:Chamberlin Hall
END:VEVENT
BEGIN:VEVENT
DTSTART;TZID=Europe/London:20261224T100000
DTEND;TZID=Europe/London:20261224T104500
DTSTAMP:20260423T202926
CREATED:20210827T162858Z
LAST-MODIFIED:20210827T162858Z
UID:49021-1798106400-1798109100@bildeston.org
SUMMARY:Zumba Gold!
DESCRIPTION:£4 pay as you go \n(Every 10th class free)
URL:https://bildeston.org/event/zumba-gold-2/2026-12-24/
LOCATION:Chamberlin Hall
CATEGORIES:Chamberlin Hall
ORGANIZER;CN="Jo Brown":MAILTO:joanna-m-brown@hotmail.co.uk
END:VEVENT
BEGIN:VEVENT
DTSTART;TZID=Europe/London:20261224T190000
DTEND;TZID=Europe/London:20261224T220000
DTSTAMP:20260423T202926
CREATED:20211105T141438Z
LAST-MODIFIED:20211105T141438Z
UID:49023-1798138800-1798149600@bildeston.org
SUMMARY:VIPs Drama Group
DESCRIPTION:For details on how to join\, call Debbie: 01449 740375
URL:https://bildeston.org/event/vips-drama-group/2026-12-24/
LOCATION:Chamberlin Hall
CATEGORIES:Chamberlin Hall
END:VEVENT
BEGIN:VEVENT
DTSTART;TZID=Europe/London:20261225T091500
DTEND;TZID=Europe/London:20261225T113000
DTSTAMP:20260423T202926
CREATED:20211105T110322Z
LAST-MODIFIED:20211105T110322Z
UID:49029-1798190100-1798198200@bildeston.org
SUMMARY:Community coffee centre
DESCRIPTION:Come along to the Bildeston Community Cafe and enjoy tea\, coffee\, scones\, bacon rolls or one of our delicious cup cakes! Parents and children welcome.
URL:https://bildeston.org/event/community-coffee-centre/2026-12-25/
LOCATION:Bildeston Baptist Church\, Duke street\, Bildeston\, IP7 7EW\, United Kingdom
CATEGORIES:Bildeston Baptist Church
ORGANIZER;CN="Bildeston Baptist Church":MAILTO:bildestonbc@gmail.com
END:VEVENT
BEGIN:VEVENT
DTSTART;TZID=Europe/London:20261225T104500
DTEND;TZID=Europe/London:20261225T234500
DTSTAMP:20260423T202926
CREATED:20200510T141707Z
LAST-MODIFIED:20200510T141707Z
UID:49027-1798195500-1798242300@bildeston.org
SUMMARY:Intermediate Pilates
DESCRIPTION:
URL:https://bildeston.org/event/intermediate-pilates-2/2026-12-25/
LOCATION:Chamberlin Hall
CATEGORIES:Chamberlin Hall
ORGANIZER;CN="Claire Jacobs":MAILTO:claire@fitframephysio.com
END:VEVENT
BEGIN:VEVENT
DTSTART;TZID=Europe/London:20261225T104500
DTEND;TZID=Europe/London:20261225T234500
DTSTAMP:20260423T202926
CREATED:20200510T141707Z
LAST-MODIFIED:20200510T141707Z
UID:49026-1798195500-1798242300@bildeston.org
SUMMARY:Intermediate Pilates
DESCRIPTION:
URL:https://bildeston.org/event/intermediate-pilates/2026-12-25/
LOCATION:Chamberlin Hall
CATEGORIES:Chamberlin Hall
ORGANIZER;CN="Claire Jacobs":MAILTO:claire@fitframephysio.com
END:VEVENT
BEGIN:VEVENT
DTSTART;TZID=Europe/London:20261225T120000
DTEND;TZID=Europe/London:20261225T130000
DTSTAMP:20260423T202926
CREATED:20200510T142415Z
LAST-MODIFIED:20200510T142415Z
UID:49028-1798200000-1798203600@bildeston.org
SUMMARY:Beginners Pilates
DESCRIPTION:
URL:https://bildeston.org/event/beginners-pilates-cancelled-2023-05-05/2026-12-25/
LOCATION:Chamberlin Hall
CATEGORIES:Chamberlin Hall
ORGANIZER;CN="Claire Jacobs":MAILTO:claire@fitframephysio.com
END:VEVENT
BEGIN:VEVENT
DTSTART;TZID=Europe/London:20261225T190000
DTEND;TZID=Europe/London:20261225T190000
DTSTAMP:20260423T202926
CREATED:20211105T141555Z
LAST-MODIFIED:20211105T141555Z
UID:49030-1798225200-1798225200@bildeston.org
SUMMARY:Bowling social evening
DESCRIPTION:
URL:https://bildeston.org/event/bowling-social-evening/2026-12-25/
LOCATION:Chamberlin Hall
CATEGORIES:Chamberlin Hall
END:VEVENT
BEGIN:VEVENT
DTSTART;TZID=Europe/London:20261229T110000
DTEND;TZID=Europe/London:20261229T120000
DTSTAMP:20260423T202926
CREATED:20210816T205642Z
LAST-MODIFIED:20210816T205642Z
UID:49050-1798542000-1798545600@bildeston.org
SUMMARY:Rosie’s line dancing
DESCRIPTION:
URL:https://bildeston.org/event/rosies-line-dancing/2026-12-29/
LOCATION:Chamberlin Hall
CATEGORIES:Chamberlin Hall
END:VEVENT
BEGIN:VEVENT
DTSTART;TZID=Europe/London:20261229T130000
DTEND;TZID=Europe/London:20261229T130000
DTSTAMP:20260423T202926
CREATED:20220327T212757Z
LAST-MODIFIED:20220327T212757Z
UID:49053-1798549200-1798549200@bildeston.org
SUMMARY:Zumba Gold!
DESCRIPTION:
URL:https://bildeston.org/event/zumba-gold-3/2026-12-29/
LOCATION:Chamberlin Hall
CATEGORIES:Chamberlin Hall
ORGANIZER;CN="Jo Brown":MAILTO:joanna-m-brown@hotmail.co.uk
END:VEVENT
BEGIN:VEVENT
DTSTART;TZID=Europe/London:20261229T190000
DTEND;TZID=Europe/London:20261229T190000
DTSTAMP:20260423T202926
CREATED:20210816T211454Z
LAST-MODIFIED:20210816T211454Z
UID:49051-1798570800-1798570800@bildeston.org
SUMMARY:Snooker club
DESCRIPTION:
URL:https://bildeston.org/event/snooker-club-2/2026-12-29/
LOCATION:Chamberlin Hall
CATEGORIES:Chamberlin Hall
END:VEVENT
BEGIN:VEVENT
DTSTART;TZID=Europe/London:20261229T193000
DTEND;TZID=Europe/London:20261229T193000
DTSTAMP:20260423T202926
CREATED:20210827T153117Z
LAST-MODIFIED:20210827T153117Z
UID:49052-1798572600-1798572600@bildeston.org
SUMMARY:Bildeston Carpet Bowls Club
DESCRIPTION:New members are very welcome to join our friendly club. Please ring our Club Captain Mike on 01284 827688.
URL:https://bildeston.org/event/bildeston-carpet-bowls-club/2026-12-29/
LOCATION:Chamberlin Hall
CATEGORIES:Chamberlin Hall
END:VEVENT
BEGIN:VEVENT
DTSTART;TZID=Europe/London:20261231T091500
DTEND;TZID=Europe/London:20261231T101500
DTSTAMP:20260423T202926
CREATED:20211105T141138Z
LAST-MODIFIED:20211105T141138Z
UID:49060-1798708500-1798712100@bildeston.org
SUMMARY:Exercise classes
DESCRIPTION:Call 07718593532 for details
URL:https://bildeston.org/event/exercise-classes/2026-12-31/
LOCATION:Chamberlin Hall
CATEGORIES:Chamberlin Hall
END:VEVENT
BEGIN:VEVENT
DTSTART;TZID=Europe/London:20261231T100000
DTEND;TZID=Europe/London:20261231T104500
DTSTAMP:20260423T202926
CREATED:20210827T162858Z
LAST-MODIFIED:20210827T162858Z
UID:49059-1798711200-1798713900@bildeston.org
SUMMARY:Zumba Gold!
DESCRIPTION:£4 pay as you go \n(Every 10th class free)
URL:https://bildeston.org/event/zumba-gold-2/2026-12-31/
LOCATION:Chamberlin Hall
CATEGORIES:Chamberlin Hall
ORGANIZER;CN="Jo Brown":MAILTO:joanna-m-brown@hotmail.co.uk
END:VEVENT
BEGIN:VEVENT
DTSTART;TZID=Europe/London:20261231T190000
DTEND;TZID=Europe/London:20261231T220000
DTSTAMP:20260423T202926
CREATED:20211105T141438Z
LAST-MODIFIED:20211105T141438Z
UID:49061-1798743600-1798754400@bildeston.org
SUMMARY:VIPs Drama Group
DESCRIPTION:For details on how to join\, call Debbie: 01449 740375
URL:https://bildeston.org/event/vips-drama-group/2026-12-31/
LOCATION:Chamberlin Hall
CATEGORIES:Chamberlin Hall
END:VEVENT
BEGIN:VEVENT
DTSTART;TZID=Europe/London:20270101T091500
DTEND;TZID=Europe/London:20270101T113000
DTSTAMP:20260423T202926
CREATED:20211105T110322Z
LAST-MODIFIED:20211105T110322Z
UID:49071-1798794900-1798803000@bildeston.org
SUMMARY:Community coffee centre
DESCRIPTION:Come along to the Bildeston Community Cafe and enjoy tea\, coffee\, scones\, bacon rolls or one of our delicious cup cakes! Parents and children welcome.
URL:https://bildeston.org/event/community-coffee-centre/2027-01-01/
LOCATION:Bildeston Baptist Church\, Duke street\, Bildeston\, IP7 7EW\, United Kingdom
CATEGORIES:Bildeston Baptist Church
ORGANIZER;CN="Bildeston Baptist Church":MAILTO:bildestonbc@gmail.com
END:VEVENT
BEGIN:VEVENT
DTSTART;TZID=Europe/London:20270101T104500
DTEND;TZID=Europe/London:20270101T234500
DTSTAMP:20260423T202926
CREATED:20200510T141707Z
LAST-MODIFIED:20200510T141707Z
UID:49068-1798800300-1798847100@bildeston.org
SUMMARY:Intermediate Pilates
DESCRIPTION:
URL:https://bildeston.org/event/intermediate-pilates/2027-01-01/
LOCATION:Chamberlin Hall
CATEGORIES:Chamberlin Hall
ORGANIZER;CN="Claire Jacobs":MAILTO:claire@fitframephysio.com
END:VEVENT
BEGIN:VEVENT
DTSTART;TZID=Europe/London:20270101T104500
DTEND;TZID=Europe/London:20270101T234500
DTSTAMP:20260423T202926
CREATED:20200510T141707Z
LAST-MODIFIED:20200510T141707Z
UID:49069-1798800300-1798847100@bildeston.org
SUMMARY:Intermediate Pilates
DESCRIPTION:
URL:https://bildeston.org/event/intermediate-pilates-2/2027-01-01/
LOCATION:Chamberlin Hall
CATEGORIES:Chamberlin Hall
ORGANIZER;CN="Claire Jacobs":MAILTO:claire@fitframephysio.com
END:VEVENT
BEGIN:VEVENT
DTSTART;TZID=Europe/London:20270101T120000
DTEND;TZID=Europe/London:20270101T130000
DTSTAMP:20260423T202926
CREATED:20200510T142415Z
LAST-MODIFIED:20200510T142415Z
UID:49070-1798804800-1798808400@bildeston.org
SUMMARY:Beginners Pilates
DESCRIPTION:
URL:https://bildeston.org/event/beginners-pilates-cancelled-2023-05-05/2027-01-01/
LOCATION:Chamberlin Hall
CATEGORIES:Chamberlin Hall
ORGANIZER;CN="Claire Jacobs":MAILTO:claire@fitframephysio.com
END:VEVENT
BEGIN:VEVENT
DTSTART;TZID=Europe/London:20270101T190000
DTEND;TZID=Europe/London:20270101T190000
DTSTAMP:20260423T202926
CREATED:20211105T141555Z
LAST-MODIFIED:20211105T141555Z
UID:49072-1798830000-1798830000@bildeston.org
SUMMARY:Bowling social evening
DESCRIPTION:
URL:https://bildeston.org/event/bowling-social-evening/2027-01-01/
LOCATION:Chamberlin Hall
CATEGORIES:Chamberlin Hall
END:VEVENT
BEGIN:VEVENT
DTSTART;TZID=Europe/London:20270105T110000
DTEND;TZID=Europe/London:20270105T120000
DTSTAMP:20260423T202926
CREATED:20210816T205642Z
LAST-MODIFIED:20210816T205642Z
UID:49091-1799146800-1799150400@bildeston.org
SUMMARY:Rosie’s line dancing
DESCRIPTION:
URL:https://bildeston.org/event/rosies-line-dancing/2027-01-05/
LOCATION:Chamberlin Hall
CATEGORIES:Chamberlin Hall
END:VEVENT
BEGIN:VEVENT
DTSTART;TZID=Europe/London:20270105T130000
DTEND;TZID=Europe/London:20270105T130000
DTSTAMP:20260423T202926
CREATED:20220327T212757Z
LAST-MODIFIED:20220327T212757Z
UID:49094-1799154000-1799154000@bildeston.org
SUMMARY:Zumba Gold!
DESCRIPTION:
URL:https://bildeston.org/event/zumba-gold-3/2027-01-05/
LOCATION:Chamberlin Hall
CATEGORIES:Chamberlin Hall
ORGANIZER;CN="Jo Brown":MAILTO:joanna-m-brown@hotmail.co.uk
END:VEVENT
BEGIN:VEVENT
DTSTART;TZID=Europe/London:20270105T190000
DTEND;TZID=Europe/London:20270105T190000
DTSTAMP:20260423T202926
CREATED:20210816T211454Z
LAST-MODIFIED:20210816T211454Z
UID:49092-1799175600-1799175600@bildeston.org
SUMMARY:Snooker club
DESCRIPTION:
URL:https://bildeston.org/event/snooker-club-2/2027-01-05/
LOCATION:Chamberlin Hall
CATEGORIES:Chamberlin Hall
END:VEVENT
BEGIN:VEVENT
DTSTART;TZID=Europe/London:20270105T193000
DTEND;TZID=Europe/London:20270105T193000
DTSTAMP:20260423T202926
CREATED:20210827T153117Z
LAST-MODIFIED:20210827T153117Z
UID:49093-1799177400-1799177400@bildeston.org
SUMMARY:Bildeston Carpet Bowls Club
DESCRIPTION:New members are very welcome to join our friendly club. Please ring our Club Captain Mike on 01284 827688.
URL:https://bildeston.org/event/bildeston-carpet-bowls-club/2027-01-05/
LOCATION:Chamberlin Hall
CATEGORIES:Chamberlin Hall
END:VEVENT
BEGIN:VEVENT
DTSTART;TZID=Europe/London:20270106T123000
DTEND;TZID=Europe/London:20270106T170000
DTSTAMP:20260423T202926
CREATED:20210923T092930Z
LAST-MODIFIED:20210923T092930Z
UID:49103-1799238600-1799254800@bildeston.org
SUMMARY:Lunch Club
DESCRIPTION:Lunch club runs the first Wednesday each month – please ring 07584 189356 to reserve a place
URL:https://bildeston.org/event/lunch-club-2/2027-01-06/
LOCATION:Bildeston Baptist Church\, Duke street\, Bildeston\, IP7 7EW\, United Kingdom
CATEGORIES:Bildeston Baptist Church
ORGANIZER;CN="Bildeston Baptist Church":MAILTO:bildestonbc@gmail.com
END:VEVENT
BEGIN:VEVENT
DTSTART;TZID=Europe/London:20270106T141000
DTEND;TZID=Europe/London:20270106T160000
DTSTAMP:20260423T202926
CREATED:20220124T224416Z
LAST-MODIFIED:20220124T224416Z
UID:49104-1799244600-1799251200@bildeston.org
SUMMARY:Mobile library
DESCRIPTION:The Mobile Library is operating as normal now\, but with the following provisions: \n\nOne customer at a time\nEveryone to sanitise their hands before entering\nStaff will wear face masks and customers encouraged to do the same\nPlease be as quick as possible to allow others time to choose\nThere is a temporary limit of 4 items per person\nAll returned stock is quarantined for 72 hours\nShelves are sanitised between stops\n\nThe Bildeston stops are as follows: \n\nBrooksfield at 14.10 to 14.25\nMarket Square 14.30 to 14.45\nNewberry Road 14.50 to 15.05\nPaddock Way 15.10 to 16.00
URL:https://bildeston.org/event/mobile-library/2027-01-06/
CATEGORIES:Market Square
END:VEVENT
BEGIN:VEVENT
DTSTART;TZID=Europe/London:20270107T091500
DTEND;TZID=Europe/London:20270107T101500
DTSTAMP:20260423T202926
CREATED:20211105T141138Z
LAST-MODIFIED:20211105T141138Z
UID:49110-1799313300-1799316900@bildeston.org
SUMMARY:Exercise classes
DESCRIPTION:Call 07718593532 for details
URL:https://bildeston.org/event/exercise-classes/2027-01-07/
LOCATION:Chamberlin Hall
CATEGORIES:Chamberlin Hall
END:VEVENT
END:VCALENDAR