BEGIN:VCALENDAR
VERSION:2.0
PRODID:-//Bildeston Village - ECPv6.15.18//NONSGML v1.0//EN
CALSCALE:GREGORIAN
METHOD:PUBLISH
X-ORIGINAL-URL:https://bildeston.org
X-WR-CALDESC:Events for Bildeston Village
REFRESH-INTERVAL;VALUE=DURATION:PT1H
X-Robots-Tag:noindex
X-PUBLISHED-TTL:PT1H
BEGIN:VTIMEZONE
TZID:Europe/London
BEGIN:DAYLIGHT
TZOFFSETFROM:+0000
TZOFFSETTO:+0100
TZNAME:BST
DTSTART:20250330T010000
END:DAYLIGHT
BEGIN:STANDARD
TZOFFSETFROM:+0100
TZOFFSETTO:+0000
TZNAME:GMT
DTSTART:20251026T010000
END:STANDARD
BEGIN:DAYLIGHT
TZOFFSETFROM:+0000
TZOFFSETTO:+0100
TZNAME:BST
DTSTART:20260329T010000
END:DAYLIGHT
BEGIN:STANDARD
TZOFFSETFROM:+0100
TZOFFSETTO:+0000
TZNAME:GMT
DTSTART:20261025T010000
END:STANDARD
BEGIN:DAYLIGHT
TZOFFSETFROM:+0000
TZOFFSETTO:+0100
TZNAME:BST
DTSTART:20270328T010000
END:DAYLIGHT
BEGIN:STANDARD
TZOFFSETFROM:+0100
TZOFFSETTO:+0000
TZNAME:GMT
DTSTART:20271031T010000
END:STANDARD
END:VTIMEZONE
BEGIN:VEVENT
DTSTART;TZID=Europe/London:20260827T091500
DTEND;TZID=Europe/London:20260827T101500
DTSTAMP:20260422T021510
CREATED:20211105T141138Z
LAST-MODIFIED:20211105T141138Z
UID:33915-1787822100-1787825700@bildeston.org
SUMMARY:Exercise classes
DESCRIPTION:Call 07718593532 for details
URL:https://bildeston.org/event/exercise-classes/2026-08-27/
LOCATION:Chamberlin Hall
CATEGORIES:Chamberlin Hall
END:VEVENT
BEGIN:VEVENT
DTSTART;TZID=Europe/London:20260827T100000
DTEND;TZID=Europe/London:20260827T104500
DTSTAMP:20260422T021510
CREATED:20210827T162858Z
LAST-MODIFIED:20210827T162858Z
UID:33914-1787824800-1787827500@bildeston.org
SUMMARY:Zumba Gold!
DESCRIPTION:£4 pay as you go \n(Every 10th class free)
URL:https://bildeston.org/event/zumba-gold-2/2026-08-27/
LOCATION:Chamberlin Hall
CATEGORIES:Chamberlin Hall
ORGANIZER;CN="Jo Brown":MAILTO:joanna-m-brown@hotmail.co.uk
END:VEVENT
BEGIN:VEVENT
DTSTART;TZID=Europe/London:20260827T190000
DTEND;TZID=Europe/London:20260827T220000
DTSTAMP:20260422T021510
CREATED:20211105T141438Z
LAST-MODIFIED:20211105T141438Z
UID:33916-1787857200-1787868000@bildeston.org
SUMMARY:VIPs Drama Group
DESCRIPTION:For details on how to join\, call Debbie: 01449 740375
URL:https://bildeston.org/event/vips-drama-group/2026-08-27/
LOCATION:Chamberlin Hall
CATEGORIES:Chamberlin Hall
END:VEVENT
BEGIN:VEVENT
DTSTART;TZID=Europe/London:20260828T091500
DTEND;TZID=Europe/London:20260828T113000
DTSTAMP:20260422T021510
CREATED:20211105T110322Z
LAST-MODIFIED:20211105T110322Z
UID:33934-1787908500-1787916600@bildeston.org
SUMMARY:Community coffee centre
DESCRIPTION:Come along to the Bildeston Community Cafe and enjoy tea\, coffee\, scones\, bacon rolls or one of our delicious cup cakes! Parents and children welcome.
URL:https://bildeston.org/event/community-coffee-centre/2026-08-28/
LOCATION:Bildeston Baptist Church\, Duke street\, Bildeston\, IP7 7EW\, United Kingdom
CATEGORIES:Bildeston Baptist Church
ORGANIZER;CN="Bildeston Baptist Church":MAILTO:bildestonbc@gmail.com
END:VEVENT
BEGIN:VEVENT
DTSTART;TZID=Europe/London:20260828T104500
DTEND;TZID=Europe/London:20260828T234500
DTSTAMP:20260422T021510
CREATED:20200510T141707Z
LAST-MODIFIED:20200510T141707Z
UID:33931-1787913900-1787960700@bildeston.org
SUMMARY:Intermediate Pilates
DESCRIPTION:
URL:https://bildeston.org/event/intermediate-pilates/2026-08-28/
LOCATION:Chamberlin Hall
CATEGORIES:Chamberlin Hall
ORGANIZER;CN="Claire Jacobs":MAILTO:claire@fitframephysio.com
END:VEVENT
BEGIN:VEVENT
DTSTART;TZID=Europe/London:20260828T104500
DTEND;TZID=Europe/London:20260828T234500
DTSTAMP:20260422T021510
CREATED:20200510T141707Z
LAST-MODIFIED:20200510T141707Z
UID:33932-1787913900-1787960700@bildeston.org
SUMMARY:Intermediate Pilates
DESCRIPTION:
URL:https://bildeston.org/event/intermediate-pilates-2/2026-08-28/
LOCATION:Chamberlin Hall
CATEGORIES:Chamberlin Hall
ORGANIZER;CN="Claire Jacobs":MAILTO:claire@fitframephysio.com
END:VEVENT
BEGIN:VEVENT
DTSTART;TZID=Europe/London:20260828T120000
DTEND;TZID=Europe/London:20260828T130000
DTSTAMP:20260422T021510
CREATED:20200510T142415Z
LAST-MODIFIED:20200510T142415Z
UID:33933-1787918400-1787922000@bildeston.org
SUMMARY:Beginners Pilates
DESCRIPTION:
URL:https://bildeston.org/event/beginners-pilates-cancelled-2023-05-05/2026-08-28/
LOCATION:Chamberlin Hall
CATEGORIES:Chamberlin Hall
ORGANIZER;CN="Claire Jacobs":MAILTO:claire@fitframephysio.com
END:VEVENT
BEGIN:VEVENT
DTSTART;TZID=Europe/London:20260828T190000
DTEND;TZID=Europe/London:20260828T190000
DTSTAMP:20260422T021510
CREATED:20211105T141555Z
LAST-MODIFIED:20211105T141555Z
UID:33935-1787943600-1787943600@bildeston.org
SUMMARY:Bowling social evening
DESCRIPTION:
URL:https://bildeston.org/event/bowling-social-evening/2026-08-28/
LOCATION:Chamberlin Hall
CATEGORIES:Chamberlin Hall
END:VEVENT
BEGIN:VEVENT
DTSTART;TZID=Europe/London:20260901T110000
DTEND;TZID=Europe/London:20260901T120000
DTSTAMP:20260422T021510
CREATED:20210816T205642Z
LAST-MODIFIED:20210816T205642Z
UID:33981-1788260400-1788264000@bildeston.org
SUMMARY:Rosie’s line dancing
DESCRIPTION:
URL:https://bildeston.org/event/rosies-line-dancing/2026-09-01/
LOCATION:Chamberlin Hall
CATEGORIES:Chamberlin Hall
END:VEVENT
BEGIN:VEVENT
DTSTART;TZID=Europe/London:20260901T130000
DTEND;TZID=Europe/London:20260901T130000
DTSTAMP:20260422T021510
CREATED:20220327T212757Z
LAST-MODIFIED:20220327T212757Z
UID:33984-1788267600-1788267600@bildeston.org
SUMMARY:Zumba Gold!
DESCRIPTION:
URL:https://bildeston.org/event/zumba-gold-3/2026-09-01/
LOCATION:Chamberlin Hall
CATEGORIES:Chamberlin Hall
ORGANIZER;CN="Jo Brown":MAILTO:joanna-m-brown@hotmail.co.uk
END:VEVENT
BEGIN:VEVENT
DTSTART;TZID=Europe/London:20260901T190000
DTEND;TZID=Europe/London:20260901T190000
DTSTAMP:20260422T021510
CREATED:20210816T211454Z
LAST-MODIFIED:20210816T211454Z
UID:33982-1788289200-1788289200@bildeston.org
SUMMARY:Snooker club
DESCRIPTION:
URL:https://bildeston.org/event/snooker-club-2/2026-09-01/
LOCATION:Chamberlin Hall
CATEGORIES:Chamberlin Hall
END:VEVENT
BEGIN:VEVENT
DTSTART;TZID=Europe/London:20260901T193000
DTEND;TZID=Europe/London:20260901T193000
DTSTAMP:20260422T021510
CREATED:20210827T153117Z
LAST-MODIFIED:20210827T153117Z
UID:33983-1788291000-1788291000@bildeston.org
SUMMARY:Bildeston Carpet Bowls Club
DESCRIPTION:New members are very welcome to join our friendly club. Please ring our Club Captain Mike on 01284 827688.
URL:https://bildeston.org/event/bildeston-carpet-bowls-club/2026-09-01/
LOCATION:Chamberlin Hall
CATEGORIES:Chamberlin Hall
END:VEVENT
BEGIN:VEVENT
DTSTART;TZID=Europe/London:20260902T123000
DTEND;TZID=Europe/London:20260902T170000
DTSTAMP:20260422T021510
CREATED:20210923T092930Z
LAST-MODIFIED:20210923T092930Z
UID:33996-1788352200-1788368400@bildeston.org
SUMMARY:Lunch Club
DESCRIPTION:Lunch club runs the first Wednesday each month – please ring 07584 189356 to reserve a place
URL:https://bildeston.org/event/lunch-club-2/2026-09-02/
LOCATION:Bildeston Baptist Church\, Duke street\, Bildeston\, IP7 7EW\, United Kingdom
CATEGORIES:Bildeston Baptist Church
ORGANIZER;CN="Bildeston Baptist Church":MAILTO:bildestonbc@gmail.com
END:VEVENT
BEGIN:VEVENT
DTSTART;TZID=Europe/London:20260903T091500
DTEND;TZID=Europe/London:20260903T101500
DTSTAMP:20260422T021510
CREATED:20211105T141138Z
LAST-MODIFIED:20211105T141138Z
UID:34003-1788426900-1788430500@bildeston.org
SUMMARY:Exercise classes
DESCRIPTION:Call 07718593532 for details
URL:https://bildeston.org/event/exercise-classes/2026-09-03/
LOCATION:Chamberlin Hall
CATEGORIES:Chamberlin Hall
END:VEVENT
BEGIN:VEVENT
DTSTART;TZID=Europe/London:20260903T100000
DTEND;TZID=Europe/London:20260903T104500
DTSTAMP:20260422T021510
CREATED:20210827T162858Z
LAST-MODIFIED:20210827T162858Z
UID:34002-1788429600-1788432300@bildeston.org
SUMMARY:Zumba Gold!
DESCRIPTION:£4 pay as you go \n(Every 10th class free)
URL:https://bildeston.org/event/zumba-gold-2/2026-09-03/
LOCATION:Chamberlin Hall
CATEGORIES:Chamberlin Hall
ORGANIZER;CN="Jo Brown":MAILTO:joanna-m-brown@hotmail.co.uk
END:VEVENT
BEGIN:VEVENT
DTSTART;TZID=Europe/London:20260903T190000
DTEND;TZID=Europe/London:20260903T220000
DTSTAMP:20260422T021510
CREATED:20211105T141438Z
LAST-MODIFIED:20211105T141438Z
UID:34004-1788462000-1788472800@bildeston.org
SUMMARY:VIPs Drama Group
DESCRIPTION:For details on how to join\, call Debbie: 01449 740375
URL:https://bildeston.org/event/vips-drama-group/2026-09-03/
LOCATION:Chamberlin Hall
CATEGORIES:Chamberlin Hall
END:VEVENT
BEGIN:VEVENT
DTSTART;TZID=Europe/London:20260904T091500
DTEND;TZID=Europe/London:20260904T113000
DTSTAMP:20260422T021510
CREATED:20211105T110322Z
LAST-MODIFIED:20211105T110322Z
UID:34014-1788513300-1788521400@bildeston.org
SUMMARY:Community coffee centre
DESCRIPTION:Come along to the Bildeston Community Cafe and enjoy tea\, coffee\, scones\, bacon rolls or one of our delicious cup cakes! Parents and children welcome.
URL:https://bildeston.org/event/community-coffee-centre/2026-09-04/
LOCATION:Bildeston Baptist Church\, Duke street\, Bildeston\, IP7 7EW\, United Kingdom
CATEGORIES:Bildeston Baptist Church
ORGANIZER;CN="Bildeston Baptist Church":MAILTO:bildestonbc@gmail.com
END:VEVENT
BEGIN:VEVENT
DTSTART;TZID=Europe/London:20260904T104500
DTEND;TZID=Europe/London:20260904T234500
DTSTAMP:20260422T021510
CREATED:20200510T141707Z
LAST-MODIFIED:20200510T141707Z
UID:34011-1788518700-1788565500@bildeston.org
SUMMARY:Intermediate Pilates
DESCRIPTION:
URL:https://bildeston.org/event/intermediate-pilates/2026-09-04/
LOCATION:Chamberlin Hall
CATEGORIES:Chamberlin Hall
ORGANIZER;CN="Claire Jacobs":MAILTO:claire@fitframephysio.com
END:VEVENT
BEGIN:VEVENT
DTSTART;TZID=Europe/London:20260904T104500
DTEND;TZID=Europe/London:20260904T234500
DTSTAMP:20260422T021510
CREATED:20200510T141707Z
LAST-MODIFIED:20200510T141707Z
UID:34012-1788518700-1788565500@bildeston.org
SUMMARY:Intermediate Pilates
DESCRIPTION:
URL:https://bildeston.org/event/intermediate-pilates-2/2026-09-04/
LOCATION:Chamberlin Hall
CATEGORIES:Chamberlin Hall
ORGANIZER;CN="Claire Jacobs":MAILTO:claire@fitframephysio.com
END:VEVENT
BEGIN:VEVENT
DTSTART;TZID=Europe/London:20260904T120000
DTEND;TZID=Europe/London:20260904T130000
DTSTAMP:20260422T021510
CREATED:20200510T142415Z
LAST-MODIFIED:20200510T142415Z
UID:34013-1788523200-1788526800@bildeston.org
SUMMARY:Beginners Pilates
DESCRIPTION:
URL:https://bildeston.org/event/beginners-pilates-cancelled-2023-05-05/2026-09-04/
LOCATION:Chamberlin Hall
CATEGORIES:Chamberlin Hall
ORGANIZER;CN="Claire Jacobs":MAILTO:claire@fitframephysio.com
END:VEVENT
BEGIN:VEVENT
DTSTART;TZID=Europe/London:20260904T190000
DTEND;TZID=Europe/London:20260904T190000
DTSTAMP:20260422T021510
CREATED:20211105T141555Z
LAST-MODIFIED:20211105T141555Z
UID:34015-1788548400-1788548400@bildeston.org
SUMMARY:Bowling social evening
DESCRIPTION:
URL:https://bildeston.org/event/bowling-social-evening/2026-09-04/
LOCATION:Chamberlin Hall
CATEGORIES:Chamberlin Hall
END:VEVENT
BEGIN:VEVENT
DTSTART;TZID=Europe/London:20260907T193000
DTEND;TZID=Europe/London:20260907T193000
DTSTAMP:20260422T021510
CREATED:20250926T162458Z
LAST-MODIFIED:20250926T162458Z
UID:73523-1788809400-1788809400@bildeston.org
SUMMARY:Parish Council Meeting
DESCRIPTION:This meeting will be held at Chamberlin Hall. Members of the public are welcome to attend; please see the agenda for more details.
URL:https://bildeston.org/event/parish-council-meeting-58/
LOCATION:Chamberlin Hall
CATEGORIES:Parish Council Meetings
END:VEVENT
BEGIN:VEVENT
DTSTART;TZID=Europe/London:20260908T110000
DTEND;TZID=Europe/London:20260908T120000
DTSTAMP:20260422T021510
CREATED:20210816T205642Z
LAST-MODIFIED:20210816T205642Z
UID:34060-1788865200-1788868800@bildeston.org
SUMMARY:Rosie’s line dancing
DESCRIPTION:
URL:https://bildeston.org/event/rosies-line-dancing/2026-09-08/
LOCATION:Chamberlin Hall
CATEGORIES:Chamberlin Hall
END:VEVENT
BEGIN:VEVENT
DTSTART;TZID=Europe/London:20260908T130000
DTEND;TZID=Europe/London:20260908T130000
DTSTAMP:20260422T021510
CREATED:20220327T212757Z
LAST-MODIFIED:20220327T212757Z
UID:34063-1788872400-1788872400@bildeston.org
SUMMARY:Zumba Gold!
DESCRIPTION:
URL:https://bildeston.org/event/zumba-gold-3/2026-09-08/
LOCATION:Chamberlin Hall
CATEGORIES:Chamberlin Hall
ORGANIZER;CN="Jo Brown":MAILTO:joanna-m-brown@hotmail.co.uk
END:VEVENT
BEGIN:VEVENT
DTSTART;TZID=Europe/London:20260908T190000
DTEND;TZID=Europe/London:20260908T190000
DTSTAMP:20260422T021510
CREATED:20210816T211454Z
LAST-MODIFIED:20210816T211454Z
UID:34061-1788894000-1788894000@bildeston.org
SUMMARY:Snooker club
DESCRIPTION:
URL:https://bildeston.org/event/snooker-club-2/2026-09-08/
LOCATION:Chamberlin Hall
CATEGORIES:Chamberlin Hall
END:VEVENT
BEGIN:VEVENT
DTSTART;TZID=Europe/London:20260908T193000
DTEND;TZID=Europe/London:20260908T193000
DTSTAMP:20260422T021510
CREATED:20210827T153117Z
LAST-MODIFIED:20210827T153117Z
UID:34062-1788895800-1788895800@bildeston.org
SUMMARY:Bildeston Carpet Bowls Club
DESCRIPTION:New members are very welcome to join our friendly club. Please ring our Club Captain Mike on 01284 827688.
URL:https://bildeston.org/event/bildeston-carpet-bowls-club/2026-09-08/
LOCATION:Chamberlin Hall
CATEGORIES:Chamberlin Hall
END:VEVENT
BEGIN:VEVENT
DTSTART;TZID=Europe/London:20260910T091500
DTEND;TZID=Europe/London:20260910T101500
DTSTAMP:20260422T021510
CREATED:20211105T141138Z
LAST-MODIFIED:20211105T141138Z
UID:34082-1789031700-1789035300@bildeston.org
SUMMARY:Exercise classes
DESCRIPTION:Call 07718593532 for details
URL:https://bildeston.org/event/exercise-classes/2026-09-10/
LOCATION:Chamberlin Hall
CATEGORIES:Chamberlin Hall
END:VEVENT
BEGIN:VEVENT
DTSTART;TZID=Europe/London:20260910T100000
DTEND;TZID=Europe/London:20260910T104500
DTSTAMP:20260422T021510
CREATED:20210827T162858Z
LAST-MODIFIED:20210827T162858Z
UID:34081-1789034400-1789037100@bildeston.org
SUMMARY:Zumba Gold!
DESCRIPTION:£4 pay as you go \n(Every 10th class free)
URL:https://bildeston.org/event/zumba-gold-2/2026-09-10/
LOCATION:Chamberlin Hall
CATEGORIES:Chamberlin Hall
ORGANIZER;CN="Jo Brown":MAILTO:joanna-m-brown@hotmail.co.uk
END:VEVENT
BEGIN:VEVENT
DTSTART;TZID=Europe/London:20260910T190000
DTEND;TZID=Europe/London:20260910T220000
DTSTAMP:20260422T021510
CREATED:20211105T141438Z
LAST-MODIFIED:20211105T141438Z
UID:34083-1789066800-1789077600@bildeston.org
SUMMARY:VIPs Drama Group
DESCRIPTION:For details on how to join\, call Debbie: 01449 740375
URL:https://bildeston.org/event/vips-drama-group/2026-09-10/
LOCATION:Chamberlin Hall
CATEGORIES:Chamberlin Hall
END:VEVENT
BEGIN:VEVENT
DTSTART;TZID=Europe/London:20260911T091500
DTEND;TZID=Europe/London:20260911T113000
DTSTAMP:20260422T021510
CREATED:20211105T110322Z
LAST-MODIFIED:20211105T110322Z
UID:34090-1789118100-1789126200@bildeston.org
SUMMARY:Community coffee centre
DESCRIPTION:Come along to the Bildeston Community Cafe and enjoy tea\, coffee\, scones\, bacon rolls or one of our delicious cup cakes! Parents and children welcome.
URL:https://bildeston.org/event/community-coffee-centre/2026-09-11/
LOCATION:Bildeston Baptist Church\, Duke street\, Bildeston\, IP7 7EW\, United Kingdom
CATEGORIES:Bildeston Baptist Church
ORGANIZER;CN="Bildeston Baptist Church":MAILTO:bildestonbc@gmail.com
END:VEVENT
END:VCALENDAR