BEGIN:VCALENDAR
VERSION:2.0
PRODID:-//Bildeston Village - ECPv6.15.18//NONSGML v1.0//EN
CALSCALE:GREGORIAN
METHOD:PUBLISH
X-WR-CALNAME:Bildeston Village
X-ORIGINAL-URL:https://bildeston.org
X-WR-CALDESC:Events for Bildeston Village
REFRESH-INTERVAL;VALUE=DURATION:PT1H
X-Robots-Tag:noindex
X-PUBLISHED-TTL:PT1H
BEGIN:VTIMEZONE
TZID:Europe/London
BEGIN:DAYLIGHT
TZOFFSETFROM:+0000
TZOFFSETTO:+0100
TZNAME:BST
DTSTART:20230326T010000
END:DAYLIGHT
BEGIN:STANDARD
TZOFFSETFROM:+0100
TZOFFSETTO:+0000
TZNAME:GMT
DTSTART:20231029T010000
END:STANDARD
BEGIN:DAYLIGHT
TZOFFSETFROM:+0000
TZOFFSETTO:+0100
TZNAME:BST
DTSTART:20240331T010000
END:DAYLIGHT
BEGIN:STANDARD
TZOFFSETFROM:+0100
TZOFFSETTO:+0000
TZNAME:GMT
DTSTART:20241027T010000
END:STANDARD
BEGIN:DAYLIGHT
TZOFFSETFROM:+0000
TZOFFSETTO:+0100
TZNAME:BST
DTSTART:20250330T010000
END:DAYLIGHT
BEGIN:STANDARD
TZOFFSETFROM:+0100
TZOFFSETTO:+0000
TZNAME:GMT
DTSTART:20251026T010000
END:STANDARD
END:VTIMEZONE
BEGIN:VEVENT
DTSTART;TZID=Europe/London:20240702T130000
DTEND;TZID=Europe/London:20240702T130000
DTSTAMP:20260421T173034
CREATED:20220327T212757Z
LAST-MODIFIED:20220327T212757Z
UID:18621-1719925200-1719925200@bildeston.org
SUMMARY:Zumba Gold!
DESCRIPTION:
URL:https://bildeston.org/event/zumba-gold-3/2024-07-02/
LOCATION:Chamberlin Hall
CATEGORIES:Chamberlin Hall
ORGANIZER;CN="Jo Brown":MAILTO:joanna-m-brown@hotmail.co.uk
END:VEVENT
BEGIN:VEVENT
DTSTART;TZID=Europe/London:20240702T190000
DTEND;TZID=Europe/London:20240702T190000
DTSTAMP:20260421T173034
CREATED:20210816T211454Z
LAST-MODIFIED:20210816T211454Z
UID:18617-1719946800-1719946800@bildeston.org
SUMMARY:Snooker club
DESCRIPTION:
URL:https://bildeston.org/event/snooker-club-2/2024-07-02/
LOCATION:Chamberlin Hall
CATEGORIES:Chamberlin Hall
END:VEVENT
BEGIN:VEVENT
DTSTART;TZID=Europe/London:20240702T193000
DTEND;TZID=Europe/London:20240702T193000
DTSTAMP:20260421T173034
CREATED:20210827T153117Z
LAST-MODIFIED:20210827T153117Z
UID:18618-1719948600-1719948600@bildeston.org
SUMMARY:Bildeston Carpet Bowls Club
DESCRIPTION:New members are very welcome to join our friendly club. Please ring our Club Captain Mike on 01284 827688.
URL:https://bildeston.org/event/bildeston-carpet-bowls-club/2024-07-02/
LOCATION:Chamberlin Hall
CATEGORIES:Chamberlin Hall
END:VEVENT
BEGIN:VEVENT
DTSTART;TZID=Europe/London:20240703T123000
DTEND;TZID=Europe/London:20240703T170000
DTSTAMP:20260421T173034
CREATED:20210923T092930Z
LAST-MODIFIED:20210923T092930Z
UID:18623-1720009800-1720026000@bildeston.org
SUMMARY:Lunch Club
DESCRIPTION:Lunch club runs the first Wednesday each month – please ring 07584 189356 to reserve a place
URL:https://bildeston.org/event/lunch-club-2/2024-07-03/
LOCATION:Bildeston Baptist Church\, Duke street\, Bildeston\, IP7 7EW\, United Kingdom
CATEGORIES:Bildeston Baptist Church
ORGANIZER;CN="Bildeston Baptist Church":MAILTO:bildestonbc@gmail.com
END:VEVENT
BEGIN:VEVENT
DTSTART;TZID=Europe/London:20240704T091500
DTEND;TZID=Europe/London:20240704T101500
DTSTAMP:20260421T173034
CREATED:20211105T141138Z
LAST-MODIFIED:20211105T141138Z
UID:18627-1720084500-1720088100@bildeston.org
SUMMARY:Exercise classes
DESCRIPTION:Call 07718593532 for details
URL:https://bildeston.org/event/exercise-classes/2024-07-04/
LOCATION:Chamberlin Hall
CATEGORIES:Chamberlin Hall
END:VEVENT
BEGIN:VEVENT
DTSTART;TZID=Europe/London:20240704T100000
DTEND;TZID=Europe/London:20240704T104500
DTSTAMP:20260421T173034
CREATED:20210827T162858Z
LAST-MODIFIED:20210827T162858Z
UID:18626-1720087200-1720089900@bildeston.org
SUMMARY:Zumba Gold!
DESCRIPTION:£4 pay as you go \n(Every 10th class free)
URL:https://bildeston.org/event/zumba-gold-2/2024-07-04/
LOCATION:Chamberlin Hall
CATEGORIES:Chamberlin Hall
ORGANIZER;CN="Jo Brown":MAILTO:joanna-m-brown@hotmail.co.uk
END:VEVENT
BEGIN:VEVENT
DTSTART;TZID=Europe/London:20240704T190000
DTEND;TZID=Europe/London:20240704T220000
DTSTAMP:20260421T173034
CREATED:20211105T141438Z
LAST-MODIFIED:20211105T141438Z
UID:18628-1720119600-1720130400@bildeston.org
SUMMARY:VIPs Drama Group
DESCRIPTION:For details on how to join\, call Debbie: 01449 740375
URL:https://bildeston.org/event/vips-drama-group/2024-07-04/
LOCATION:Chamberlin Hall
CATEGORIES:Chamberlin Hall
END:VEVENT
BEGIN:VEVENT
DTSTART;TZID=Europe/London:20240705T091500
DTEND;TZID=Europe/London:20240705T113000
DTSTAMP:20260421T173034
CREATED:20211105T110322Z
LAST-MODIFIED:20211105T110322Z
UID:18637-1720170900-1720179000@bildeston.org
SUMMARY:Community coffee centre
DESCRIPTION:Come along to the Bildeston Community Cafe and enjoy tea\, coffee\, scones\, bacon rolls or one of our delicious cup cakes! Parents and children welcome.
URL:https://bildeston.org/event/community-coffee-centre/2024-07-05/
LOCATION:Bildeston Baptist Church\, Duke street\, Bildeston\, IP7 7EW\, United Kingdom
CATEGORIES:Bildeston Baptist Church
ORGANIZER;CN="Bildeston Baptist Church":MAILTO:bildestonbc@gmail.com
END:VEVENT
BEGIN:VEVENT
DTSTART;TZID=Europe/London:20240705T104500
DTEND;TZID=Europe/London:20240705T234500
DTSTAMP:20260421T173034
CREATED:20200510T141707Z
LAST-MODIFIED:20200510T141707Z
UID:18633-1720176300-1720223100@bildeston.org
SUMMARY:Intermediate Pilates
DESCRIPTION:
URL:https://bildeston.org/event/intermediate-pilates/2024-07-05/
LOCATION:Chamberlin Hall
CATEGORIES:Chamberlin Hall
ORGANIZER;CN="Claire Jacobs":MAILTO:claire@fitframephysio.com
END:VEVENT
BEGIN:VEVENT
DTSTART;TZID=Europe/London:20240705T104500
DTEND;TZID=Europe/London:20240705T234500
DTSTAMP:20260421T173034
CREATED:20200510T141707Z
LAST-MODIFIED:20200510T141707Z
UID:18635-1720176300-1720223100@bildeston.org
SUMMARY:Intermediate Pilates
DESCRIPTION:
URL:https://bildeston.org/event/intermediate-pilates-2/2024-07-05/
LOCATION:Chamberlin Hall
CATEGORIES:Chamberlin Hall
ORGANIZER;CN="Claire Jacobs":MAILTO:claire@fitframephysio.com
END:VEVENT
BEGIN:VEVENT
DTSTART;TZID=Europe/London:20240705T110000
DTEND;TZID=Europe/London:20240705T130000
DTSTAMP:20260421T173034
CREATED:20200510T142415Z
LAST-MODIFIED:20200510T142415Z
UID:21203-1720177200-1720184400@bildeston.org
SUMMARY:Beginners Pilates
DESCRIPTION:(contact Claire: 07900 440141)
URL:https://bildeston.org/event/beginners-pilates/2024-07-05/
LOCATION:Chamberlin Hall
CATEGORIES:Chamberlin Hall
ORGANIZER;CN="Claire Jacobs":MAILTO:claire@fitframephysio.com
END:VEVENT
BEGIN:VEVENT
DTSTART;TZID=Europe/London:20240705T120000
DTEND;TZID=Europe/London:20240705T130000
DTSTAMP:20260421T173034
CREATED:20200510T142415Z
LAST-MODIFIED:20200510T142415Z
UID:18636-1720180800-1720184400@bildeston.org
SUMMARY:Beginners Pilates
DESCRIPTION:
URL:https://bildeston.org/event/beginners-pilates-cancelled-2023-05-05/2024-07-05/
LOCATION:Chamberlin Hall
CATEGORIES:Chamberlin Hall
ORGANIZER;CN="Claire Jacobs":MAILTO:claire@fitframephysio.com
END:VEVENT
BEGIN:VEVENT
DTSTART;TZID=Europe/London:20240705T190000
DTEND;TZID=Europe/London:20240705T190000
DTSTAMP:20260421T173034
CREATED:20211105T141555Z
LAST-MODIFIED:20211105T141555Z
UID:18638-1720206000-1720206000@bildeston.org
SUMMARY:Bowling social evening
DESCRIPTION:
URL:https://bildeston.org/event/bowling-social-evening/2024-07-05/
LOCATION:Chamberlin Hall
CATEGORIES:Chamberlin Hall
END:VEVENT
BEGIN:VEVENT
DTSTART;TZID=Europe/London:20240709T110000
DTEND;TZID=Europe/London:20240709T120000
DTSTAMP:20260421T173034
CREATED:20210816T205642Z
LAST-MODIFIED:20210816T205642Z
UID:18675-1720522800-1720526400@bildeston.org
SUMMARY:Rosie’s line dancing
DESCRIPTION:
URL:https://bildeston.org/event/rosies-line-dancing/2024-07-09/
LOCATION:Chamberlin Hall
CATEGORIES:Chamberlin Hall
END:VEVENT
BEGIN:VEVENT
DTSTART;TZID=Europe/London:20240709T130000
DTEND;TZID=Europe/London:20240709T130000
DTSTAMP:20260421T173034
CREATED:20220327T212757Z
LAST-MODIFIED:20220327T212757Z
UID:18680-1720530000-1720530000@bildeston.org
SUMMARY:Zumba Gold!
DESCRIPTION:
URL:https://bildeston.org/event/zumba-gold-3/2024-07-09/
LOCATION:Chamberlin Hall
CATEGORIES:Chamberlin Hall
ORGANIZER;CN="Jo Brown":MAILTO:joanna-m-brown@hotmail.co.uk
END:VEVENT
BEGIN:VEVENT
DTSTART;TZID=Europe/London:20240709T190000
DTEND;TZID=Europe/London:20240709T190000
DTSTAMP:20260421T173034
CREATED:20210816T211454Z
LAST-MODIFIED:20210816T211454Z
UID:18676-1720551600-1720551600@bildeston.org
SUMMARY:Snooker club
DESCRIPTION:
URL:https://bildeston.org/event/snooker-club-2/2024-07-09/
LOCATION:Chamberlin Hall
CATEGORIES:Chamberlin Hall
END:VEVENT
BEGIN:VEVENT
DTSTART;TZID=Europe/London:20240709T193000
DTEND;TZID=Europe/London:20240709T193000
DTSTAMP:20260421T173034
CREATED:20210827T153117Z
LAST-MODIFIED:20210827T153117Z
UID:18677-1720553400-1720553400@bildeston.org
SUMMARY:Bildeston Carpet Bowls Club
DESCRIPTION:New members are very welcome to join our friendly club. Please ring our Club Captain Mike on 01284 827688.
URL:https://bildeston.org/event/bildeston-carpet-bowls-club/2024-07-09/
LOCATION:Chamberlin Hall
CATEGORIES:Chamberlin Hall
END:VEVENT
BEGIN:VEVENT
DTSTART;TZID=Europe/London:20240711T091500
DTEND;TZID=Europe/London:20240711T101500
DTSTAMP:20260421T173034
CREATED:20211105T141138Z
LAST-MODIFIED:20211105T141138Z
UID:18691-1720689300-1720692900@bildeston.org
SUMMARY:Exercise classes
DESCRIPTION:Call 07718593532 for details
URL:https://bildeston.org/event/exercise-classes/2024-07-11/
LOCATION:Chamberlin Hall
CATEGORIES:Chamberlin Hall
END:VEVENT
BEGIN:VEVENT
DTSTART;TZID=Europe/London:20240711T100000
DTEND;TZID=Europe/London:20240711T104500
DTSTAMP:20260421T173034
CREATED:20210827T162858Z
LAST-MODIFIED:20210827T162858Z
UID:18690-1720692000-1720694700@bildeston.org
SUMMARY:Zumba Gold!
DESCRIPTION:£4 pay as you go \n(Every 10th class free)
URL:https://bildeston.org/event/zumba-gold-2/2024-07-11/
LOCATION:Chamberlin Hall
CATEGORIES:Chamberlin Hall
ORGANIZER;CN="Jo Brown":MAILTO:joanna-m-brown@hotmail.co.uk
END:VEVENT
BEGIN:VEVENT
DTSTART;TZID=Europe/London:20240711T190000
DTEND;TZID=Europe/London:20240711T220000
DTSTAMP:20260421T173034
CREATED:20211105T141438Z
LAST-MODIFIED:20211105T141438Z
UID:18692-1720724400-1720735200@bildeston.org
SUMMARY:VIPs Drama Group
DESCRIPTION:For details on how to join\, call Debbie: 01449 740375
URL:https://bildeston.org/event/vips-drama-group/2024-07-11/
LOCATION:Chamberlin Hall
CATEGORIES:Chamberlin Hall
END:VEVENT
BEGIN:VEVENT
DTSTART;TZID=Europe/London:20240712T091500
DTEND;TZID=Europe/London:20240712T113000
DTSTAMP:20260421T173034
CREATED:20211105T110322Z
LAST-MODIFIED:20211105T110322Z
UID:18717-1720775700-1720783800@bildeston.org
SUMMARY:Community coffee centre
DESCRIPTION:Come along to the Bildeston Community Cafe and enjoy tea\, coffee\, scones\, bacon rolls or one of our delicious cup cakes! Parents and children welcome.
URL:https://bildeston.org/event/community-coffee-centre/2024-07-12/
LOCATION:Bildeston Baptist Church\, Duke street\, Bildeston\, IP7 7EW\, United Kingdom
CATEGORIES:Bildeston Baptist Church
ORGANIZER;CN="Bildeston Baptist Church":MAILTO:bildestonbc@gmail.com
END:VEVENT
BEGIN:VEVENT
DTSTART;TZID=Europe/London:20240712T104500
DTEND;TZID=Europe/London:20240712T234500
DTSTAMP:20260421T173034
CREATED:20200510T141707Z
LAST-MODIFIED:20200510T141707Z
UID:18713-1720781100-1720827900@bildeston.org
SUMMARY:Intermediate Pilates
DESCRIPTION:
URL:https://bildeston.org/event/intermediate-pilates/2024-07-12/
LOCATION:Chamberlin Hall
CATEGORIES:Chamberlin Hall
ORGANIZER;CN="Claire Jacobs":MAILTO:claire@fitframephysio.com
END:VEVENT
BEGIN:VEVENT
DTSTART;TZID=Europe/London:20240712T104500
DTEND;TZID=Europe/London:20240712T234500
DTSTAMP:20260421T173034
CREATED:20200510T141707Z
LAST-MODIFIED:20200510T141707Z
UID:18715-1720781100-1720827900@bildeston.org
SUMMARY:Intermediate Pilates
DESCRIPTION:
URL:https://bildeston.org/event/intermediate-pilates-2/2024-07-12/
LOCATION:Chamberlin Hall
CATEGORIES:Chamberlin Hall
ORGANIZER;CN="Claire Jacobs":MAILTO:claire@fitframephysio.com
END:VEVENT
BEGIN:VEVENT
DTSTART;TZID=Europe/London:20240712T110000
DTEND;TZID=Europe/London:20240712T130000
DTSTAMP:20260421T173034
CREATED:20200510T142415Z
LAST-MODIFIED:20200510T142415Z
UID:21204-1720782000-1720789200@bildeston.org
SUMMARY:Beginners Pilates
DESCRIPTION:(contact Claire: 07900 440141)
URL:https://bildeston.org/event/beginners-pilates/2024-07-12/
LOCATION:Chamberlin Hall
CATEGORIES:Chamberlin Hall
ORGANIZER;CN="Claire Jacobs":MAILTO:claire@fitframephysio.com
END:VEVENT
BEGIN:VEVENT
DTSTART;TZID=Europe/London:20240712T120000
DTEND;TZID=Europe/London:20240712T130000
DTSTAMP:20260421T173034
CREATED:20200510T142415Z
LAST-MODIFIED:20200510T142415Z
UID:18716-1720785600-1720789200@bildeston.org
SUMMARY:Beginners Pilates
DESCRIPTION:
URL:https://bildeston.org/event/beginners-pilates-cancelled-2023-05-05/2024-07-12/
LOCATION:Chamberlin Hall
CATEGORIES:Chamberlin Hall
ORGANIZER;CN="Claire Jacobs":MAILTO:claire@fitframephysio.com
END:VEVENT
BEGIN:VEVENT
DTSTART;TZID=Europe/London:20240712T190000
DTEND;TZID=Europe/London:20240712T190000
DTSTAMP:20260421T173034
CREATED:20211105T141555Z
LAST-MODIFIED:20211105T141555Z
UID:18718-1720810800-1720810800@bildeston.org
SUMMARY:Bowling social evening
DESCRIPTION:
URL:https://bildeston.org/event/bowling-social-evening/2024-07-12/
LOCATION:Chamberlin Hall
CATEGORIES:Chamberlin Hall
END:VEVENT
BEGIN:VEVENT
DTSTART;TZID=Europe/London:20240716T110000
DTEND;TZID=Europe/London:20240716T120000
DTSTAMP:20260421T173034
CREATED:20210816T205642Z
LAST-MODIFIED:20210816T205642Z
UID:18736-1721127600-1721131200@bildeston.org
SUMMARY:Rosie’s line dancing
DESCRIPTION:
URL:https://bildeston.org/event/rosies-line-dancing/2024-07-16/
LOCATION:Chamberlin Hall
CATEGORIES:Chamberlin Hall
END:VEVENT
BEGIN:VEVENT
DTSTART;TZID=Europe/London:20240716T130000
DTEND;TZID=Europe/London:20240716T130000
DTSTAMP:20260421T173034
CREATED:20220327T212757Z
LAST-MODIFIED:20220327T212757Z
UID:18741-1721134800-1721134800@bildeston.org
SUMMARY:Zumba Gold!
DESCRIPTION:
URL:https://bildeston.org/event/zumba-gold-3/2024-07-16/
LOCATION:Chamberlin Hall
CATEGORIES:Chamberlin Hall
ORGANIZER;CN="Jo Brown":MAILTO:joanna-m-brown@hotmail.co.uk
END:VEVENT
BEGIN:VEVENT
DTSTART;TZID=Europe/London:20240716T190000
DTEND;TZID=Europe/London:20240716T190000
DTSTAMP:20260421T173034
CREATED:20210816T211454Z
LAST-MODIFIED:20210816T211454Z
UID:18737-1721156400-1721156400@bildeston.org
SUMMARY:Snooker club
DESCRIPTION:
URL:https://bildeston.org/event/snooker-club-2/2024-07-16/
LOCATION:Chamberlin Hall
CATEGORIES:Chamberlin Hall
END:VEVENT
BEGIN:VEVENT
DTSTART;TZID=Europe/London:20240716T193000
DTEND;TZID=Europe/London:20240716T193000
DTSTAMP:20260421T173034
CREATED:20210827T153117Z
LAST-MODIFIED:20210827T153117Z
UID:18738-1721158200-1721158200@bildeston.org
SUMMARY:Bildeston Carpet Bowls Club
DESCRIPTION:New members are very welcome to join our friendly club. Please ring our Club Captain Mike on 01284 827688.
URL:https://bildeston.org/event/bildeston-carpet-bowls-club/2024-07-16/
LOCATION:Chamberlin Hall
CATEGORIES:Chamberlin Hall
END:VEVENT
END:VCALENDAR