BEGIN:VCALENDAR
VERSION:2.0
PRODID:-//Bildeston Village - ECPv6.15.18//NONSGML v1.0//EN
CALSCALE:GREGORIAN
METHOD:PUBLISH
X-WR-CALNAME:Bildeston Village
X-ORIGINAL-URL:https://bildeston.org
X-WR-CALDESC:Events for Bildeston Village
REFRESH-INTERVAL;VALUE=DURATION:PT1H
X-Robots-Tag:noindex
X-PUBLISHED-TTL:PT1H
BEGIN:VTIMEZONE
TZID:Europe/London
BEGIN:DAYLIGHT
TZOFFSETFROM:+0000
TZOFFSETTO:+0100
TZNAME:BST
DTSTART:20250330T010000
END:DAYLIGHT
BEGIN:STANDARD
TZOFFSETFROM:+0100
TZOFFSETTO:+0000
TZNAME:GMT
DTSTART:20251026T010000
END:STANDARD
BEGIN:DAYLIGHT
TZOFFSETFROM:+0000
TZOFFSETTO:+0100
TZNAME:BST
DTSTART:20260329T010000
END:DAYLIGHT
BEGIN:STANDARD
TZOFFSETFROM:+0100
TZOFFSETTO:+0000
TZNAME:GMT
DTSTART:20261025T010000
END:STANDARD
BEGIN:DAYLIGHT
TZOFFSETFROM:+0000
TZOFFSETTO:+0100
TZNAME:BST
DTSTART:20270328T010000
END:DAYLIGHT
BEGIN:STANDARD
TZOFFSETFROM:+0100
TZOFFSETTO:+0000
TZNAME:GMT
DTSTART:20271031T010000
END:STANDARD
END:VTIMEZONE
BEGIN:VEVENT
DTSTART;TZID=Europe/London:20260730T091500
DTEND;TZID=Europe/London:20260730T101500
DTSTAMP:20260421T181842
CREATED:20211105T141138Z
LAST-MODIFIED:20211105T141138Z
UID:32903-1785402900-1785406500@bildeston.org
SUMMARY:Exercise classes
DESCRIPTION:Call 07718593532 for details
URL:https://bildeston.org/event/exercise-classes/2026-07-30/
LOCATION:Chamberlin Hall
CATEGORIES:Chamberlin Hall
END:VEVENT
BEGIN:VEVENT
DTSTART;TZID=Europe/London:20260730T100000
DTEND;TZID=Europe/London:20260730T104500
DTSTAMP:20260421T181842
CREATED:20210827T162858Z
LAST-MODIFIED:20210827T162858Z
UID:32902-1785405600-1785408300@bildeston.org
SUMMARY:Zumba Gold!
DESCRIPTION:£4 pay as you go \n(Every 10th class free)
URL:https://bildeston.org/event/zumba-gold-2/2026-07-30/
LOCATION:Chamberlin Hall
CATEGORIES:Chamberlin Hall
ORGANIZER;CN="Jo Brown":MAILTO:joanna-m-brown@hotmail.co.uk
END:VEVENT
BEGIN:VEVENT
DTSTART;TZID=Europe/London:20260730T190000
DTEND;TZID=Europe/London:20260730T220000
DTSTAMP:20260421T181842
CREATED:20211105T141438Z
LAST-MODIFIED:20211105T141438Z
UID:32904-1785438000-1785448800@bildeston.org
SUMMARY:VIPs Drama Group
DESCRIPTION:For details on how to join\, call Debbie: 01449 740375
URL:https://bildeston.org/event/vips-drama-group/2026-07-30/
LOCATION:Chamberlin Hall
CATEGORIES:Chamberlin Hall
END:VEVENT
BEGIN:VEVENT
DTSTART;TZID=Europe/London:20260731T091500
DTEND;TZID=Europe/London:20260731T113000
DTSTAMP:20260421T181842
CREATED:20211105T110322Z
LAST-MODIFIED:20211105T110322Z
UID:32969-1785489300-1785497400@bildeston.org
SUMMARY:Community coffee centre
DESCRIPTION:Come along to the Bildeston Community Cafe and enjoy tea\, coffee\, scones\, bacon rolls or one of our delicious cup cakes! Parents and children welcome.
URL:https://bildeston.org/event/community-coffee-centre/2026-07-31/
LOCATION:Bildeston Baptist Church\, Duke street\, Bildeston\, IP7 7EW\, United Kingdom
CATEGORIES:Bildeston Baptist Church
ORGANIZER;CN="Bildeston Baptist Church":MAILTO:bildestonbc@gmail.com
END:VEVENT
BEGIN:VEVENT
DTSTART;TZID=Europe/London:20260731T104500
DTEND;TZID=Europe/London:20260731T234500
DTSTAMP:20260421T181842
CREATED:20200510T141707Z
LAST-MODIFIED:20200510T141707Z
UID:32966-1785494700-1785541500@bildeston.org
SUMMARY:Intermediate Pilates
DESCRIPTION:
URL:https://bildeston.org/event/intermediate-pilates/2026-07-31/
LOCATION:Chamberlin Hall
CATEGORIES:Chamberlin Hall
ORGANIZER;CN="Claire Jacobs":MAILTO:claire@fitframephysio.com
END:VEVENT
BEGIN:VEVENT
DTSTART;TZID=Europe/London:20260731T104500
DTEND;TZID=Europe/London:20260731T234500
DTSTAMP:20260421T181842
CREATED:20200510T141707Z
LAST-MODIFIED:20200510T141707Z
UID:32967-1785494700-1785541500@bildeston.org
SUMMARY:Intermediate Pilates
DESCRIPTION:
URL:https://bildeston.org/event/intermediate-pilates-2/2026-07-31/
LOCATION:Chamberlin Hall
CATEGORIES:Chamberlin Hall
ORGANIZER;CN="Claire Jacobs":MAILTO:claire@fitframephysio.com
END:VEVENT
BEGIN:VEVENT
DTSTART;TZID=Europe/London:20260731T120000
DTEND;TZID=Europe/London:20260731T130000
DTSTAMP:20260421T181842
CREATED:20200510T142415Z
LAST-MODIFIED:20200510T142415Z
UID:32968-1785499200-1785502800@bildeston.org
SUMMARY:Beginners Pilates
DESCRIPTION:
URL:https://bildeston.org/event/beginners-pilates-cancelled-2023-05-05/2026-07-31/
LOCATION:Chamberlin Hall
CATEGORIES:Chamberlin Hall
ORGANIZER;CN="Claire Jacobs":MAILTO:claire@fitframephysio.com
END:VEVENT
BEGIN:VEVENT
DTSTART;TZID=Europe/London:20260731T190000
DTEND;TZID=Europe/London:20260731T190000
DTSTAMP:20260421T181842
CREATED:20211105T141555Z
LAST-MODIFIED:20211105T141555Z
UID:32970-1785524400-1785524400@bildeston.org
SUMMARY:Bowling social evening
DESCRIPTION:
URL:https://bildeston.org/event/bowling-social-evening/2026-07-31/
LOCATION:Chamberlin Hall
CATEGORIES:Chamberlin Hall
END:VEVENT
BEGIN:VEVENT
DTSTART;TZID=Europe/London:20260804T110000
DTEND;TZID=Europe/London:20260804T120000
DTSTAMP:20260421T181842
CREATED:20210816T205642Z
LAST-MODIFIED:20210816T205642Z
UID:33130-1785841200-1785844800@bildeston.org
SUMMARY:Rosie’s line dancing
DESCRIPTION:
URL:https://bildeston.org/event/rosies-line-dancing/2026-08-04/
LOCATION:Chamberlin Hall
CATEGORIES:Chamberlin Hall
END:VEVENT
BEGIN:VEVENT
DTSTART;TZID=Europe/London:20260804T130000
DTEND;TZID=Europe/London:20260804T130000
DTSTAMP:20260421T181842
CREATED:20220327T212757Z
LAST-MODIFIED:20220327T212757Z
UID:33133-1785848400-1785848400@bildeston.org
SUMMARY:Zumba Gold!
DESCRIPTION:
URL:https://bildeston.org/event/zumba-gold-3/2026-08-04/
LOCATION:Chamberlin Hall
CATEGORIES:Chamberlin Hall
ORGANIZER;CN="Jo Brown":MAILTO:joanna-m-brown@hotmail.co.uk
END:VEVENT
BEGIN:VEVENT
DTSTART;TZID=Europe/London:20260804T190000
DTEND;TZID=Europe/London:20260804T190000
DTSTAMP:20260421T181842
CREATED:20210816T211454Z
LAST-MODIFIED:20210816T211454Z
UID:33131-1785870000-1785870000@bildeston.org
SUMMARY:Snooker club
DESCRIPTION:
URL:https://bildeston.org/event/snooker-club-2/2026-08-04/
LOCATION:Chamberlin Hall
CATEGORIES:Chamberlin Hall
END:VEVENT
BEGIN:VEVENT
DTSTART;TZID=Europe/London:20260804T193000
DTEND;TZID=Europe/London:20260804T193000
DTSTAMP:20260421T181842
CREATED:20210827T153117Z
LAST-MODIFIED:20210827T153117Z
UID:33132-1785871800-1785871800@bildeston.org
SUMMARY:Bildeston Carpet Bowls Club
DESCRIPTION:New members are very welcome to join our friendly club. Please ring our Club Captain Mike on 01284 827688.
URL:https://bildeston.org/event/bildeston-carpet-bowls-club/2026-08-04/
LOCATION:Chamberlin Hall
CATEGORIES:Chamberlin Hall
END:VEVENT
BEGIN:VEVENT
DTSTART;TZID=Europe/London:20260805T123000
DTEND;TZID=Europe/London:20260805T170000
DTSTAMP:20260421T181842
CREATED:20210923T092930Z
LAST-MODIFIED:20210923T092930Z
UID:33158-1785933000-1785949200@bildeston.org
SUMMARY:Lunch Club
DESCRIPTION:Lunch club runs the first Wednesday each month – please ring 07584 189356 to reserve a place
URL:https://bildeston.org/event/lunch-club-2/2026-08-05/
LOCATION:Bildeston Baptist Church\, Duke street\, Bildeston\, IP7 7EW\, United Kingdom
CATEGORIES:Bildeston Baptist Church
ORGANIZER;CN="Bildeston Baptist Church":MAILTO:bildestonbc@gmail.com
END:VEVENT
BEGIN:VEVENT
DTSTART;TZID=Europe/London:20260806T091500
DTEND;TZID=Europe/London:20260806T101500
DTSTAMP:20260421T181842
CREATED:20211105T141138Z
LAST-MODIFIED:20211105T141138Z
UID:33226-1786007700-1786011300@bildeston.org
SUMMARY:Exercise classes
DESCRIPTION:Call 07718593532 for details
URL:https://bildeston.org/event/exercise-classes/2026-08-06/
LOCATION:Chamberlin Hall
CATEGORIES:Chamberlin Hall
END:VEVENT
BEGIN:VEVENT
DTSTART;TZID=Europe/London:20260806T100000
DTEND;TZID=Europe/London:20260806T104500
DTSTAMP:20260421T181842
CREATED:20210827T162858Z
LAST-MODIFIED:20210827T162858Z
UID:33225-1786010400-1786013100@bildeston.org
SUMMARY:Zumba Gold!
DESCRIPTION:£4 pay as you go \n(Every 10th class free)
URL:https://bildeston.org/event/zumba-gold-2/2026-08-06/
LOCATION:Chamberlin Hall
CATEGORIES:Chamberlin Hall
ORGANIZER;CN="Jo Brown":MAILTO:joanna-m-brown@hotmail.co.uk
END:VEVENT
BEGIN:VEVENT
DTSTART;TZID=Europe/London:20260806T190000
DTEND;TZID=Europe/London:20260806T220000
DTSTAMP:20260421T181842
CREATED:20211105T141438Z
LAST-MODIFIED:20211105T141438Z
UID:33227-1786042800-1786053600@bildeston.org
SUMMARY:VIPs Drama Group
DESCRIPTION:For details on how to join\, call Debbie: 01449 740375
URL:https://bildeston.org/event/vips-drama-group/2026-08-06/
LOCATION:Chamberlin Hall
CATEGORIES:Chamberlin Hall
END:VEVENT
BEGIN:VEVENT
DTSTART;TZID=Europe/London:20260807T091500
DTEND;TZID=Europe/London:20260807T113000
DTSTAMP:20260421T181842
CREATED:20211105T110322Z
LAST-MODIFIED:20211105T110322Z
UID:33270-1786094100-1786102200@bildeston.org
SUMMARY:Community coffee centre
DESCRIPTION:Come along to the Bildeston Community Cafe and enjoy tea\, coffee\, scones\, bacon rolls or one of our delicious cup cakes! Parents and children welcome.
URL:https://bildeston.org/event/community-coffee-centre/2026-08-07/
LOCATION:Bildeston Baptist Church\, Duke street\, Bildeston\, IP7 7EW\, United Kingdom
CATEGORIES:Bildeston Baptist Church
ORGANIZER;CN="Bildeston Baptist Church":MAILTO:bildestonbc@gmail.com
END:VEVENT
BEGIN:VEVENT
DTSTART;TZID=Europe/London:20260807T104500
DTEND;TZID=Europe/London:20260807T234500
DTSTAMP:20260421T181842
CREATED:20200510T141707Z
LAST-MODIFIED:20200510T141707Z
UID:33267-1786099500-1786146300@bildeston.org
SUMMARY:Intermediate Pilates
DESCRIPTION:
URL:https://bildeston.org/event/intermediate-pilates/2026-08-07/
LOCATION:Chamberlin Hall
CATEGORIES:Chamberlin Hall
ORGANIZER;CN="Claire Jacobs":MAILTO:claire@fitframephysio.com
END:VEVENT
BEGIN:VEVENT
DTSTART;TZID=Europe/London:20260807T104500
DTEND;TZID=Europe/London:20260807T234500
DTSTAMP:20260421T181842
CREATED:20200510T141707Z
LAST-MODIFIED:20200510T141707Z
UID:33268-1786099500-1786146300@bildeston.org
SUMMARY:Intermediate Pilates
DESCRIPTION:
URL:https://bildeston.org/event/intermediate-pilates-2/2026-08-07/
LOCATION:Chamberlin Hall
CATEGORIES:Chamberlin Hall
ORGANIZER;CN="Claire Jacobs":MAILTO:claire@fitframephysio.com
END:VEVENT
BEGIN:VEVENT
DTSTART;TZID=Europe/London:20260807T120000
DTEND;TZID=Europe/London:20260807T130000
DTSTAMP:20260421T181842
CREATED:20200510T142415Z
LAST-MODIFIED:20200510T142415Z
UID:33269-1786104000-1786107600@bildeston.org
SUMMARY:Beginners Pilates
DESCRIPTION:
URL:https://bildeston.org/event/beginners-pilates-cancelled-2023-05-05/2026-08-07/
LOCATION:Chamberlin Hall
CATEGORIES:Chamberlin Hall
ORGANIZER;CN="Claire Jacobs":MAILTO:claire@fitframephysio.com
END:VEVENT
BEGIN:VEVENT
DTSTART;TZID=Europe/London:20260807T190000
DTEND;TZID=Europe/London:20260807T190000
DTSTAMP:20260421T181842
CREATED:20211105T141555Z
LAST-MODIFIED:20211105T141555Z
UID:33271-1786129200-1786129200@bildeston.org
SUMMARY:Bowling social evening
DESCRIPTION:
URL:https://bildeston.org/event/bowling-social-evening/2026-08-07/
LOCATION:Chamberlin Hall
CATEGORIES:Chamberlin Hall
END:VEVENT
BEGIN:VEVENT
DTSTART;TZID=Europe/London:20260811T110000
DTEND;TZID=Europe/London:20260811T120000
DTSTAMP:20260421T181842
CREATED:20210816T205642Z
LAST-MODIFIED:20210816T205642Z
UID:33448-1786446000-1786449600@bildeston.org
SUMMARY:Rosie’s line dancing
DESCRIPTION:
URL:https://bildeston.org/event/rosies-line-dancing/2026-08-11/
LOCATION:Chamberlin Hall
CATEGORIES:Chamberlin Hall
END:VEVENT
BEGIN:VEVENT
DTSTART;TZID=Europe/London:20260811T130000
DTEND;TZID=Europe/London:20260811T130000
DTSTAMP:20260421T181842
CREATED:20220327T212757Z
LAST-MODIFIED:20220327T212757Z
UID:33451-1786453200-1786453200@bildeston.org
SUMMARY:Zumba Gold!
DESCRIPTION:
URL:https://bildeston.org/event/zumba-gold-3/2026-08-11/
LOCATION:Chamberlin Hall
CATEGORIES:Chamberlin Hall
ORGANIZER;CN="Jo Brown":MAILTO:joanna-m-brown@hotmail.co.uk
END:VEVENT
BEGIN:VEVENT
DTSTART;TZID=Europe/London:20260811T190000
DTEND;TZID=Europe/London:20260811T190000
DTSTAMP:20260421T181842
CREATED:20210816T211454Z
LAST-MODIFIED:20210816T211454Z
UID:33449-1786474800-1786474800@bildeston.org
SUMMARY:Snooker club
DESCRIPTION:
URL:https://bildeston.org/event/snooker-club-2/2026-08-11/
LOCATION:Chamberlin Hall
CATEGORIES:Chamberlin Hall
END:VEVENT
BEGIN:VEVENT
DTSTART;TZID=Europe/London:20260811T193000
DTEND;TZID=Europe/London:20260811T193000
DTSTAMP:20260421T181842
CREATED:20210827T153117Z
LAST-MODIFIED:20210827T153117Z
UID:33450-1786476600-1786476600@bildeston.org
SUMMARY:Bildeston Carpet Bowls Club
DESCRIPTION:New members are very welcome to join our friendly club. Please ring our Club Captain Mike on 01284 827688.
URL:https://bildeston.org/event/bildeston-carpet-bowls-club/2026-08-11/
LOCATION:Chamberlin Hall
CATEGORIES:Chamberlin Hall
END:VEVENT
BEGIN:VEVENT
DTSTART;TZID=Europe/London:20260813T091500
DTEND;TZID=Europe/London:20260813T101500
DTSTAMP:20260421T181842
CREATED:20211105T141138Z
LAST-MODIFIED:20211105T141138Z
UID:33569-1786612500-1786616100@bildeston.org
SUMMARY:Exercise classes
DESCRIPTION:Call 07718593532 for details
URL:https://bildeston.org/event/exercise-classes/2026-08-13/
LOCATION:Chamberlin Hall
CATEGORIES:Chamberlin Hall
END:VEVENT
BEGIN:VEVENT
DTSTART;TZID=Europe/London:20260813T100000
DTEND;TZID=Europe/London:20260813T104500
DTSTAMP:20260421T181842
CREATED:20210827T162858Z
LAST-MODIFIED:20210827T162858Z
UID:33568-1786615200-1786617900@bildeston.org
SUMMARY:Zumba Gold!
DESCRIPTION:£4 pay as you go \n(Every 10th class free)
URL:https://bildeston.org/event/zumba-gold-2/2026-08-13/
LOCATION:Chamberlin Hall
CATEGORIES:Chamberlin Hall
ORGANIZER;CN="Jo Brown":MAILTO:joanna-m-brown@hotmail.co.uk
END:VEVENT
BEGIN:VEVENT
DTSTART;TZID=Europe/London:20260813T190000
DTEND;TZID=Europe/London:20260813T220000
DTSTAMP:20260421T181842
CREATED:20211105T141438Z
LAST-MODIFIED:20211105T141438Z
UID:33570-1786647600-1786658400@bildeston.org
SUMMARY:VIPs Drama Group
DESCRIPTION:For details on how to join\, call Debbie: 01449 740375
URL:https://bildeston.org/event/vips-drama-group/2026-08-13/
LOCATION:Chamberlin Hall
CATEGORIES:Chamberlin Hall
END:VEVENT
BEGIN:VEVENT
DTSTART;TZID=Europe/London:20260814T091500
DTEND;TZID=Europe/London:20260814T113000
DTSTAMP:20260421T181842
CREATED:20211105T110322Z
LAST-MODIFIED:20211105T110322Z
UID:33618-1786698900-1786707000@bildeston.org
SUMMARY:Community coffee centre
DESCRIPTION:Come along to the Bildeston Community Cafe and enjoy tea\, coffee\, scones\, bacon rolls or one of our delicious cup cakes! Parents and children welcome.
URL:https://bildeston.org/event/community-coffee-centre/2026-08-14/
LOCATION:Bildeston Baptist Church\, Duke street\, Bildeston\, IP7 7EW\, United Kingdom
CATEGORIES:Bildeston Baptist Church
ORGANIZER;CN="Bildeston Baptist Church":MAILTO:bildestonbc@gmail.com
END:VEVENT
BEGIN:VEVENT
DTSTART;TZID=Europe/London:20260814T104500
DTEND;TZID=Europe/London:20260814T234500
DTSTAMP:20260421T181842
CREATED:20200510T141707Z
LAST-MODIFIED:20200510T141707Z
UID:33615-1786704300-1786751100@bildeston.org
SUMMARY:Intermediate Pilates
DESCRIPTION:
URL:https://bildeston.org/event/intermediate-pilates/2026-08-14/
LOCATION:Chamberlin Hall
CATEGORIES:Chamberlin Hall
ORGANIZER;CN="Claire Jacobs":MAILTO:claire@fitframephysio.com
END:VEVENT
END:VCALENDAR