BEGIN:VCALENDAR
VERSION:2.0
PRODID:-//Bildeston Village - ECPv6.15.18//NONSGML v1.0//EN
CALSCALE:GREGORIAN
METHOD:PUBLISH
X-WR-CALNAME:Bildeston Village
X-ORIGINAL-URL:https://bildeston.org
X-WR-CALDESC:Events for Bildeston Village
REFRESH-INTERVAL;VALUE=DURATION:PT1H
X-Robots-Tag:noindex
X-PUBLISHED-TTL:PT1H
BEGIN:VTIMEZONE
TZID:Europe/London
BEGIN:DAYLIGHT
TZOFFSETFROM:+0000
TZOFFSETTO:+0100
TZNAME:BST
DTSTART:20250330T010000
END:DAYLIGHT
BEGIN:STANDARD
TZOFFSETFROM:+0100
TZOFFSETTO:+0000
TZNAME:GMT
DTSTART:20251026T010000
END:STANDARD
BEGIN:DAYLIGHT
TZOFFSETFROM:+0000
TZOFFSETTO:+0100
TZNAME:BST
DTSTART:20260329T010000
END:DAYLIGHT
BEGIN:STANDARD
TZOFFSETFROM:+0100
TZOFFSETTO:+0000
TZNAME:GMT
DTSTART:20261025T010000
END:STANDARD
BEGIN:DAYLIGHT
TZOFFSETFROM:+0000
TZOFFSETTO:+0100
TZNAME:BST
DTSTART:20270328T010000
END:DAYLIGHT
BEGIN:STANDARD
TZOFFSETFROM:+0100
TZOFFSETTO:+0000
TZNAME:GMT
DTSTART:20271031T010000
END:STANDARD
END:VTIMEZONE
BEGIN:VEVENT
DTSTART;TZID=Europe/London:20261203T091500
DTEND;TZID=Europe/London:20261203T101500
DTSTAMP:20260423T103721
CREATED:20211105T141138Z
LAST-MODIFIED:20211105T141138Z
UID:48844-1796289300-1796292900@bildeston.org
SUMMARY:Exercise classes
DESCRIPTION:Call 07718593532 for details
URL:https://bildeston.org/event/exercise-classes/2026-12-03/
LOCATION:Chamberlin Hall
CATEGORIES:Chamberlin Hall
END:VEVENT
BEGIN:VEVENT
DTSTART;TZID=Europe/London:20261203T100000
DTEND;TZID=Europe/London:20261203T104500
DTSTAMP:20260423T103721
CREATED:20210827T162858Z
LAST-MODIFIED:20210827T162858Z
UID:48843-1796292000-1796294700@bildeston.org
SUMMARY:Zumba Gold!
DESCRIPTION:£4 pay as you go \n(Every 10th class free)
URL:https://bildeston.org/event/zumba-gold-2/2026-12-03/
LOCATION:Chamberlin Hall
CATEGORIES:Chamberlin Hall
ORGANIZER;CN="Jo Brown":MAILTO:joanna-m-brown@hotmail.co.uk
END:VEVENT
BEGIN:VEVENT
DTSTART;TZID=Europe/London:20261203T190000
DTEND;TZID=Europe/London:20261203T220000
DTSTAMP:20260423T103721
CREATED:20211105T141438Z
LAST-MODIFIED:20211105T141438Z
UID:48845-1796324400-1796335200@bildeston.org
SUMMARY:VIPs Drama Group
DESCRIPTION:For details on how to join\, call Debbie: 01449 740375
URL:https://bildeston.org/event/vips-drama-group/2026-12-03/
LOCATION:Chamberlin Hall
CATEGORIES:Chamberlin Hall
END:VEVENT
BEGIN:VEVENT
DTSTART;TZID=Europe/London:20261204T091500
DTEND;TZID=Europe/London:20261204T113000
DTSTAMP:20260423T103721
CREATED:20211105T110322Z
LAST-MODIFIED:20211105T110322Z
UID:48852-1796375700-1796383800@bildeston.org
SUMMARY:Community coffee centre
DESCRIPTION:Come along to the Bildeston Community Cafe and enjoy tea\, coffee\, scones\, bacon rolls or one of our delicious cup cakes! Parents and children welcome.
URL:https://bildeston.org/event/community-coffee-centre/2026-12-04/
LOCATION:Bildeston Baptist Church\, Duke street\, Bildeston\, IP7 7EW\, United Kingdom
CATEGORIES:Bildeston Baptist Church
ORGANIZER;CN="Bildeston Baptist Church":MAILTO:bildestonbc@gmail.com
END:VEVENT
BEGIN:VEVENT
DTSTART;TZID=Europe/London:20261204T104500
DTEND;TZID=Europe/London:20261204T234500
DTSTAMP:20260423T103721
CREATED:20200510T141707Z
LAST-MODIFIED:20200510T141707Z
UID:48849-1796381100-1796427900@bildeston.org
SUMMARY:Intermediate Pilates
DESCRIPTION:
URL:https://bildeston.org/event/intermediate-pilates/2026-12-04/
LOCATION:Chamberlin Hall
CATEGORIES:Chamberlin Hall
ORGANIZER;CN="Claire Jacobs":MAILTO:claire@fitframephysio.com
END:VEVENT
BEGIN:VEVENT
DTSTART;TZID=Europe/London:20261204T104500
DTEND;TZID=Europe/London:20261204T234500
DTSTAMP:20260423T103721
CREATED:20200510T141707Z
LAST-MODIFIED:20200510T141707Z
UID:48850-1796381100-1796427900@bildeston.org
SUMMARY:Intermediate Pilates
DESCRIPTION:
URL:https://bildeston.org/event/intermediate-pilates-2/2026-12-04/
LOCATION:Chamberlin Hall
CATEGORIES:Chamberlin Hall
ORGANIZER;CN="Claire Jacobs":MAILTO:claire@fitframephysio.com
END:VEVENT
BEGIN:VEVENT
DTSTART;TZID=Europe/London:20261204T120000
DTEND;TZID=Europe/London:20261204T130000
DTSTAMP:20260423T103721
CREATED:20200510T142415Z
LAST-MODIFIED:20200510T142415Z
UID:48851-1796385600-1796389200@bildeston.org
SUMMARY:Beginners Pilates
DESCRIPTION:
URL:https://bildeston.org/event/beginners-pilates-cancelled-2023-05-05/2026-12-04/
LOCATION:Chamberlin Hall
CATEGORIES:Chamberlin Hall
ORGANIZER;CN="Claire Jacobs":MAILTO:claire@fitframephysio.com
END:VEVENT
BEGIN:VEVENT
DTSTART;TZID=Europe/London:20261204T190000
DTEND;TZID=Europe/London:20261204T190000
DTSTAMP:20260423T103721
CREATED:20211105T141555Z
LAST-MODIFIED:20211105T141555Z
UID:48853-1796410800-1796410800@bildeston.org
SUMMARY:Bowling social evening
DESCRIPTION:
URL:https://bildeston.org/event/bowling-social-evening/2026-12-04/
LOCATION:Chamberlin Hall
CATEGORIES:Chamberlin Hall
END:VEVENT
BEGIN:VEVENT
DTSTART;TZID=Europe/London:20261207T193000
DTEND;TZID=Europe/London:20261207T193000
DTSTAMP:20260423T103721
CREATED:20250926T162641Z
LAST-MODIFIED:20260211T183524Z
UID:73532-1796671800-1796671800@bildeston.org
SUMMARY:Parish Council Meeting
DESCRIPTION:This meeting will be held at Chamberlin Hall. Members of the public are welcome to attend; please see the agenda for more details.
URL:https://bildeston.org/event/parish-council-meeting-61/
LOCATION:Chamberlin Hall
CATEGORIES:Parish Council Meetings
END:VEVENT
BEGIN:VEVENT
DTSTART;TZID=Europe/London:20261208T110000
DTEND;TZID=Europe/London:20261208T120000
DTSTAMP:20260423T103721
CREATED:20210816T205642Z
LAST-MODIFIED:20210816T205642Z
UID:48871-1796727600-1796731200@bildeston.org
SUMMARY:Rosie’s line dancing
DESCRIPTION:
URL:https://bildeston.org/event/rosies-line-dancing/2026-12-08/
LOCATION:Chamberlin Hall
CATEGORIES:Chamberlin Hall
END:VEVENT
BEGIN:VEVENT
DTSTART;TZID=Europe/London:20261208T130000
DTEND;TZID=Europe/London:20261208T130000
DTSTAMP:20260423T103721
CREATED:20220327T212757Z
LAST-MODIFIED:20220327T212757Z
UID:48874-1796734800-1796734800@bildeston.org
SUMMARY:Zumba Gold!
DESCRIPTION:
URL:https://bildeston.org/event/zumba-gold-3/2026-12-08/
LOCATION:Chamberlin Hall
CATEGORIES:Chamberlin Hall
ORGANIZER;CN="Jo Brown":MAILTO:joanna-m-brown@hotmail.co.uk
END:VEVENT
BEGIN:VEVENT
DTSTART;TZID=Europe/London:20261208T190000
DTEND;TZID=Europe/London:20261208T190000
DTSTAMP:20260423T103721
CREATED:20210816T211454Z
LAST-MODIFIED:20210816T211454Z
UID:48872-1796756400-1796756400@bildeston.org
SUMMARY:Snooker club
DESCRIPTION:
URL:https://bildeston.org/event/snooker-club-2/2026-12-08/
LOCATION:Chamberlin Hall
CATEGORIES:Chamberlin Hall
END:VEVENT
BEGIN:VEVENT
DTSTART;TZID=Europe/London:20261208T193000
DTEND;TZID=Europe/London:20261208T193000
DTSTAMP:20260423T103721
CREATED:20210827T153117Z
LAST-MODIFIED:20210827T153117Z
UID:48873-1796758200-1796758200@bildeston.org
SUMMARY:Bildeston Carpet Bowls Club
DESCRIPTION:New members are very welcome to join our friendly club. Please ring our Club Captain Mike on 01284 827688.
URL:https://bildeston.org/event/bildeston-carpet-bowls-club/2026-12-08/
LOCATION:Chamberlin Hall
CATEGORIES:Chamberlin Hall
END:VEVENT
BEGIN:VEVENT
DTSTART;TZID=Europe/London:20261209T141000
DTEND;TZID=Europe/London:20261209T160000
DTSTAMP:20260423T103721
CREATED:20220124T224416Z
LAST-MODIFIED:20220124T224416Z
UID:48879-1796825400-1796832000@bildeston.org
SUMMARY:Mobile library
DESCRIPTION:The Mobile Library is operating as normal now\, but with the following provisions: \n\nOne customer at a time\nEveryone to sanitise their hands before entering\nStaff will wear face masks and customers encouraged to do the same\nPlease be as quick as possible to allow others time to choose\nThere is a temporary limit of 4 items per person\nAll returned stock is quarantined for 72 hours\nShelves are sanitised between stops\n\nThe Bildeston stops are as follows: \n\nBrooksfield at 14.10 to 14.25\nMarket Square 14.30 to 14.45\nNewberry Road 14.50 to 15.05\nPaddock Way 15.10 to 16.00
URL:https://bildeston.org/event/mobile-library/2026-12-09/
CATEGORIES:Market Square
END:VEVENT
BEGIN:VEVENT
DTSTART;TZID=Europe/London:20261210T091500
DTEND;TZID=Europe/London:20261210T101500
DTSTAMP:20260423T103721
CREATED:20211105T141138Z
LAST-MODIFIED:20211105T141138Z
UID:48883-1796894100-1796897700@bildeston.org
SUMMARY:Exercise classes
DESCRIPTION:Call 07718593532 for details
URL:https://bildeston.org/event/exercise-classes/2026-12-10/
LOCATION:Chamberlin Hall
CATEGORIES:Chamberlin Hall
END:VEVENT
BEGIN:VEVENT
DTSTART;TZID=Europe/London:20261210T100000
DTEND;TZID=Europe/London:20261210T104500
DTSTAMP:20260423T103721
CREATED:20210827T162858Z
LAST-MODIFIED:20210827T162858Z
UID:48882-1796896800-1796899500@bildeston.org
SUMMARY:Zumba Gold!
DESCRIPTION:£4 pay as you go \n(Every 10th class free)
URL:https://bildeston.org/event/zumba-gold-2/2026-12-10/
LOCATION:Chamberlin Hall
CATEGORIES:Chamberlin Hall
ORGANIZER;CN="Jo Brown":MAILTO:joanna-m-brown@hotmail.co.uk
END:VEVENT
BEGIN:VEVENT
DTSTART;TZID=Europe/London:20261210T190000
DTEND;TZID=Europe/London:20261210T220000
DTSTAMP:20260423T103721
CREATED:20211105T141438Z
LAST-MODIFIED:20211105T141438Z
UID:48884-1796929200-1796940000@bildeston.org
SUMMARY:VIPs Drama Group
DESCRIPTION:For details on how to join\, call Debbie: 01449 740375
URL:https://bildeston.org/event/vips-drama-group/2026-12-10/
LOCATION:Chamberlin Hall
CATEGORIES:Chamberlin Hall
END:VEVENT
BEGIN:VEVENT
DTSTART;TZID=Europe/London:20261211T091500
DTEND;TZID=Europe/London:20261211T113000
DTSTAMP:20260423T103721
CREATED:20211105T110322Z
LAST-MODIFIED:20211105T110322Z
UID:48892-1796980500-1796988600@bildeston.org
SUMMARY:Community coffee centre
DESCRIPTION:Come along to the Bildeston Community Cafe and enjoy tea\, coffee\, scones\, bacon rolls or one of our delicious cup cakes! Parents and children welcome.
URL:https://bildeston.org/event/community-coffee-centre/2026-12-11/
LOCATION:Bildeston Baptist Church\, Duke street\, Bildeston\, IP7 7EW\, United Kingdom
CATEGORIES:Bildeston Baptist Church
ORGANIZER;CN="Bildeston Baptist Church":MAILTO:bildestonbc@gmail.com
END:VEVENT
BEGIN:VEVENT
DTSTART;TZID=Europe/London:20261211T104500
DTEND;TZID=Europe/London:20261211T234500
DTSTAMP:20260423T103721
CREATED:20200510T141707Z
LAST-MODIFIED:20200510T141707Z
UID:48889-1796985900-1797032700@bildeston.org
SUMMARY:Intermediate Pilates
DESCRIPTION:
URL:https://bildeston.org/event/intermediate-pilates/2026-12-11/
LOCATION:Chamberlin Hall
CATEGORIES:Chamberlin Hall
ORGANIZER;CN="Claire Jacobs":MAILTO:claire@fitframephysio.com
END:VEVENT
BEGIN:VEVENT
DTSTART;TZID=Europe/London:20261211T104500
DTEND;TZID=Europe/London:20261211T234500
DTSTAMP:20260423T103721
CREATED:20200510T141707Z
LAST-MODIFIED:20200510T141707Z
UID:48890-1796985900-1797032700@bildeston.org
SUMMARY:Intermediate Pilates
DESCRIPTION:
URL:https://bildeston.org/event/intermediate-pilates-2/2026-12-11/
LOCATION:Chamberlin Hall
CATEGORIES:Chamberlin Hall
ORGANIZER;CN="Claire Jacobs":MAILTO:claire@fitframephysio.com
END:VEVENT
BEGIN:VEVENT
DTSTART;TZID=Europe/London:20261211T120000
DTEND;TZID=Europe/London:20261211T130000
DTSTAMP:20260423T103721
CREATED:20200510T142415Z
LAST-MODIFIED:20200510T142415Z
UID:48891-1796990400-1796994000@bildeston.org
SUMMARY:Beginners Pilates
DESCRIPTION:
URL:https://bildeston.org/event/beginners-pilates-cancelled-2023-05-05/2026-12-11/
LOCATION:Chamberlin Hall
CATEGORIES:Chamberlin Hall
ORGANIZER;CN="Claire Jacobs":MAILTO:claire@fitframephysio.com
END:VEVENT
BEGIN:VEVENT
DTSTART;TZID=Europe/London:20261211T190000
DTEND;TZID=Europe/London:20261211T190000
DTSTAMP:20260423T103721
CREATED:20211105T141555Z
LAST-MODIFIED:20211105T141555Z
UID:48893-1797015600-1797015600@bildeston.org
SUMMARY:Bowling social evening
DESCRIPTION:
URL:https://bildeston.org/event/bowling-social-evening/2026-12-11/
LOCATION:Chamberlin Hall
CATEGORIES:Chamberlin Hall
END:VEVENT
BEGIN:VEVENT
DTSTART;TZID=Europe/London:20261215T110000
DTEND;TZID=Europe/London:20261215T120000
DTSTAMP:20260423T103721
CREATED:20210816T205642Z
LAST-MODIFIED:20210816T205642Z
UID:48941-1797332400-1797336000@bildeston.org
SUMMARY:Rosie’s line dancing
DESCRIPTION:
URL:https://bildeston.org/event/rosies-line-dancing/2026-12-15/
LOCATION:Chamberlin Hall
CATEGORIES:Chamberlin Hall
END:VEVENT
BEGIN:VEVENT
DTSTART;TZID=Europe/London:20261215T130000
DTEND;TZID=Europe/London:20261215T130000
DTSTAMP:20260423T103721
CREATED:20220327T212757Z
LAST-MODIFIED:20220327T212757Z
UID:48944-1797339600-1797339600@bildeston.org
SUMMARY:Zumba Gold!
DESCRIPTION:
URL:https://bildeston.org/event/zumba-gold-3/2026-12-15/
LOCATION:Chamberlin Hall
CATEGORIES:Chamberlin Hall
ORGANIZER;CN="Jo Brown":MAILTO:joanna-m-brown@hotmail.co.uk
END:VEVENT
BEGIN:VEVENT
DTSTART;TZID=Europe/London:20261215T190000
DTEND;TZID=Europe/London:20261215T190000
DTSTAMP:20260423T103721
CREATED:20210816T211454Z
LAST-MODIFIED:20210816T211454Z
UID:48942-1797361200-1797361200@bildeston.org
SUMMARY:Snooker club
DESCRIPTION:
URL:https://bildeston.org/event/snooker-club-2/2026-12-15/
LOCATION:Chamberlin Hall
CATEGORIES:Chamberlin Hall
END:VEVENT
BEGIN:VEVENT
DTSTART;TZID=Europe/London:20261215T193000
DTEND;TZID=Europe/London:20261215T193000
DTSTAMP:20260423T103721
CREATED:20210827T153117Z
LAST-MODIFIED:20210827T153117Z
UID:48943-1797363000-1797363000@bildeston.org
SUMMARY:Bildeston Carpet Bowls Club
DESCRIPTION:New members are very welcome to join our friendly club. Please ring our Club Captain Mike on 01284 827688.
URL:https://bildeston.org/event/bildeston-carpet-bowls-club/2026-12-15/
LOCATION:Chamberlin Hall
CATEGORIES:Chamberlin Hall
END:VEVENT
BEGIN:VEVENT
DTSTART;TZID=Europe/London:20261217T091500
DTEND;TZID=Europe/London:20261217T101500
DTSTAMP:20260423T103721
CREATED:20211105T141138Z
LAST-MODIFIED:20211105T141138Z
UID:48979-1797498900-1797502500@bildeston.org
SUMMARY:Exercise classes
DESCRIPTION:Call 07718593532 for details
URL:https://bildeston.org/event/exercise-classes/2026-12-17/
LOCATION:Chamberlin Hall
CATEGORIES:Chamberlin Hall
END:VEVENT
BEGIN:VEVENT
DTSTART;TZID=Europe/London:20261217T100000
DTEND;TZID=Europe/London:20261217T104500
DTSTAMP:20260423T103721
CREATED:20210827T162858Z
LAST-MODIFIED:20210827T162858Z
UID:48978-1797501600-1797504300@bildeston.org
SUMMARY:Zumba Gold!
DESCRIPTION:£4 pay as you go \n(Every 10th class free)
URL:https://bildeston.org/event/zumba-gold-2/2026-12-17/
LOCATION:Chamberlin Hall
CATEGORIES:Chamberlin Hall
ORGANIZER;CN="Jo Brown":MAILTO:joanna-m-brown@hotmail.co.uk
END:VEVENT
BEGIN:VEVENT
DTSTART;TZID=Europe/London:20261217T190000
DTEND;TZID=Europe/London:20261217T220000
DTSTAMP:20260423T103721
CREATED:20211105T141438Z
LAST-MODIFIED:20211105T141438Z
UID:48980-1797534000-1797544800@bildeston.org
SUMMARY:VIPs Drama Group
DESCRIPTION:For details on how to join\, call Debbie: 01449 740375
URL:https://bildeston.org/event/vips-drama-group/2026-12-17/
LOCATION:Chamberlin Hall
CATEGORIES:Chamberlin Hall
END:VEVENT
BEGIN:VEVENT
DTSTART;TZID=Europe/London:20261218T091500
DTEND;TZID=Europe/London:20261218T113000
DTSTAMP:20260423T103721
CREATED:20211105T110322Z
LAST-MODIFIED:20211105T110322Z
UID:48991-1797585300-1797593400@bildeston.org
SUMMARY:Community coffee centre
DESCRIPTION:Come along to the Bildeston Community Cafe and enjoy tea\, coffee\, scones\, bacon rolls or one of our delicious cup cakes! Parents and children welcome.
URL:https://bildeston.org/event/community-coffee-centre/2026-12-18/
LOCATION:Bildeston Baptist Church\, Duke street\, Bildeston\, IP7 7EW\, United Kingdom
CATEGORIES:Bildeston Baptist Church
ORGANIZER;CN="Bildeston Baptist Church":MAILTO:bildestonbc@gmail.com
END:VEVENT
END:VCALENDAR