BEGIN:VCALENDAR
VERSION:2.0
PRODID:-//Bildeston Village - ECPv6.15.18//NONSGML v1.0//EN
CALSCALE:GREGORIAN
METHOD:PUBLISH
X-ORIGINAL-URL:https://bildeston.org
X-WR-CALDESC:Events for Bildeston Village
REFRESH-INTERVAL;VALUE=DURATION:PT1H
X-Robots-Tag:noindex
X-PUBLISHED-TTL:PT1H
BEGIN:VTIMEZONE
TZID:Europe/London
BEGIN:DAYLIGHT
TZOFFSETFROM:+0000
TZOFFSETTO:+0100
TZNAME:BST
DTSTART:20250330T010000
END:DAYLIGHT
BEGIN:STANDARD
TZOFFSETFROM:+0100
TZOFFSETTO:+0000
TZNAME:GMT
DTSTART:20251026T010000
END:STANDARD
BEGIN:DAYLIGHT
TZOFFSETFROM:+0000
TZOFFSETTO:+0100
TZNAME:BST
DTSTART:20260329T010000
END:DAYLIGHT
BEGIN:STANDARD
TZOFFSETFROM:+0100
TZOFFSETTO:+0000
TZNAME:GMT
DTSTART:20261025T010000
END:STANDARD
BEGIN:DAYLIGHT
TZOFFSETFROM:+0000
TZOFFSETTO:+0100
TZNAME:BST
DTSTART:20270328T010000
END:DAYLIGHT
BEGIN:STANDARD
TZOFFSETFROM:+0100
TZOFFSETTO:+0000
TZNAME:GMT
DTSTART:20271031T010000
END:STANDARD
END:VTIMEZONE
BEGIN:VEVENT
DTSTART;TZID=Europe/London:20260529T104500
DTEND;TZID=Europe/London:20260529T234500
DTSTAMP:20260420T005529
CREATED:20200510T141707Z
LAST-MODIFIED:20200510T141707Z
UID:30732-1780051500-1780098300@bildeston.org
SUMMARY:Intermediate Pilates
DESCRIPTION:
URL:https://bildeston.org/event/intermediate-pilates/2026-05-29/
LOCATION:Chamberlin Hall
CATEGORIES:Chamberlin Hall
ORGANIZER;CN="Claire Jacobs":MAILTO:claire@fitframephysio.com
END:VEVENT
BEGIN:VEVENT
DTSTART;TZID=Europe/London:20260529T104500
DTEND;TZID=Europe/London:20260529T234500
DTSTAMP:20260420T005529
CREATED:20200510T141707Z
LAST-MODIFIED:20200510T141707Z
UID:30733-1780051500-1780098300@bildeston.org
SUMMARY:Intermediate Pilates
DESCRIPTION:
URL:https://bildeston.org/event/intermediate-pilates-2/2026-05-29/
LOCATION:Chamberlin Hall
CATEGORIES:Chamberlin Hall
ORGANIZER;CN="Claire Jacobs":MAILTO:claire@fitframephysio.com
END:VEVENT
BEGIN:VEVENT
DTSTART;TZID=Europe/London:20260529T120000
DTEND;TZID=Europe/London:20260529T130000
DTSTAMP:20260420T005529
CREATED:20200510T142415Z
LAST-MODIFIED:20200510T142415Z
UID:30734-1780056000-1780059600@bildeston.org
SUMMARY:Beginners Pilates
DESCRIPTION:
URL:https://bildeston.org/event/beginners-pilates-cancelled-2023-05-05/2026-05-29/
LOCATION:Chamberlin Hall
CATEGORIES:Chamberlin Hall
ORGANIZER;CN="Claire Jacobs":MAILTO:claire@fitframephysio.com
END:VEVENT
BEGIN:VEVENT
DTSTART;TZID=Europe/London:20260529T190000
DTEND;TZID=Europe/London:20260529T190000
DTSTAMP:20260420T005529
CREATED:20211105T141555Z
LAST-MODIFIED:20211105T141555Z
UID:30736-1780081200-1780081200@bildeston.org
SUMMARY:Bowling social evening
DESCRIPTION:
URL:https://bildeston.org/event/bowling-social-evening/2026-05-29/
LOCATION:Chamberlin Hall
CATEGORIES:Chamberlin Hall
END:VEVENT
BEGIN:VEVENT
DTSTART;TZID=Europe/London:20260601T193000
DTEND;TZID=Europe/London:20260601T193000
DTSTAMP:20260420T005529
CREATED:20250926T162352Z
LAST-MODIFIED:20250926T162352Z
UID:73517-1780342200-1780342200@bildeston.org
SUMMARY:Parish Council Meeting
DESCRIPTION:This meeting will be held at Chamberlin Hall. Members of the public are welcome to attend; please see the agenda for more details.
URL:https://bildeston.org/event/parish-council-meeting-56/
LOCATION:Chamberlin Hall
CATEGORIES:Parish Council Meetings
END:VEVENT
BEGIN:VEVENT
DTSTART;TZID=Europe/London:20260602T110000
DTEND;TZID=Europe/London:20260602T120000
DTSTAMP:20260420T005529
CREATED:20210816T205642Z
LAST-MODIFIED:20210816T205642Z
UID:30894-1780398000-1780401600@bildeston.org
SUMMARY:Rosie’s line dancing
DESCRIPTION:
URL:https://bildeston.org/event/rosies-line-dancing/2026-06-02/
LOCATION:Chamberlin Hall
CATEGORIES:Chamberlin Hall
END:VEVENT
BEGIN:VEVENT
DTSTART;TZID=Europe/London:20260602T130000
DTEND;TZID=Europe/London:20260602T130000
DTSTAMP:20260420T005529
CREATED:20220327T212757Z
LAST-MODIFIED:20220327T212757Z
UID:30897-1780405200-1780405200@bildeston.org
SUMMARY:Zumba Gold!
DESCRIPTION:
URL:https://bildeston.org/event/zumba-gold-3/2026-06-02/
LOCATION:Chamberlin Hall
CATEGORIES:Chamberlin Hall
ORGANIZER;CN="Jo Brown":MAILTO:joanna-m-brown@hotmail.co.uk
END:VEVENT
BEGIN:VEVENT
DTSTART;TZID=Europe/London:20260602T190000
DTEND;TZID=Europe/London:20260602T190000
DTSTAMP:20260420T005529
CREATED:20210816T211454Z
LAST-MODIFIED:20210816T211454Z
UID:30895-1780426800-1780426800@bildeston.org
SUMMARY:Snooker club
DESCRIPTION:
URL:https://bildeston.org/event/snooker-club-2/2026-06-02/
LOCATION:Chamberlin Hall
CATEGORIES:Chamberlin Hall
END:VEVENT
BEGIN:VEVENT
DTSTART;TZID=Europe/London:20260602T193000
DTEND;TZID=Europe/London:20260602T193000
DTSTAMP:20260420T005529
CREATED:20210827T153117Z
LAST-MODIFIED:20210827T153117Z
UID:30896-1780428600-1780428600@bildeston.org
SUMMARY:Bildeston Carpet Bowls Club
DESCRIPTION:New members are very welcome to join our friendly club. Please ring our Club Captain Mike on 01284 827688.
URL:https://bildeston.org/event/bildeston-carpet-bowls-club/2026-06-02/
LOCATION:Chamberlin Hall
CATEGORIES:Chamberlin Hall
END:VEVENT
BEGIN:VEVENT
DTSTART;TZID=Europe/London:20260603T123000
DTEND;TZID=Europe/London:20260603T170000
DTSTAMP:20260420T005529
CREATED:20210923T092930Z
LAST-MODIFIED:20210923T092930Z
UID:30960-1780489800-1780506000@bildeston.org
SUMMARY:Lunch Club
DESCRIPTION:Lunch club runs the first Wednesday each month – please ring 07584 189356 to reserve a place
URL:https://bildeston.org/event/lunch-club-2/2026-06-03/
LOCATION:Bildeston Baptist Church\, Duke street\, Bildeston\, IP7 7EW\, United Kingdom
CATEGORIES:Bildeston Baptist Church
ORGANIZER;CN="Bildeston Baptist Church":MAILTO:bildestonbc@gmail.com
END:VEVENT
BEGIN:VEVENT
DTSTART;TZID=Europe/London:20260604T091500
DTEND;TZID=Europe/London:20260604T101500
DTSTAMP:20260420T005529
CREATED:20211105T141138Z
LAST-MODIFIED:20211105T141138Z
UID:31300-1780564500-1780568100@bildeston.org
SUMMARY:Exercise classes
DESCRIPTION:Call 07718593532 for details
URL:https://bildeston.org/event/exercise-classes/2026-06-04/
LOCATION:Chamberlin Hall
CATEGORIES:Chamberlin Hall
END:VEVENT
BEGIN:VEVENT
DTSTART;TZID=Europe/London:20260604T100000
DTEND;TZID=Europe/London:20260604T104500
DTSTAMP:20260420T005529
CREATED:20210827T162858Z
LAST-MODIFIED:20210827T162858Z
UID:31299-1780567200-1780569900@bildeston.org
SUMMARY:Zumba Gold!
DESCRIPTION:£4 pay as you go \n(Every 10th class free)
URL:https://bildeston.org/event/zumba-gold-2/2026-06-04/
LOCATION:Chamberlin Hall
CATEGORIES:Chamberlin Hall
ORGANIZER;CN="Jo Brown":MAILTO:joanna-m-brown@hotmail.co.uk
END:VEVENT
BEGIN:VEVENT
DTSTART;TZID=Europe/London:20260604T190000
DTEND;TZID=Europe/London:20260604T220000
DTSTAMP:20260420T005529
CREATED:20211105T141438Z
LAST-MODIFIED:20211105T141438Z
UID:31301-1780599600-1780610400@bildeston.org
SUMMARY:VIPs Drama Group
DESCRIPTION:For details on how to join\, call Debbie: 01449 740375
URL:https://bildeston.org/event/vips-drama-group/2026-06-04/
LOCATION:Chamberlin Hall
CATEGORIES:Chamberlin Hall
END:VEVENT
BEGIN:VEVENT
DTSTART;TZID=Europe/London:20260605T091500
DTEND;TZID=Europe/London:20260605T113000
DTSTAMP:20260420T005529
CREATED:20211105T110322Z
LAST-MODIFIED:20211105T110322Z
UID:31392-1780650900-1780659000@bildeston.org
SUMMARY:Community coffee centre
DESCRIPTION:Come along to the Bildeston Community Cafe and enjoy tea\, coffee\, scones\, bacon rolls or one of our delicious cup cakes! Parents and children welcome.
URL:https://bildeston.org/event/community-coffee-centre/2026-06-05/
LOCATION:Bildeston Baptist Church\, Duke street\, Bildeston\, IP7 7EW\, United Kingdom
CATEGORIES:Bildeston Baptist Church
ORGANIZER;CN="Bildeston Baptist Church":MAILTO:bildestonbc@gmail.com
END:VEVENT
BEGIN:VEVENT
DTSTART;TZID=Europe/London:20260605T104500
DTEND;TZID=Europe/London:20260605T234500
DTSTAMP:20260420T005529
CREATED:20200510T141707Z
LAST-MODIFIED:20200510T141707Z
UID:31389-1780656300-1780703100@bildeston.org
SUMMARY:Intermediate Pilates
DESCRIPTION:
URL:https://bildeston.org/event/intermediate-pilates/2026-06-05/
LOCATION:Chamberlin Hall
CATEGORIES:Chamberlin Hall
ORGANIZER;CN="Claire Jacobs":MAILTO:claire@fitframephysio.com
END:VEVENT
BEGIN:VEVENT
DTSTART;TZID=Europe/London:20260605T104500
DTEND;TZID=Europe/London:20260605T234500
DTSTAMP:20260420T005529
CREATED:20200510T141707Z
LAST-MODIFIED:20200510T141707Z
UID:31390-1780656300-1780703100@bildeston.org
SUMMARY:Intermediate Pilates
DESCRIPTION:
URL:https://bildeston.org/event/intermediate-pilates-2/2026-06-05/
LOCATION:Chamberlin Hall
CATEGORIES:Chamberlin Hall
ORGANIZER;CN="Claire Jacobs":MAILTO:claire@fitframephysio.com
END:VEVENT
BEGIN:VEVENT
DTSTART;TZID=Europe/London:20260605T120000
DTEND;TZID=Europe/London:20260605T130000
DTSTAMP:20260420T005529
CREATED:20200510T142415Z
LAST-MODIFIED:20200510T142415Z
UID:31391-1780660800-1780664400@bildeston.org
SUMMARY:Beginners Pilates
DESCRIPTION:
URL:https://bildeston.org/event/beginners-pilates-cancelled-2023-05-05/2026-06-05/
LOCATION:Chamberlin Hall
CATEGORIES:Chamberlin Hall
ORGANIZER;CN="Claire Jacobs":MAILTO:claire@fitframephysio.com
END:VEVENT
BEGIN:VEVENT
DTSTART;TZID=Europe/London:20260605T190000
DTEND;TZID=Europe/London:20260605T190000
DTSTAMP:20260420T005529
CREATED:20211105T141555Z
LAST-MODIFIED:20211105T141555Z
UID:31393-1780686000-1780686000@bildeston.org
SUMMARY:Bowling social evening
DESCRIPTION:
URL:https://bildeston.org/event/bowling-social-evening/2026-06-05/
LOCATION:Chamberlin Hall
CATEGORIES:Chamberlin Hall
END:VEVENT
BEGIN:VEVENT
DTSTART;TZID=Europe/London:20260609T110000
DTEND;TZID=Europe/London:20260609T120000
DTSTAMP:20260420T005529
CREATED:20210816T205642Z
LAST-MODIFIED:20210816T205642Z
UID:31671-1781002800-1781006400@bildeston.org
SUMMARY:Rosie’s line dancing
DESCRIPTION:
URL:https://bildeston.org/event/rosies-line-dancing/2026-06-09/
LOCATION:Chamberlin Hall
CATEGORIES:Chamberlin Hall
END:VEVENT
BEGIN:VEVENT
DTSTART;TZID=Europe/London:20260609T130000
DTEND;TZID=Europe/London:20260609T130000
DTSTAMP:20260420T005529
CREATED:20220327T212757Z
LAST-MODIFIED:20220327T212757Z
UID:31674-1781010000-1781010000@bildeston.org
SUMMARY:Zumba Gold!
DESCRIPTION:
URL:https://bildeston.org/event/zumba-gold-3/2026-06-09/
LOCATION:Chamberlin Hall
CATEGORIES:Chamberlin Hall
ORGANIZER;CN="Jo Brown":MAILTO:joanna-m-brown@hotmail.co.uk
END:VEVENT
BEGIN:VEVENT
DTSTART;TZID=Europe/London:20260609T190000
DTEND;TZID=Europe/London:20260609T190000
DTSTAMP:20260420T005529
CREATED:20210816T211454Z
LAST-MODIFIED:20210816T211454Z
UID:31672-1781031600-1781031600@bildeston.org
SUMMARY:Snooker club
DESCRIPTION:
URL:https://bildeston.org/event/snooker-club-2/2026-06-09/
LOCATION:Chamberlin Hall
CATEGORIES:Chamberlin Hall
END:VEVENT
BEGIN:VEVENT
DTSTART;TZID=Europe/London:20260609T193000
DTEND;TZID=Europe/London:20260609T193000
DTSTAMP:20260420T005529
CREATED:20210827T153117Z
LAST-MODIFIED:20210827T153117Z
UID:31673-1781033400-1781033400@bildeston.org
SUMMARY:Bildeston Carpet Bowls Club
DESCRIPTION:New members are very welcome to join our friendly club. Please ring our Club Captain Mike on 01284 827688.
URL:https://bildeston.org/event/bildeston-carpet-bowls-club/2026-06-09/
LOCATION:Chamberlin Hall
CATEGORIES:Chamberlin Hall
END:VEVENT
BEGIN:VEVENT
DTSTART;TZID=Europe/London:20260611T091500
DTEND;TZID=Europe/London:20260611T101500
DTSTAMP:20260420T005529
CREATED:20211105T141138Z
LAST-MODIFIED:20211105T141138Z
UID:31693-1781169300-1781172900@bildeston.org
SUMMARY:Exercise classes
DESCRIPTION:Call 07718593532 for details
URL:https://bildeston.org/event/exercise-classes/2026-06-11/
LOCATION:Chamberlin Hall
CATEGORIES:Chamberlin Hall
END:VEVENT
BEGIN:VEVENT
DTSTART;TZID=Europe/London:20260611T100000
DTEND;TZID=Europe/London:20260611T104500
DTSTAMP:20260420T005529
CREATED:20210827T162858Z
LAST-MODIFIED:20210827T162858Z
UID:31692-1781172000-1781174700@bildeston.org
SUMMARY:Zumba Gold!
DESCRIPTION:£4 pay as you go \n(Every 10th class free)
URL:https://bildeston.org/event/zumba-gold-2/2026-06-11/
LOCATION:Chamberlin Hall
CATEGORIES:Chamberlin Hall
ORGANIZER;CN="Jo Brown":MAILTO:joanna-m-brown@hotmail.co.uk
END:VEVENT
BEGIN:VEVENT
DTSTART;TZID=Europe/London:20260611T190000
DTEND;TZID=Europe/London:20260611T220000
DTSTAMP:20260420T005529
CREATED:20211105T141438Z
LAST-MODIFIED:20211105T141438Z
UID:31694-1781204400-1781215200@bildeston.org
SUMMARY:VIPs Drama Group
DESCRIPTION:For details on how to join\, call Debbie: 01449 740375
URL:https://bildeston.org/event/vips-drama-group/2026-06-11/
LOCATION:Chamberlin Hall
CATEGORIES:Chamberlin Hall
END:VEVENT
BEGIN:VEVENT
DTSTART;TZID=Europe/London:20260612T091500
DTEND;TZID=Europe/London:20260612T113000
DTSTAMP:20260420T005529
CREATED:20211105T110322Z
LAST-MODIFIED:20211105T110322Z
UID:31705-1781255700-1781263800@bildeston.org
SUMMARY:Community coffee centre
DESCRIPTION:Come along to the Bildeston Community Cafe and enjoy tea\, coffee\, scones\, bacon rolls or one of our delicious cup cakes! Parents and children welcome.
URL:https://bildeston.org/event/community-coffee-centre/2026-06-12/
LOCATION:Bildeston Baptist Church\, Duke street\, Bildeston\, IP7 7EW\, United Kingdom
CATEGORIES:Bildeston Baptist Church
ORGANIZER;CN="Bildeston Baptist Church":MAILTO:bildestonbc@gmail.com
END:VEVENT
BEGIN:VEVENT
DTSTART;TZID=Europe/London:20260612T104500
DTEND;TZID=Europe/London:20260612T234500
DTSTAMP:20260420T005529
CREATED:20200510T141707Z
LAST-MODIFIED:20200510T141707Z
UID:31702-1781261100-1781307900@bildeston.org
SUMMARY:Intermediate Pilates
DESCRIPTION:
URL:https://bildeston.org/event/intermediate-pilates/2026-06-12/
LOCATION:Chamberlin Hall
CATEGORIES:Chamberlin Hall
ORGANIZER;CN="Claire Jacobs":MAILTO:claire@fitframephysio.com
END:VEVENT
BEGIN:VEVENT
DTSTART;TZID=Europe/London:20260612T104500
DTEND;TZID=Europe/London:20260612T234500
DTSTAMP:20260420T005529
CREATED:20200510T141707Z
LAST-MODIFIED:20200510T141707Z
UID:31703-1781261100-1781307900@bildeston.org
SUMMARY:Intermediate Pilates
DESCRIPTION:
URL:https://bildeston.org/event/intermediate-pilates-2/2026-06-12/
LOCATION:Chamberlin Hall
CATEGORIES:Chamberlin Hall
ORGANIZER;CN="Claire Jacobs":MAILTO:claire@fitframephysio.com
END:VEVENT
BEGIN:VEVENT
DTSTART;TZID=Europe/London:20260612T120000
DTEND;TZID=Europe/London:20260612T130000
DTSTAMP:20260420T005529
CREATED:20200510T142415Z
LAST-MODIFIED:20200510T142415Z
UID:31704-1781265600-1781269200@bildeston.org
SUMMARY:Beginners Pilates
DESCRIPTION:
URL:https://bildeston.org/event/beginners-pilates-cancelled-2023-05-05/2026-06-12/
LOCATION:Chamberlin Hall
CATEGORIES:Chamberlin Hall
ORGANIZER;CN="Claire Jacobs":MAILTO:claire@fitframephysio.com
END:VEVENT
BEGIN:VEVENT
DTSTART;TZID=Europe/London:20260612T190000
DTEND;TZID=Europe/London:20260612T190000
DTSTAMP:20260420T005529
CREATED:20211105T141555Z
LAST-MODIFIED:20211105T141555Z
UID:31706-1781290800-1781290800@bildeston.org
SUMMARY:Bowling social evening
DESCRIPTION:
URL:https://bildeston.org/event/bowling-social-evening/2026-06-12/
LOCATION:Chamberlin Hall
CATEGORIES:Chamberlin Hall
END:VEVENT
END:VCALENDAR