BEGIN:VCALENDAR
VERSION:2.0
PRODID:-//Bildeston Village - ECPv6.15.18//NONSGML v1.0//EN
CALSCALE:GREGORIAN
METHOD:PUBLISH
X-WR-CALNAME:Bildeston Village
X-ORIGINAL-URL:https://bildeston.org
X-WR-CALDESC:Events for Bildeston Village
REFRESH-INTERVAL;VALUE=DURATION:PT1H
X-Robots-Tag:noindex
X-PUBLISHED-TTL:PT1H
BEGIN:VTIMEZONE
TZID:Europe/London
BEGIN:DAYLIGHT
TZOFFSETFROM:+0000
TZOFFSETTO:+0100
TZNAME:BST
DTSTART:20210328T010000
END:DAYLIGHT
BEGIN:STANDARD
TZOFFSETFROM:+0100
TZOFFSETTO:+0000
TZNAME:GMT
DTSTART:20211031T010000
END:STANDARD
BEGIN:DAYLIGHT
TZOFFSETFROM:+0000
TZOFFSETTO:+0100
TZNAME:BST
DTSTART:20220327T010000
END:DAYLIGHT
BEGIN:STANDARD
TZOFFSETFROM:+0100
TZOFFSETTO:+0000
TZNAME:GMT
DTSTART:20221030T010000
END:STANDARD
BEGIN:DAYLIGHT
TZOFFSETFROM:+0000
TZOFFSETTO:+0100
TZNAME:BST
DTSTART:20230326T010000
END:DAYLIGHT
BEGIN:STANDARD
TZOFFSETFROM:+0100
TZOFFSETTO:+0000
TZNAME:GMT
DTSTART:20231029T010000
END:STANDARD
BEGIN:DAYLIGHT
TZOFFSETFROM:+0000
TZOFFSETTO:+0100
TZNAME:BST
DTSTART:20240331T010000
END:DAYLIGHT
BEGIN:STANDARD
TZOFFSETFROM:+0100
TZOFFSETTO:+0000
TZNAME:GMT
DTSTART:20241027T010000
END:STANDARD
END:VTIMEZONE
BEGIN:VEVENT
DTSTART;TZID=Europe/London:20230101T110000
DTEND;TZID=Europe/London:20230101T110000
DTSTAMP:20260420T165639
CREATED:20230106T111252Z
LAST-MODIFIED:20230106T111252Z
UID:22379-1672570800-1672570800@bildeston.org
SUMMARY:Services in the Benefice
DESCRIPTION:
URL:https://bildeston.org/event/services-in-the-benefice/
LOCATION:Morning Prayer at St Mary Magdalene Bildeston
END:VEVENT
BEGIN:VEVENT
DTSTART;TZID=Europe/London:20230101T104500
DTEND;TZID=Europe/London:20230101T104500
DTSTAMP:20260420T165639
CREATED:20230106T112035Z
LAST-MODIFIED:20230106T113542Z
UID:22387-1672569900-1672569900@bildeston.org
SUMMARY:Service in the Deanery Holy Communion
DESCRIPTION:
URL:https://bildeston.org/event/service-in-the-deanery-holy-communion-2/
LOCATION:BCP – Holy Communion at St Mary’s Church\, Hadleigh
END:VEVENT
BEGIN:VEVENT
DTSTART;TZID=Europe/London:20230101T080000
DTEND;TZID=Europe/London:20230101T080000
DTSTAMP:20260420T165639
CREATED:20230106T111920Z
LAST-MODIFIED:20230106T111920Z
UID:22383-1672560000-1672560000@bildeston.org
SUMMARY:Service in the Deanery Holy Communion
DESCRIPTION:
URL:https://bildeston.org/event/service-in-the-deanery-holy-communion/
LOCATION:BCP – Holy Communion at St Mary’s Church\, Hadleigh
END:VEVENT
BEGIN:VEVENT
DTSTART;TZID=Europe/London:20221231T193000
DTEND;TZID=Europe/London:20221231T193000
DTSTAMP:20260420T165639
CREATED:20221123T114628Z
LAST-MODIFIED:20221123T114628Z
UID:22095-1672515000-1672515000@bildeston.org
SUMMARY:New Year’s Eve Party
DESCRIPTION:
URL:https://bildeston.org/event/new-years-eve-party/
END:VEVENT
BEGIN:VEVENT
DTSTART;VALUE=DATE:20221228
DTEND;VALUE=DATE:20221229
DTSTAMP:20260420T165639
CREATED:20221123T121602Z
LAST-MODIFIED:20221123T121602Z
UID:22165-1672185600-1672271999@bildeston.org
SUMMARY:Bildeston Garden Group
DESCRIPTION:call Debbie 07948083769
URL:https://bildeston.org/event/bildeston-garden-group-4/
END:VEVENT
BEGIN:VEVENT
DTSTART;TZID=Europe/London:20221225T093000
DTEND;TZID=Europe/London:20221225T093000
DTSTAMP:20260420T165639
CREATED:20221123T120943Z
LAST-MODIFIED:20221123T121002Z
UID:22147-1671960600-1671960600@bildeston.org
SUMMARY:Services in the Brett Valley Benefice
DESCRIPTION:
URL:https://bildeston.org/event/services-in-the-brett-valley-benefice-15/
LOCATION:Christmas Holy C at Semer
END:VEVENT
BEGIN:VEVENT
DTSTART;TZID=Europe/London:20221224T233000
DTEND;TZID=Europe/London:20221224T233000
DTSTAMP:20260420T165639
CREATED:20221123T121050Z
LAST-MODIFIED:20221123T121050Z
UID:22151-1671924600-1671924600@bildeston.org
SUMMARY:Services in the Brett Valley Benefice
DESCRIPTION:
URL:https://bildeston.org/event/services-in-the-brett-valley-benefice-16/
LOCATION:Midnight Service at Bildeston
END:VEVENT
BEGIN:VEVENT
DTSTART;TZID=Europe/London:20221224T170000
DTEND;TZID=Europe/London:20221224T170000
DTSTAMP:20260420T165639
CREATED:20221123T120849Z
LAST-MODIFIED:20221123T120849Z
UID:22144-1671901200-1671901200@bildeston.org
SUMMARY:Services in the Brett Valley Benefice
DESCRIPTION:
URL:https://bildeston.org/event/services-in-the-brett-valley-benefice-14/
LOCATION:Crib/Carol Service at Whatfield
END:VEVENT
BEGIN:VEVENT
DTSTART;TZID=Europe/London:20221224T160000
DTEND;TZID=Europe/London:20221224T160000
DTSTAMP:20260420T165639
CREATED:20221123T120756Z
LAST-MODIFIED:20221123T120756Z
UID:22140-1671897600-1671897600@bildeston.org
SUMMARY:Services in the Brett Valley Benefice
DESCRIPTION:
URL:https://bildeston.org/event/services-in-the-brett-valley-benefice-13/
LOCATION:Crib Service at Bildeston
END:VEVENT
BEGIN:VEVENT
DTSTART;TZID=Europe/London:20221222T193000
DTEND;TZID=Europe/London:20221222T193000
DTSTAMP:20260420T165639
CREATED:20221123T114709Z
LAST-MODIFIED:20221123T114727Z
UID:22098-1671737400-1671737400@bildeston.org
SUMMARY:Bildeston Waytes Carols 2022
DESCRIPTION:Thursday 22nd December at 7.30pm\nCALLING ALL SINGERS AND MUSICIANS!\nThe “Waytes Carols” evening is an extremely popular\nChristmas event in Bildeston. An enthusiastic audience joins\ntalented local musicians and singers at Chamberlin Hall for\na fun-filled evening of festive singing!\nIf you sing or play an instrument\, please consider joining us\nfor this ever-popular event. We will rehearse from 6pm\,\nwith the festivities starting at 7.30pm.\nDetails of the music will be available in advance.\nOur website has all the information you need\,\nincluding how to order tickets:\nwww.bildestonwaytes.com\nThis where Christmas begins –\nI look forward to seeing you there!\nnansi@bildestonwaytes.com\n07773034635
URL:https://bildeston.org/event/bildeston-waytes-carols-2022/
END:VEVENT
BEGIN:VEVENT
DTSTART;TZID=Europe/London:20221218T183000
DTEND;TZID=Europe/London:20221218T183000
DTSTAMP:20260420T165639
CREATED:20221123T120704Z
LAST-MODIFIED:20221123T120704Z
UID:22136-1671388200-1671388200@bildeston.org
SUMMARY:Services in the Brett Valley Benefice
DESCRIPTION:
URL:https://bildeston.org/event/services-in-the-brett-valley-benefice-12/
LOCATION:Carol Service at Bildeston
END:VEVENT
BEGIN:VEVENT
DTSTART;TZID=Europe/London:20221218T170000
DTEND;TZID=Europe/London:20221218T170000
DTSTAMP:20260420T165639
CREATED:20221123T120626Z
LAST-MODIFIED:20221123T120626Z
UID:22132-1671382800-1671382800@bildeston.org
SUMMARY:Services in the Brett Valley Benefice
DESCRIPTION:
URL:https://bildeston.org/event/services-in-the-brett-valley-benefice-11/
LOCATION:Carol Service at Nedging
END:VEVENT
BEGIN:VEVENT
DTSTART;TZID=Europe/London:20221218T150000
DTEND;TZID=Europe/London:20221218T150000
DTSTAMP:20260420T165639
CREATED:20221123T120545Z
LAST-MODIFIED:20221123T120545Z
UID:22128-1671375600-1671375600@bildeston.org
SUMMARY:Services in the Brett Valley Benefice
DESCRIPTION:
URL:https://bildeston.org/event/services-in-the-brett-valley-benefice-10/
LOCATION:Carol/Crib Service at Semer
END:VEVENT
BEGIN:VEVENT
DTSTART;TZID=Europe/London:20221218T150000
DTEND;TZID=Europe/London:20221218T150000
DTSTAMP:20260420T165639
CREATED:20221123T114548Z
LAST-MODIFIED:20221123T114548Z
UID:22092-1671375600-1671375600@bildeston.org
SUMMARY:Family Christmas Disco
DESCRIPTION:
URL:https://bildeston.org/event/family-christmas-disco/
END:VEVENT
BEGIN:VEVENT
DTSTART;TZID=Europe/London:20221217T173000
DTEND;TZID=Europe/London:20221217T173000
DTSTAMP:20260420T165639
CREATED:20221123T115733Z
LAST-MODIFIED:20221123T115733Z
UID:22123-1671298200-1671298200@bildeston.org
SUMMARY:Services in the Brett Valley Benefice
DESCRIPTION:
URL:https://bildeston.org/event/services-in-the-brett-valley-benefice-9/
LOCATION:Carol Service at Lindsey
END:VEVENT
BEGIN:VEVENT
DTSTART;TZID=Europe/London:20221217T120000
DTEND;TZID=Europe/London:20221217T123000
DTSTAMP:20260420T165639
CREATED:20220927T125125Z
LAST-MODIFIED:20220927T125125Z
UID:21588-1671278400-1671280200@bildeston.org
SUMMARY:Over 60 Christman Lunch 2022
DESCRIPTION:over 60
URL:https://bildeston.org/event/over-60-christman-lunch-2022/
LOCATION:Chamberlin Hall
CATEGORIES:Chamberlin Hall
END:VEVENT
BEGIN:VEVENT
DTSTART;TZID=Europe/London:20221212T190000
DTEND;TZID=Europe/London:20221212T190000
DTSTAMP:20260420T165639
CREATED:20220406T160623Z
LAST-MODIFIED:20220408T101924Z
UID:18183-1670871600-1670871600@bildeston.org
SUMMARY:Parish Council meeting
DESCRIPTION:This meeting will be held at Baptist Hall\, Duke Street . Members of the public are welcome to attend; please see the agenda for more details.
URL:https://bildeston.org/event/parish-council-meeting-22/
LOCATION:Baptist Hall\, Duke Street
CATEGORIES:Parish Council Meetings
END:VEVENT
BEGIN:VEVENT
DTSTART;TZID=Europe/London:20221211T180000
DTEND;TZID=Europe/London:20221211T180000
DTSTAMP:20260420T165639
CREATED:20221123T115642Z
LAST-MODIFIED:20221123T115642Z
UID:22119-1670781600-1670781600@bildeston.org
SUMMARY:Services in the Brett Valley Benefice
DESCRIPTION:
URL:https://bildeston.org/event/services-in-the-brett-valley-benefice-8/
LOCATION:Carol Service at  Naughton
END:VEVENT
BEGIN:VEVENT
DTSTART;TZID=Europe/London:20221211T120000
DTEND;TZID=Europe/London:20221211T170000
DTSTAMP:20260420T165639
CREATED:20221122T164248Z
LAST-MODIFIED:20221122T180529Z
UID:21966-1670760000-1670778000@bildeston.org
SUMMARY:BNatural Christmas Market
DESCRIPTION:BNatural Christmas Market in Bildeston Village Square \nFeaturing: \n\nLocal gifts and craft stalls\nCarols from Bildeston Primary School\nSanta’s Grotto\nThe BNatural Bar & more….\n\nApproximate timings: \nOpening: 12.00 \nSanta: 14:00-15:00 \nSchool carols: 15:00-15:30 \nSanta: 15:30-16:00 \nVillage Carols: 16:30-17.00 \nClose: 17.00
URL:https://bildeston.org/event/bnatural-christmas-market/
LOCATION:Market Square
CATEGORIES:BNatural Events
END:VEVENT
BEGIN:VEVENT
DTSTART;TZID=Europe/London:20221211T110000
DTEND;TZID=Europe/London:20221211T110000
DTSTAMP:20260420T165639
CREATED:20221123T115552Z
LAST-MODIFIED:20221123T115552Z
UID:22116-1670756400-1670756400@bildeston.org
SUMMARY:Services in the Brett Valley Benefice
DESCRIPTION:
URL:https://bildeston.org/event/services-in-the-brett-valley-benefice-7/
LOCATION:Holy Communion at Whatfield
END:VEVENT
BEGIN:VEVENT
DTSTART;TZID=Europe/London:20221210T093000
DTEND;TZID=Europe/London:20221210T093000
DTSTAMP:20260420T165639
CREATED:20221123T114914Z
LAST-MODIFIED:20221123T114914Z
UID:22105-1670664600-1670664600@bildeston.org
SUMMARY:BILDESTON COMMUNITY CYCLING
DESCRIPTION:Why not join our monthly Saturday morning Winter Warmer series?\nThese rides are for riders of all abilities.\nWINTER WARMER 3\nJOIN US FOR A RIDE OF ABOUT 25 MILES\,\nSTARTING FROM THE MARKET PLACE\nAT 9.30am\, ON SATURDAY 10 DECEMBER.\nCAFE STOP HALFWAY. BACK ABOUT 12.30pm.\nPUT IT IN THE DIARY NOW!\nWarm clothing recommended. The ride will be mainly on quiet lanes\,\nat an acceptable speed (no-one left behind!). Regret no\nunaccompanied children under 16.\nJUST TURN UP; or for more information\, contact Robin Weaver 741048
URL:https://bildeston.org/event/bildeston-community-cycling-5/
END:VEVENT
BEGIN:VEVENT
DTSTART;TZID=Europe/London:20221207T193000
DTEND;TZID=Europe/London:20221207T233000
DTSTAMP:20260420T165639
CREATED:20221123T114331Z
LAST-MODIFIED:20221123T114331Z
UID:22080-1670441400-1670455800@bildeston.org
SUMMARY:Open Mic Night
DESCRIPTION:
URL:https://bildeston.org/event/open-mic-night-4/2022-12-07/
END:VEVENT
BEGIN:VEVENT
DTSTART;TZID=Europe/London:20221207T193000
DTEND;TZID=Europe/London:20221207T213000
DTSTAMP:20260420T165639
CREATED:20221123T114437Z
LAST-MODIFIED:20221123T114437Z
UID:22086-1670441400-1670448600@bildeston.org
SUMMARY:Snooker Club
DESCRIPTION:Contact George Miller 07508 402370
URL:https://bildeston.org/event/snooker-club-5/2022-12-07/
END:VEVENT
BEGIN:VEVENT
DTSTART;TZID=Europe/London:20221207T121500
DTEND;TZID=Europe/London:20221207T123000
DTSTAMP:20260420T165639
CREATED:20221123T121155Z
LAST-MODIFIED:20221123T121155Z
UID:22155-1670415300-1670416200@bildeston.org
SUMMARY:Baptist Church
DESCRIPTION:
URL:https://bildeston.org/event/baptist-church-3/
END:VEVENT
BEGIN:VEVENT
DTSTART;TZID=Europe/London:20221205T154500
DTEND;TZID=Europe/London:20221205T211500
DTSTAMP:20260420T165639
CREATED:20221123T114154Z
LAST-MODIFIED:20221123T114154Z
UID:22074-1670255100-1670274900@bildeston.org
SUMMARY:Miss Lesley’s Dance classes
DESCRIPTION:(07957 351941)
URL:https://bildeston.org/event/miss-lesleys-dance-classes-3/2022-12-05/
END:VEVENT
BEGIN:VEVENT
DTSTART;TZID=Europe/London:20221204T110000
DTEND;TZID=Europe/London:20221204T110000
DTSTAMP:20260420T165639
CREATED:20221123T115455Z
LAST-MODIFIED:20221123T115455Z
UID:22112-1670151600-1670151600@bildeston.org
SUMMARY:Services in the Brett Valley Benefice
DESCRIPTION:
URL:https://bildeston.org/event/services-in-the-brett-valley-benefice-6/
LOCATION:Morning Prayer at Nedging
END:VEVENT
BEGIN:VEVENT
DTSTART;TZID=Europe/London:20221204T110000
DTEND;TZID=Europe/London:20221204T110000
DTSTAMP:20260420T165639
CREATED:20221123T115356Z
LAST-MODIFIED:20221123T115356Z
UID:22108-1670151600-1670151600@bildeston.org
SUMMARY:Services in the Brett Valley Benefice
DESCRIPTION:
URL:https://bildeston.org/event/services-in-the-brett-valley-benefice-5/
LOCATION:Holy Communion at Bildeston
END:VEVENT
BEGIN:VEVENT
DTSTART;TZID=Europe/London:20221202T091500
DTEND;TZID=Europe/London:20221202T113000
DTSTAMP:20260420T165639
CREATED:20221123T121342Z
LAST-MODIFIED:20221123T121342Z
UID:22158-1669972500-1669980600@bildeston.org
SUMMARY:Community Coffee Centre
DESCRIPTION:
URL:https://bildeston.org/event/community-coffee-centre-5/2022-12-02/
LOCATION:Bildeston Church
CATEGORIES:Bildeston Baptist Church
END:VEVENT
BEGIN:VEVENT
DTSTART;TZID=Europe/London:20221201T193000
DTEND;TZID=Europe/London:20221201T193000
DTSTAMP:20260420T165639
CREATED:20221123T114824Z
LAST-MODIFIED:20221123T114824Z
UID:22102-1669923000-1669923000@bildeston.org
SUMMARY:Bildeston Ladies Club
DESCRIPTION:Christmas Party\nWith fundraising games for\nEast Anglian Air Ambulance\nThursday December 1st\nDoors open 7:30 p.m.\nPlease bring nibbles to share\nand your Secret Santa gift. \nOur Christmas meal will be at The Crown on\nThursday 8th December – 7:00 p.m. for 7:30 p.m.\nI look forward to celebrating with you all.\nHAPPY CHRISTMAS to everyone in Bildeston.\nJo Silburn\n01449 257045
URL:https://bildeston.org/event/bildeston-ladies-club-3/
END:VEVENT
BEGIN:VEVENT
DTSTART;VALUE=DATE:20221130
DTEND;VALUE=DATE:20221201
DTSTAMP:20260420T165639
CREATED:20221123T110954Z
LAST-MODIFIED:20221123T110954Z
UID:22065-1669766400-1669852799@bildeston.org
SUMMARY:Bildeston Garden Group
DESCRIPTION:call Debbie 07948083769
URL:https://bildeston.org/event/bildeston-garden-group-3/
END:VEVENT
END:VCALENDAR