BEGIN:VCALENDAR
VERSION:2.0
PRODID:-//Bildeston Village - ECPv6.15.18//NONSGML v1.0//EN
CALSCALE:GREGORIAN
METHOD:PUBLISH
X-WR-CALNAME:Bildeston Village
X-ORIGINAL-URL:https://bildeston.org
X-WR-CALDESC:Events for Bildeston Village
REFRESH-INTERVAL;VALUE=DURATION:PT1H
X-Robots-Tag:noindex
X-PUBLISHED-TTL:PT1H
BEGIN:VTIMEZONE
TZID:Europe/London
BEGIN:DAYLIGHT
TZOFFSETFROM:+0000
TZOFFSETTO:+0100
TZNAME:BST
DTSTART:20250330T010000
END:DAYLIGHT
BEGIN:STANDARD
TZOFFSETFROM:+0100
TZOFFSETTO:+0000
TZNAME:GMT
DTSTART:20251026T010000
END:STANDARD
BEGIN:DAYLIGHT
TZOFFSETFROM:+0000
TZOFFSETTO:+0100
TZNAME:BST
DTSTART:20260329T010000
END:DAYLIGHT
BEGIN:STANDARD
TZOFFSETFROM:+0100
TZOFFSETTO:+0000
TZNAME:GMT
DTSTART:20261025T010000
END:STANDARD
BEGIN:DAYLIGHT
TZOFFSETFROM:+0000
TZOFFSETTO:+0100
TZNAME:BST
DTSTART:20270328T010000
END:DAYLIGHT
BEGIN:STANDARD
TZOFFSETFROM:+0100
TZOFFSETTO:+0000
TZNAME:GMT
DTSTART:20271031T010000
END:STANDARD
END:VTIMEZONE
BEGIN:VEVENT
DTSTART;TZID=Europe/London:20260908T190000
DTEND;TZID=Europe/London:20260908T190000
DTSTAMP:20260422T033059
CREATED:20210816T211454Z
LAST-MODIFIED:20210816T211454Z
UID:34061-1788894000-1788894000@bildeston.org
SUMMARY:Snooker club
DESCRIPTION:
URL:https://bildeston.org/event/snooker-club-2/2026-09-08/
LOCATION:Chamberlin Hall
CATEGORIES:Chamberlin Hall
END:VEVENT
BEGIN:VEVENT
DTSTART;TZID=Europe/London:20260908T193000
DTEND;TZID=Europe/London:20260908T193000
DTSTAMP:20260422T033059
CREATED:20210827T153117Z
LAST-MODIFIED:20210827T153117Z
UID:34062-1788895800-1788895800@bildeston.org
SUMMARY:Bildeston Carpet Bowls Club
DESCRIPTION:New members are very welcome to join our friendly club. Please ring our Club Captain Mike on 01284 827688.
URL:https://bildeston.org/event/bildeston-carpet-bowls-club/2026-09-08/
LOCATION:Chamberlin Hall
CATEGORIES:Chamberlin Hall
END:VEVENT
BEGIN:VEVENT
DTSTART;TZID=Europe/London:20260910T091500
DTEND;TZID=Europe/London:20260910T101500
DTSTAMP:20260422T033059
CREATED:20211105T141138Z
LAST-MODIFIED:20211105T141138Z
UID:34082-1789031700-1789035300@bildeston.org
SUMMARY:Exercise classes
DESCRIPTION:Call 07718593532 for details
URL:https://bildeston.org/event/exercise-classes/2026-09-10/
LOCATION:Chamberlin Hall
CATEGORIES:Chamberlin Hall
END:VEVENT
BEGIN:VEVENT
DTSTART;TZID=Europe/London:20260910T100000
DTEND;TZID=Europe/London:20260910T104500
DTSTAMP:20260422T033059
CREATED:20210827T162858Z
LAST-MODIFIED:20210827T162858Z
UID:34081-1789034400-1789037100@bildeston.org
SUMMARY:Zumba Gold!
DESCRIPTION:£4 pay as you go \n(Every 10th class free)
URL:https://bildeston.org/event/zumba-gold-2/2026-09-10/
LOCATION:Chamberlin Hall
CATEGORIES:Chamberlin Hall
ORGANIZER;CN="Jo Brown":MAILTO:joanna-m-brown@hotmail.co.uk
END:VEVENT
BEGIN:VEVENT
DTSTART;TZID=Europe/London:20260910T190000
DTEND;TZID=Europe/London:20260910T220000
DTSTAMP:20260422T033059
CREATED:20211105T141438Z
LAST-MODIFIED:20211105T141438Z
UID:34083-1789066800-1789077600@bildeston.org
SUMMARY:VIPs Drama Group
DESCRIPTION:For details on how to join\, call Debbie: 01449 740375
URL:https://bildeston.org/event/vips-drama-group/2026-09-10/
LOCATION:Chamberlin Hall
CATEGORIES:Chamberlin Hall
END:VEVENT
BEGIN:VEVENT
DTSTART;TZID=Europe/London:20260911T091500
DTEND;TZID=Europe/London:20260911T113000
DTSTAMP:20260422T033059
CREATED:20211105T110322Z
LAST-MODIFIED:20211105T110322Z
UID:34090-1789118100-1789126200@bildeston.org
SUMMARY:Community coffee centre
DESCRIPTION:Come along to the Bildeston Community Cafe and enjoy tea\, coffee\, scones\, bacon rolls or one of our delicious cup cakes! Parents and children welcome.
URL:https://bildeston.org/event/community-coffee-centre/2026-09-11/
LOCATION:Bildeston Baptist Church\, Duke street\, Bildeston\, IP7 7EW\, United Kingdom
CATEGORIES:Bildeston Baptist Church
ORGANIZER;CN="Bildeston Baptist Church":MAILTO:bildestonbc@gmail.com
END:VEVENT
BEGIN:VEVENT
DTSTART;TZID=Europe/London:20260911T104500
DTEND;TZID=Europe/London:20260911T234500
DTSTAMP:20260422T033059
CREATED:20200510T141707Z
LAST-MODIFIED:20200510T141707Z
UID:34088-1789123500-1789170300@bildeston.org
SUMMARY:Intermediate Pilates
DESCRIPTION:
URL:https://bildeston.org/event/intermediate-pilates-2/2026-09-11/
LOCATION:Chamberlin Hall
CATEGORIES:Chamberlin Hall
ORGANIZER;CN="Claire Jacobs":MAILTO:claire@fitframephysio.com
END:VEVENT
BEGIN:VEVENT
DTSTART;TZID=Europe/London:20260911T104500
DTEND;TZID=Europe/London:20260911T234500
DTSTAMP:20260422T033059
CREATED:20200510T141707Z
LAST-MODIFIED:20200510T141707Z
UID:34087-1789123500-1789170300@bildeston.org
SUMMARY:Intermediate Pilates
DESCRIPTION:
URL:https://bildeston.org/event/intermediate-pilates/2026-09-11/
LOCATION:Chamberlin Hall
CATEGORIES:Chamberlin Hall
ORGANIZER;CN="Claire Jacobs":MAILTO:claire@fitframephysio.com
END:VEVENT
BEGIN:VEVENT
DTSTART;TZID=Europe/London:20260911T120000
DTEND;TZID=Europe/London:20260911T130000
DTSTAMP:20260422T033059
CREATED:20200510T142415Z
LAST-MODIFIED:20200510T142415Z
UID:34089-1789128000-1789131600@bildeston.org
SUMMARY:Beginners Pilates
DESCRIPTION:
URL:https://bildeston.org/event/beginners-pilates-cancelled-2023-05-05/2026-09-11/
LOCATION:Chamberlin Hall
CATEGORIES:Chamberlin Hall
ORGANIZER;CN="Claire Jacobs":MAILTO:claire@fitframephysio.com
END:VEVENT
BEGIN:VEVENT
DTSTART;TZID=Europe/London:20260911T190000
DTEND;TZID=Europe/London:20260911T190000
DTSTAMP:20260422T033059
CREATED:20211105T141555Z
LAST-MODIFIED:20211105T141555Z
UID:34091-1789153200-1789153200@bildeston.org
SUMMARY:Bowling social evening
DESCRIPTION:
URL:https://bildeston.org/event/bowling-social-evening/2026-09-11/
LOCATION:Chamberlin Hall
CATEGORIES:Chamberlin Hall
END:VEVENT
BEGIN:VEVENT
DTSTART;TZID=Europe/London:20260915T110000
DTEND;TZID=Europe/London:20260915T120000
DTSTAMP:20260422T033059
CREATED:20210816T205642Z
LAST-MODIFIED:20210816T205642Z
UID:34114-1789470000-1789473600@bildeston.org
SUMMARY:Rosie’s line dancing
DESCRIPTION:
URL:https://bildeston.org/event/rosies-line-dancing/2026-09-15/
LOCATION:Chamberlin Hall
CATEGORIES:Chamberlin Hall
END:VEVENT
BEGIN:VEVENT
DTSTART;TZID=Europe/London:20260915T130000
DTEND;TZID=Europe/London:20260915T130000
DTSTAMP:20260422T033059
CREATED:20220327T212757Z
LAST-MODIFIED:20220327T212757Z
UID:34117-1789477200-1789477200@bildeston.org
SUMMARY:Zumba Gold!
DESCRIPTION:
URL:https://bildeston.org/event/zumba-gold-3/2026-09-15/
LOCATION:Chamberlin Hall
CATEGORIES:Chamberlin Hall
ORGANIZER;CN="Jo Brown":MAILTO:joanna-m-brown@hotmail.co.uk
END:VEVENT
BEGIN:VEVENT
DTSTART;TZID=Europe/London:20260915T190000
DTEND;TZID=Europe/London:20260915T190000
DTSTAMP:20260422T033059
CREATED:20210816T211454Z
LAST-MODIFIED:20210816T211454Z
UID:34115-1789498800-1789498800@bildeston.org
SUMMARY:Snooker club
DESCRIPTION:
URL:https://bildeston.org/event/snooker-club-2/2026-09-15/
LOCATION:Chamberlin Hall
CATEGORIES:Chamberlin Hall
END:VEVENT
BEGIN:VEVENT
DTSTART;TZID=Europe/London:20260915T193000
DTEND;TZID=Europe/London:20260915T193000
DTSTAMP:20260422T033059
CREATED:20210827T153117Z
LAST-MODIFIED:20210827T153117Z
UID:34116-1789500600-1789500600@bildeston.org
SUMMARY:Bildeston Carpet Bowls Club
DESCRIPTION:New members are very welcome to join our friendly club. Please ring our Club Captain Mike on 01284 827688.
URL:https://bildeston.org/event/bildeston-carpet-bowls-club/2026-09-15/
LOCATION:Chamberlin Hall
CATEGORIES:Chamberlin Hall
END:VEVENT
BEGIN:VEVENT
DTSTART;TZID=Europe/London:20260916T141000
DTEND;TZID=Europe/London:20260916T160000
DTSTAMP:20260422T033059
CREATED:20220124T224416Z
LAST-MODIFIED:20220124T224416Z
UID:34126-1789567800-1789574400@bildeston.org
SUMMARY:Mobile library
DESCRIPTION:The Mobile Library is operating as normal now\, but with the following provisions: \n\nOne customer at a time\nEveryone to sanitise their hands before entering\nStaff will wear face masks and customers encouraged to do the same\nPlease be as quick as possible to allow others time to choose\nThere is a temporary limit of 4 items per person\nAll returned stock is quarantined for 72 hours\nShelves are sanitised between stops\n\nThe Bildeston stops are as follows: \n\nBrooksfield at 14.10 to 14.25\nMarket Square 14.30 to 14.45\nNewberry Road 14.50 to 15.05\nPaddock Way 15.10 to 16.00
URL:https://bildeston.org/event/mobile-library/2026-09-16/
CATEGORIES:Market Square
END:VEVENT
BEGIN:VEVENT
DTSTART;TZID=Europe/London:20260917T091500
DTEND;TZID=Europe/London:20260917T101500
DTSTAMP:20260422T033059
CREATED:20211105T141138Z
LAST-MODIFIED:20211105T141138Z
UID:34139-1789636500-1789640100@bildeston.org
SUMMARY:Exercise classes
DESCRIPTION:Call 07718593532 for details
URL:https://bildeston.org/event/exercise-classes/2026-09-17/
LOCATION:Chamberlin Hall
CATEGORIES:Chamberlin Hall
END:VEVENT
BEGIN:VEVENT
DTSTART;TZID=Europe/London:20260917T100000
DTEND;TZID=Europe/London:20260917T104500
DTSTAMP:20260422T033059
CREATED:20210827T162858Z
LAST-MODIFIED:20210827T162858Z
UID:34138-1789639200-1789641900@bildeston.org
SUMMARY:Zumba Gold!
DESCRIPTION:£4 pay as you go \n(Every 10th class free)
URL:https://bildeston.org/event/zumba-gold-2/2026-09-17/
LOCATION:Chamberlin Hall
CATEGORIES:Chamberlin Hall
ORGANIZER;CN="Jo Brown":MAILTO:joanna-m-brown@hotmail.co.uk
END:VEVENT
BEGIN:VEVENT
DTSTART;TZID=Europe/London:20260917T190000
DTEND;TZID=Europe/London:20260917T220000
DTSTAMP:20260422T033059
CREATED:20211105T141438Z
LAST-MODIFIED:20211105T141438Z
UID:34140-1789671600-1789682400@bildeston.org
SUMMARY:VIPs Drama Group
DESCRIPTION:For details on how to join\, call Debbie: 01449 740375
URL:https://bildeston.org/event/vips-drama-group/2026-09-17/
LOCATION:Chamberlin Hall
CATEGORIES:Chamberlin Hall
END:VEVENT
BEGIN:VEVENT
DTSTART;TZID=Europe/London:20260918T091500
DTEND;TZID=Europe/London:20260918T113000
DTSTAMP:20260422T033059
CREATED:20211105T110322Z
LAST-MODIFIED:20211105T110322Z
UID:34159-1789722900-1789731000@bildeston.org
SUMMARY:Community coffee centre
DESCRIPTION:Come along to the Bildeston Community Cafe and enjoy tea\, coffee\, scones\, bacon rolls or one of our delicious cup cakes! Parents and children welcome.
URL:https://bildeston.org/event/community-coffee-centre/2026-09-18/
LOCATION:Bildeston Baptist Church\, Duke street\, Bildeston\, IP7 7EW\, United Kingdom
CATEGORIES:Bildeston Baptist Church
ORGANIZER;CN="Bildeston Baptist Church":MAILTO:bildestonbc@gmail.com
END:VEVENT
BEGIN:VEVENT
DTSTART;TZID=Europe/London:20260918T104500
DTEND;TZID=Europe/London:20260918T234500
DTSTAMP:20260422T033059
CREATED:20200510T141707Z
LAST-MODIFIED:20200510T141707Z
UID:34156-1789728300-1789775100@bildeston.org
SUMMARY:Intermediate Pilates
DESCRIPTION:
URL:https://bildeston.org/event/intermediate-pilates/2026-09-18/
LOCATION:Chamberlin Hall
CATEGORIES:Chamberlin Hall
ORGANIZER;CN="Claire Jacobs":MAILTO:claire@fitframephysio.com
END:VEVENT
BEGIN:VEVENT
DTSTART;TZID=Europe/London:20260918T104500
DTEND;TZID=Europe/London:20260918T234500
DTSTAMP:20260422T033059
CREATED:20200510T141707Z
LAST-MODIFIED:20200510T141707Z
UID:34157-1789728300-1789775100@bildeston.org
SUMMARY:Intermediate Pilates
DESCRIPTION:
URL:https://bildeston.org/event/intermediate-pilates-2/2026-09-18/
LOCATION:Chamberlin Hall
CATEGORIES:Chamberlin Hall
ORGANIZER;CN="Claire Jacobs":MAILTO:claire@fitframephysio.com
END:VEVENT
BEGIN:VEVENT
DTSTART;TZID=Europe/London:20260918T120000
DTEND;TZID=Europe/London:20260918T130000
DTSTAMP:20260422T033059
CREATED:20200510T142415Z
LAST-MODIFIED:20200510T142415Z
UID:34158-1789732800-1789736400@bildeston.org
SUMMARY:Beginners Pilates
DESCRIPTION:
URL:https://bildeston.org/event/beginners-pilates-cancelled-2023-05-05/2026-09-18/
LOCATION:Chamberlin Hall
CATEGORIES:Chamberlin Hall
ORGANIZER;CN="Claire Jacobs":MAILTO:claire@fitframephysio.com
END:VEVENT
BEGIN:VEVENT
DTSTART;TZID=Europe/London:20260918T190000
DTEND;TZID=Europe/London:20260918T190000
DTSTAMP:20260422T033059
CREATED:20211105T141555Z
LAST-MODIFIED:20211105T141555Z
UID:34160-1789758000-1789758000@bildeston.org
SUMMARY:Bowling social evening
DESCRIPTION:
URL:https://bildeston.org/event/bowling-social-evening/2026-09-18/
LOCATION:Chamberlin Hall
CATEGORIES:Chamberlin Hall
END:VEVENT
BEGIN:VEVENT
DTSTART;TZID=Europe/London:20260922T110000
DTEND;TZID=Europe/London:20260922T120000
DTSTAMP:20260422T033059
CREATED:20210816T205642Z
LAST-MODIFIED:20210816T205642Z
UID:34314-1790074800-1790078400@bildeston.org
SUMMARY:Rosie’s line dancing
DESCRIPTION:
URL:https://bildeston.org/event/rosies-line-dancing/2026-09-22/
LOCATION:Chamberlin Hall
CATEGORIES:Chamberlin Hall
END:VEVENT
BEGIN:VEVENT
DTSTART;TZID=Europe/London:20260922T130000
DTEND;TZID=Europe/London:20260922T130000
DTSTAMP:20260422T033059
CREATED:20220327T212757Z
LAST-MODIFIED:20220327T212757Z
UID:34317-1790082000-1790082000@bildeston.org
SUMMARY:Zumba Gold!
DESCRIPTION:
URL:https://bildeston.org/event/zumba-gold-3/2026-09-22/
LOCATION:Chamberlin Hall
CATEGORIES:Chamberlin Hall
ORGANIZER;CN="Jo Brown":MAILTO:joanna-m-brown@hotmail.co.uk
END:VEVENT
BEGIN:VEVENT
DTSTART;TZID=Europe/London:20260922T190000
DTEND;TZID=Europe/London:20260922T190000
DTSTAMP:20260422T033059
CREATED:20210816T211454Z
LAST-MODIFIED:20210816T211454Z
UID:34315-1790103600-1790103600@bildeston.org
SUMMARY:Snooker club
DESCRIPTION:
URL:https://bildeston.org/event/snooker-club-2/2026-09-22/
LOCATION:Chamberlin Hall
CATEGORIES:Chamberlin Hall
END:VEVENT
BEGIN:VEVENT
DTSTART;TZID=Europe/London:20260922T193000
DTEND;TZID=Europe/London:20260922T193000
DTSTAMP:20260422T033059
CREATED:20210827T153117Z
LAST-MODIFIED:20210827T153117Z
UID:34316-1790105400-1790105400@bildeston.org
SUMMARY:Bildeston Carpet Bowls Club
DESCRIPTION:New members are very welcome to join our friendly club. Please ring our Club Captain Mike on 01284 827688.
URL:https://bildeston.org/event/bildeston-carpet-bowls-club/2026-09-22/
LOCATION:Chamberlin Hall
CATEGORIES:Chamberlin Hall
END:VEVENT
BEGIN:VEVENT
DTSTART;TZID=Europe/London:20260924T091500
DTEND;TZID=Europe/London:20260924T101500
DTSTAMP:20260422T033059
CREATED:20211105T141138Z
LAST-MODIFIED:20211105T141138Z
UID:34442-1790241300-1790244900@bildeston.org
SUMMARY:Exercise classes
DESCRIPTION:Call 07718593532 for details
URL:https://bildeston.org/event/exercise-classes/2026-09-24/
LOCATION:Chamberlin Hall
CATEGORIES:Chamberlin Hall
END:VEVENT
BEGIN:VEVENT
DTSTART;TZID=Europe/London:20260924T100000
DTEND;TZID=Europe/London:20260924T104500
DTSTAMP:20260422T033059
CREATED:20210827T162858Z
LAST-MODIFIED:20210827T162858Z
UID:34441-1790244000-1790246700@bildeston.org
SUMMARY:Zumba Gold!
DESCRIPTION:£4 pay as you go \n(Every 10th class free)
URL:https://bildeston.org/event/zumba-gold-2/2026-09-24/
LOCATION:Chamberlin Hall
CATEGORIES:Chamberlin Hall
ORGANIZER;CN="Jo Brown":MAILTO:joanna-m-brown@hotmail.co.uk
END:VEVENT
BEGIN:VEVENT
DTSTART;TZID=Europe/London:20260924T190000
DTEND;TZID=Europe/London:20260924T220000
DTSTAMP:20260422T033059
CREATED:20211105T141438Z
LAST-MODIFIED:20211105T141438Z
UID:34443-1790276400-1790287200@bildeston.org
SUMMARY:VIPs Drama Group
DESCRIPTION:For details on how to join\, call Debbie: 01449 740375
URL:https://bildeston.org/event/vips-drama-group/2026-09-24/
LOCATION:Chamberlin Hall
CATEGORIES:Chamberlin Hall
END:VEVENT
END:VCALENDAR