BEGIN:VCALENDAR
VERSION:2.0
PRODID:-//Bildeston Village - ECPv6.15.18//NONSGML v1.0//EN
CALSCALE:GREGORIAN
METHOD:PUBLISH
X-WR-CALNAME:Bildeston Village
X-ORIGINAL-URL:https://bildeston.org
X-WR-CALDESC:Events for Bildeston Village
REFRESH-INTERVAL;VALUE=DURATION:PT1H
X-Robots-Tag:noindex
X-PUBLISHED-TTL:PT1H
BEGIN:VTIMEZONE
TZID:Europe/London
BEGIN:DAYLIGHT
TZOFFSETFROM:+0000
TZOFFSETTO:+0100
TZNAME:BST
DTSTART:20210328T010000
END:DAYLIGHT
BEGIN:STANDARD
TZOFFSETFROM:+0100
TZOFFSETTO:+0000
TZNAME:GMT
DTSTART:20211031T010000
END:STANDARD
BEGIN:DAYLIGHT
TZOFFSETFROM:+0000
TZOFFSETTO:+0100
TZNAME:BST
DTSTART:20220327T010000
END:DAYLIGHT
BEGIN:STANDARD
TZOFFSETFROM:+0100
TZOFFSETTO:+0000
TZNAME:GMT
DTSTART:20221030T010000
END:STANDARD
BEGIN:DAYLIGHT
TZOFFSETFROM:+0000
TZOFFSETTO:+0100
TZNAME:BST
DTSTART:20230326T010000
END:DAYLIGHT
BEGIN:STANDARD
TZOFFSETFROM:+0100
TZOFFSETTO:+0000
TZNAME:GMT
DTSTART:20231029T010000
END:STANDARD
END:VTIMEZONE
BEGIN:VEVENT
DTSTART;TZID=Europe/London:20221003T190000
DTEND;TZID=Europe/London:20221003T190000
DTSTAMP:20260423T062239
CREATED:20220926T173354Z
LAST-MODIFIED:20220926T173354Z
UID:19613-1664823600-1664823600@bildeston.org
SUMMARY:New Date A.G.M.
DESCRIPTION:New Date A.G.M. Monday 3rdOctober\n7.00pm at the Pavilion\nThis will be followed by a social\ngathering for all our supporters and\nvolunteers\, so if you have helped in any\nway please come along and join us.\nIf you would like to get involved or have ideas of how we could\nimprove our facilities and make better use of them please come\nalong or contact:\nemail: bildestonsportsfield@gmail.com\nElaine Talbott 07766527433 or\nAngela Chapman 07711904515\nApologies for the cancellations last\nmonth we should be back to\nnormal now
URL:https://bildeston.org/event/new-date-a-g-m/
LOCATION:Chamberlin Hall
CATEGORIES:Chamberlin Hall
END:VEVENT
BEGIN:VEVENT
DTSTART;TZID=Europe/London:20221003T154500
DTEND;TZID=Europe/London:20221003T211500
DTSTAMP:20260423T062239
CREATED:20220927T130648Z
LAST-MODIFIED:20220927T130648Z
UID:21666-1664811900-1664831700@bildeston.org
SUMMARY:Miss Lesley’s Dance classes
DESCRIPTION:(07957 351941)
URL:https://bildeston.org/event/miss-lesleys-dance-classes/2022-10-03/
LOCATION:Chamberlin Hall
CATEGORIES:Chamberlin Hall
END:VEVENT
BEGIN:VEVENT
DTSTART;TZID=Europe/London:20221002T110000
DTEND;TZID=Europe/London:20221002T110000
DTSTAMP:20260423T062239
CREATED:20220927T131307Z
LAST-MODIFIED:20220927T131307Z
UID:21679-1664708400-1664708400@bildeston.org
SUMMARY:Brett Valley Benefice
DESCRIPTION:
URL:https://bildeston.org/event/brett-valley-benefice-2/
LOCATION:Holy Communion Harvest at Lindsey Church
CATEGORIES:Chamberlin Hall
END:VEVENT
BEGIN:VEVENT
DTSTART;TZID=Europe/London:20221002T103000
DTEND;TZID=Europe/London:20221002T103000
DTSTAMP:20260423T062239
CREATED:20220927T131010Z
LAST-MODIFIED:20220927T131150Z
UID:21673-1664706600-1664706600@bildeston.org
SUMMARY:Brett Valley Benefice
DESCRIPTION:
URL:https://bildeston.org/event/brett-valley-benefice/
LOCATION:Harvest at Semer Church
CATEGORIES:Chamberlin Hall
END:VEVENT
BEGIN:VEVENT
DTSTART;TZID=Europe/London:20220925T140000
DTEND;TZID=Europe/London:20220925T180000
DTSTAMP:20260423T062239
CREATED:20220826T084940Z
LAST-MODIFIED:20220826T084940Z
UID:19213-1664114400-1664128800@bildeston.org
SUMMARY:MACMILLAN TEA AFTERNOON
DESCRIPTION:
URL:https://bildeston.org/event/macmillan-tea-afternoon/
LOCATION:Chamberlin Hall
CATEGORIES:Chamberlin Hall
END:VEVENT
BEGIN:VEVENT
DTSTART;TZID=Europe/London:20220924T100000
DTEND;TZID=Europe/London:20220924T160000
DTSTAMP:20260423T062239
CREATED:20220816T131536Z
LAST-MODIFIED:20220816T131614Z
UID:18966-1664013600-1664035200@bildeston.org
SUMMARY:The Art of Objects
DESCRIPTION:A2arts Pop-up Gallery / Affordable Lifestyle Boutique \nREBECCA MOSS GUYVER \nSEPTEMBER 24 – 25 \n10 – 4pm \nwww.a2arts.net
URL:https://bildeston.org/event/the-art-of-objects-3/2022-09-24/
LOCATION:Silwood Gallery\, Bildeston
CATEGORIES:Art
END:VEVENT
BEGIN:VEVENT
DTSTART;TZID=Europe/London:20220919T190000
DTEND;TZID=Europe/London:20220919T190000
DTSTAMP:20260423T062239
CREATED:20220826T084305Z
LAST-MODIFIED:20220826T084305Z
UID:19209-1663614000-1663614000@bildeston.org
SUMMARY:SPORTS FIELD & PAVILION NEWS A.G.M.
DESCRIPTION:Monday 19th September 7.00pm at the Pavilion. This will be followed by a social gathering for all our supporters and volunteers. If you would like to get involved or have ideas of how we could improve our facilities and make better use of them please come along or contact: email: bildestonsportsfield@gmail.com Elaine Talbott 07766527433 or Angela Chapman 07711904515
URL:https://bildeston.org/event/sports-field-pavilion-news-a-g-m/
LOCATION:Pavilion
CATEGORIES:Sports Pavilion
END:VEVENT
BEGIN:VEVENT
DTSTART;TZID=Europe/London:20220912T190000
DTEND;TZID=Europe/London:20220912T190000
DTSTAMP:20260423T062239
CREATED:20220406T160450Z
LAST-MODIFIED:20220408T101827Z
UID:18177-1663009200-1663009200@bildeston.org
SUMMARY:Parish Council meeting
DESCRIPTION:This meeting will be held at Sports Field Pavilion\, Consent Lane . Members of the public are welcome to attend; please see the agenda for more details.
URL:https://bildeston.org/event/parish-council-meeting-19/
LOCATION:Bildeston Sports Pavilion\, Consent Lane\, Bildeston\, United Kingdom
CATEGORIES:Parish Council Meetings
END:VEVENT
BEGIN:VEVENT
DTSTART;TZID=Europe/London:20220910T100000
DTEND;TZID=Europe/London:20220910T160000
DTSTAMP:20260423T062239
CREATED:20220816T131359Z
LAST-MODIFIED:20220816T131359Z
UID:18962-1662804000-1662825600@bildeston.org
SUMMARY:The Art of Objects
DESCRIPTION:A2arts Pop-up Gallery / Affordable Lifestyle Boutique \nREBECCA MOSS GUYVER \nSEPTEMBER 10 – 11 \n10 – 4pm \nwww.a2arts.net
URL:https://bildeston.org/event/the-art-of-objects-2/2022-09-10/
LOCATION:Silwood Gallery\, Bildeston
CATEGORIES:Art
END:VEVENT
BEGIN:VEVENT
DTSTART;TZID=Europe/London:20220902T170000
DTEND;TZID=Europe/London:20220904T180000
DTSTAMP:20260423T062239
CREATED:20210825T080315Z
LAST-MODIFIED:20220830T132715Z
UID:14481-1662138000-1662314400@bildeston.org
SUMMARY:BNatural Music Festival 2022
DESCRIPTION:For the latest updates on this festival\, please visit the BNatural web page.
URL:https://bildeston.org/event/bnatural-music-festival-2022/
CATEGORIES:BNatural Events,Market Square
END:VEVENT
BEGIN:VEVENT
DTSTART;TZID=Europe/London:20220831T190000
DTEND;TZID=Europe/London:20220831T190000
DTSTAMP:20260423T062239
CREATED:20220816T121420Z
LAST-MODIFIED:20220816T121420Z
UID:18953-1661972400-1661972400@bildeston.org
SUMMARY:Bildeston Garden Group
DESCRIPTION:A brand new group for anyone in Bildeston interested in gardening and natureis being proposed. \nObjects of the group are: \n\nTo encourage and inspire each other with our gardens\nTo organise horticultural projects around the village.\nTo have our own Bildeston open gardens.\n\nLaunch meeting is on Wednesday 31st August 7pm at Wahroonga Wattisham Rd (1st bungalow on the right as you turn into Wattisham Rd from the high street). Come along and bring your ideas and enthusiasm with you! \nFor more details contact Debbie Bailey 07948083769
URL:https://bildeston.org/event/bildeston-garden-group/
LOCATION:Wahroonga Wattisham Rd
END:VEVENT
BEGIN:VEVENT
DTSTART;VALUE=DATE:20220830
DTEND;VALUE=DATE:20220831
DTSTAMP:20260423T062239
CREATED:20220816T141325Z
LAST-MODIFIED:20220816T141452Z
UID:18991-1661817600-1661903999@bildeston.org
SUMMARY:Craft it Together
DESCRIPTION:01449 741772 for details
URL:https://bildeston.org/event/craft-it-together-2/2022-08-30/
CATEGORIES:Art
END:VEVENT
BEGIN:VEVENT
DTSTART;TZID=Europe/London:20220828T110000
DTEND;TZID=Europe/London:20220828T110000
DTSTAMP:20260423T062239
CREATED:20220816T135944Z
LAST-MODIFIED:20220816T135944Z
UID:18986-1661684400-1661684400@bildeston.org
SUMMARY:Services in the Brett Valley Benefice
DESCRIPTION:Brett Valley Benefice \n(Bildeston w Wattisham\, Lindsey\, Whatfield\, Semer\, Nedging and Naughton)\nFrom Revd Elke Cattermole\, Rector\nBenefice Administrator Required \nAre you interested to fulfil the benefice administration in helping the coordination of the six\nparishes? To work alongside the incumbent and Lay Minister to enhance communication to churchwardens\, PCC’s\, and individual parishes. \nInitially this will be for 4 – 6 hours per week.\nCan you help and are you interested?\nFor an informal chat please contact me on: Email: revdelkecattermole@gmail.com\nTel: 01449 403698\nMobile: 07957 419055 \nService \nMorning Prayer
URL:https://bildeston.org/event/services-in-the-brett-valley-benefice-4/
LOCATION:Naughton
CATEGORIES:Bildeston Baptist Church
END:VEVENT
BEGIN:VEVENT
DTSTART;TZID=Europe/London:20220828T110000
DTEND;TZID=Europe/London:20220828T110000
DTSTAMP:20260423T062239
CREATED:20220816T135832Z
LAST-MODIFIED:20220816T135951Z
UID:18982-1661684400-1661684400@bildeston.org
SUMMARY:Services in the Brett Valley Benefice
DESCRIPTION:Brett Valley Benefice \n(Bildeston w Wattisham\, Lindsey\, Whatfield\, Semer\, Nedging and Naughton)\nFrom Revd Elke Cattermole\, Rector\nBenefice Administrator Required \nAre you interested to fulfil the benefice administration in helping the coordination of the six\nparishes? To work alongside the incumbent and Lay Minister to enhance communication to churchwardens\, PCC’s\, and individual parishes. \nInitially this will be for 4 – 6 hours per week.\nCan you help and are you interested?\nFor an informal chat please contact me on: Email: revdelkecattermole@gmail.com\nTel: 01449 403698\nMobile: 07957 419055 \nService \nHoly Communion
URL:https://bildeston.org/event/services-in-the-brett-valley-benefice-3/
LOCATION:Semer
CATEGORIES:Bildeston Baptist Church
END:VEVENT
BEGIN:VEVENT
DTSTART;VALUE=DATE:20220827
DTEND;VALUE=DATE:20220828
DTSTAMP:20260423T062239
CREATED:20220302T230643Z
LAST-MODIFIED:20220302T230643Z
UID:17360-1661558400-1661644799@bildeston.org
SUMMARY:Bildeston produce show
DESCRIPTION:Save the date! More details to follow….
URL:https://bildeston.org/event/bildeston-produce-show-2/
LOCATION:St Mary Magdalene Church\, Church Lane\, Bildeston\, United Kingdom
CATEGORIES:St Mary Magdalene
END:VEVENT
BEGIN:VEVENT
DTSTART;TZID=Europe/London:20220826T090000
DTEND;TZID=Europe/London:20220826T113000
DTSTAMP:20260423T062239
CREATED:20220816T142323Z
LAST-MODIFIED:20220816T142323Z
UID:19055-1661504400-1661513400@bildeston.org
SUMMARY:Community Coffee Centre
DESCRIPTION:Baptist Church 9.15 – 11.30am
URL:https://bildeston.org/event/community-coffee-centre-2/2022-08-26/
CATEGORIES:Bildeston Baptist Church
END:VEVENT
BEGIN:VEVENT
DTSTART;TZID=Europe/London:20220823T200000
DTEND;TZID=Europe/London:20220823T213000
DTSTAMP:20260423T062239
CREATED:20220816T142649Z
LAST-MODIFIED:20220927T112603Z
UID:19058-1661284800-1661290200@bildeston.org
SUMMARY:Church Bell Ringing Practice
DESCRIPTION:St. Mary Magdalene church bell tower 8.00 to 9.15pm
URL:https://bildeston.org/event/church-bell-ringing-practice-3/2022-08-23/
CATEGORIES:St Mary Magdalene
END:VEVENT
BEGIN:VEVENT
DTSTART;TZID=Europe/London:20220823T183000
DTEND;TZID=Europe/London:20220823T183000
DTSTAMP:20260423T062239
CREATED:20220816T143841Z
LAST-MODIFIED:20220816T143841Z
UID:19100-1661279400-1661279400@bildeston.org
SUMMARY:Bildeston Community Cycling Tuesday Evening Rides
DESCRIPTION:Market Square 6.45pm
URL:https://bildeston.org/event/bildeston-community-cycling-tuesday-evening-rides/2022-08-23/
CATEGORIES:Pop-up event
END:VEVENT
BEGIN:VEVENT
DTSTART;TZID=Europe/London:20220823T100000
DTEND;TZID=Europe/London:20220823T120000
DTSTAMP:20260423T062239
CREATED:20220816T142211Z
LAST-MODIFIED:20220816T142211Z
UID:19034-1661248800-1661256000@bildeston.org
SUMMARY:Family Group
DESCRIPTION:07542 785649 to book a space
URL:https://bildeston.org/event/family-group/2022-08-23/
CATEGORIES:Pop-up event
END:VEVENT
BEGIN:VEVENT
DTSTART;TZID=Europe/London:20220822T093000
DTEND;TZID=Europe/London:20220822T093000
DTSTAMP:20260423T062239
CREATED:20220816T141628Z
LAST-MODIFIED:20220816T141628Z
UID:19013-1661160600-1661160600@bildeston.org
SUMMARY:Strollers & Striders
DESCRIPTION:9.45 – various starting points 07584 189356 or 07901 563281 for details
URL:https://bildeston.org/event/strollers-striders/2022-08-22/
CATEGORIES:Art
END:VEVENT
BEGIN:VEVENT
DTSTART;TZID=Europe/London:20220821T133000
DTEND;TZID=Europe/London:20220821T133000
DTSTAMP:20260423T062239
CREATED:20220816T135729Z
LAST-MODIFIED:20220816T135729Z
UID:18980-1661088600-1661088600@bildeston.org
SUMMARY:Services in the Brett Valley Benefice
DESCRIPTION:Brett Valley Benefice \n(Bildeston w Wattisham\, Lindsey\, Whatfield\, Semer\, Nedging and Naughton)\nFrom Revd Elke Cattermole\, Rector\nBenefice Administrator Required \nAre you interested to fulfil the benefice administration in helping the coordination of the six\nparishes? To work alongside the incumbent and Lay Minister to enhance communication to churchwardens\, PCC’s\, and individual parishes. \nInitially this will be for 4 – 6 hours per week.\nCan you help and are you interested?\nFor an informal chat please contact me on: Email: revdelkecattermole@gmail.com\nTel: 01449 403698\nMobile: 07957 419055 \nService \nHoly Baptism
URL:https://bildeston.org/event/services-in-the-brett-valley-benefice-2/
LOCATION:Bildeston Church
CATEGORIES:Bildeston Baptist Church
END:VEVENT
BEGIN:VEVENT
DTSTART;TZID=Europe/London:20220821T110000
DTEND;TZID=Europe/London:20220821T110000
DTSTAMP:20260423T062239
CREATED:20220816T135617Z
LAST-MODIFIED:20220816T135617Z
UID:18976-1661079600-1661079600@bildeston.org
SUMMARY:Services in the Brett Valley Benefice
DESCRIPTION:Brett Valley Benefice \n(Bildeston w Wattisham\, Lindsey\, Whatfield\, Semer\, Nedging and Naughton)\nFrom Revd Elke Cattermole\, Rector\nBenefice Administrator Required \nAre you interested to fulfil the benefice administration in helping the coordination of the six\nparishes? To work alongside the incumbent and Lay Minister to enhance communication to churchwardens\, PCC’s\, and individual parishes. \nInitially this will be for 4 – 6 hours per week.\nCan you help and are you interested?\nFor an informal chat please contact me on: Email: revdelkecattermole@gmail.com\nTel: 01449 403698\nMobile: 07957 419055 \nService \nHoly Communion
URL:https://bildeston.org/event/services-in-the-brett-valley-benefice/
LOCATION:Bildeston Church
CATEGORIES:Bildeston Baptist Church
END:VEVENT
BEGIN:VEVENT
DTSTART;TZID=Europe/London:20220821T100000
DTEND;TZID=Europe/London:20220821T120000
DTSTAMP:20260423T062239
CREATED:20220816T144152Z
LAST-MODIFIED:20220816T144152Z
UID:19114-1661076000-1661083200@bildeston.org
SUMMARY:Village Social Sunday Cafe
DESCRIPTION:Sports Field 10.00 to 12.00
URL:https://bildeston.org/event/village-social-sunday-cafe/2022-08-21/
CATEGORIES:Pop-up event
END:VEVENT
BEGIN:VEVENT
DTSTART;TZID=Europe/London:20220820T100000
DTEND;TZID=Europe/London:20220820T160000
DTSTAMP:20260423T062239
CREATED:20220816T130839Z
LAST-MODIFIED:20220816T131022Z
UID:18957-1660989600-1661011200@bildeston.org
SUMMARY:The Art of Objects
DESCRIPTION:A2arts Pop-up Gallery / Affordable Lifestyle Boutique \nREBECCA MOSS GUYVER \nAUGUST 20 – 21 \n10 – 4pm \nwww.a2arts.net
URL:https://bildeston.org/event/the-art-of-objects/2022-08-20/
LOCATION:Silwood Gallery\, Bildeston
CATEGORIES:Art
END:VEVENT
BEGIN:VEVENT
DTSTART;TZID=Europe/London:20220819T190000
DTEND;TZID=Europe/London:20220819T190000
DTSTAMP:20260423T062239
CREATED:20220816T144053Z
LAST-MODIFIED:20220816T144053Z
UID:19110-1660935600-1660935600@bildeston.org
SUMMARY:Social Evening
DESCRIPTION:
URL:https://bildeston.org/event/social-evening/2022-08-19/
LOCATION:Chamberlin Hall
CATEGORIES:Pop-up event
END:VEVENT
BEGIN:VEVENT
DTSTART;TZID=Europe/London:20220817T080000
DTEND;TZID=Europe/London:20220817T170000
DTSTAMP:20260423T062239
CREATED:20220816T143941Z
LAST-MODIFIED:20220816T143941Z
UID:19104-1660723200-1660755600@bildeston.org
SUMMARY:Open Mic Night
DESCRIPTION:
URL:https://bildeston.org/event/open-mic-night-2/2022-08-17/
LOCATION:Chamberlin Hall
CATEGORIES:Pop-up event
END:VEVENT
BEGIN:VEVENT
DTSTART;TZID=Europe/London:20220815T170000
DTEND;TZID=Europe/London:20220815T220000
DTSTAMP:20260423T062239
CREATED:20220815T091922Z
LAST-MODIFIED:20220815T152107Z
UID:18944-1660582800-1660600800@bildeston.org
SUMMARY:Family Disco
DESCRIPTION:Chamberlin Hall presents a Family Disco! \nLive DJ in the mix with Bear 101 Disco! \nFood Available
URL:https://bildeston.org/event/august-family-disco/
LOCATION:Chamberlin Hall
CATEGORIES:Chamberlin Hall
ATTACH;FMTTYPE=image/jpeg:https://bildeston.org/wp-content/uploads/2022/08/family-disco-e1660576747639.jpg
END:VEVENT
BEGIN:VEVENT
DTSTART;VALUE=DATE:20220715
DTEND;VALUE=DATE:20220718
DTSTAMP:20260423T062239
CREATED:20220302T225508Z
LAST-MODIFIED:20220712T125032Z
UID:17353-1657843200-1658102399@bildeston.org
SUMMARY:Beer festival
DESCRIPTION:Bildeston Beer Festival! \nKids play area \nFood vans
URL:https://bildeston.org/event/beer-festival/
LOCATION:Chamberlin Hall
CATEGORIES:Chamberlin Hall
ORGANIZER;CN="Chamberlin Hall Management Committee":MAILTO:chamberlin.bookings@gmail.com
END:VEVENT
BEGIN:VEVENT
DTSTART;TZID=Europe/London:20220711T190000
DTEND;TZID=Europe/London:20220711T190000
DTSTAMP:20260423T062239
CREATED:20220406T160423Z
LAST-MODIFIED:20220408T101807Z
UID:18175-1657566000-1657566000@bildeston.org
SUMMARY:Parish Council meeting
DESCRIPTION:This meeting will be held at Sports Field Pavilion\, Consent Lane . Members of the public are welcome to attend; please see the agenda for more details.
URL:https://bildeston.org/event/parish-council-meeting-18/
LOCATION:Bildeston Sports Pavilion\, Consent Lane\, Bildeston\, United Kingdom
CATEGORIES:Parish Council Meetings
END:VEVENT
BEGIN:VEVENT
DTSTART;TZID=Europe/London:20220618T183000
DTEND;TZID=Europe/London:20220618T183000
DTSTAMP:20260423T062239
CREATED:20220327T213741Z
LAST-MODIFIED:20220327T213741Z
UID:18033-1655577000-1655577000@bildeston.org
SUMMARY:Chamberlin Hall AGM
DESCRIPTION:
URL:https://bildeston.org/event/chamberlin-hall-agm/
LOCATION:Chamberlin Hall
CATEGORIES:Chamberlin Hall
ORGANIZER;CN="Chamberlin Hall Management Committee":MAILTO:chamberlin.bookings@gmail.com
END:VEVENT
END:VCALENDAR