BEGIN:VCALENDAR
VERSION:2.0
PRODID:-//Bildeston Village - ECPv6.15.18//NONSGML v1.0//EN
CALSCALE:GREGORIAN
METHOD:PUBLISH
X-ORIGINAL-URL:https://bildeston.org
X-WR-CALDESC:Events for Bildeston Village
REFRESH-INTERVAL;VALUE=DURATION:PT1H
X-Robots-Tag:noindex
X-PUBLISHED-TTL:PT1H
BEGIN:VTIMEZONE
TZID:Europe/London
BEGIN:DAYLIGHT
TZOFFSETFROM:+0000
TZOFFSETTO:+0100
TZNAME:BST
DTSTART:20250330T010000
END:DAYLIGHT
BEGIN:STANDARD
TZOFFSETFROM:+0100
TZOFFSETTO:+0000
TZNAME:GMT
DTSTART:20251026T010000
END:STANDARD
BEGIN:DAYLIGHT
TZOFFSETFROM:+0000
TZOFFSETTO:+0100
TZNAME:BST
DTSTART:20260329T010000
END:DAYLIGHT
BEGIN:STANDARD
TZOFFSETFROM:+0100
TZOFFSETTO:+0000
TZNAME:GMT
DTSTART:20261025T010000
END:STANDARD
BEGIN:DAYLIGHT
TZOFFSETFROM:+0000
TZOFFSETTO:+0100
TZNAME:BST
DTSTART:20270328T010000
END:DAYLIGHT
BEGIN:STANDARD
TZOFFSETFROM:+0100
TZOFFSETTO:+0000
TZNAME:GMT
DTSTART:20271031T010000
END:STANDARD
END:VTIMEZONE
BEGIN:VEVENT
DTSTART;TZID=Europe/London:20260924T190000
DTEND;TZID=Europe/London:20260924T220000
DTSTAMP:20260423T062137
CREATED:20211105T141438Z
LAST-MODIFIED:20211105T141438Z
UID:34443-1790276400-1790287200@bildeston.org
SUMMARY:VIPs Drama Group
DESCRIPTION:For details on how to join\, call Debbie: 01449 740375
URL:https://bildeston.org/event/vips-drama-group/2026-09-24/
LOCATION:Chamberlin Hall
CATEGORIES:Chamberlin Hall
END:VEVENT
BEGIN:VEVENT
DTSTART;TZID=Europe/London:20260925T091500
DTEND;TZID=Europe/London:20260925T113000
DTSTAMP:20260423T062137
CREATED:20211105T110322Z
LAST-MODIFIED:20211105T110322Z
UID:34468-1790327700-1790335800@bildeston.org
SUMMARY:Community coffee centre
DESCRIPTION:Come along to the Bildeston Community Cafe and enjoy tea\, coffee\, scones\, bacon rolls or one of our delicious cup cakes! Parents and children welcome.
URL:https://bildeston.org/event/community-coffee-centre/2026-09-25/
LOCATION:Bildeston Baptist Church\, Duke street\, Bildeston\, IP7 7EW\, United Kingdom
CATEGORIES:Bildeston Baptist Church
ORGANIZER;CN="Bildeston Baptist Church":MAILTO:bildestonbc@gmail.com
END:VEVENT
BEGIN:VEVENT
DTSTART;TZID=Europe/London:20260925T104500
DTEND;TZID=Europe/London:20260925T234500
DTSTAMP:20260423T062137
CREATED:20200510T141707Z
LAST-MODIFIED:20200510T141707Z
UID:34465-1790333100-1790379900@bildeston.org
SUMMARY:Intermediate Pilates
DESCRIPTION:
URL:https://bildeston.org/event/intermediate-pilates/2026-09-25/
LOCATION:Chamberlin Hall
CATEGORIES:Chamberlin Hall
ORGANIZER;CN="Claire Jacobs":MAILTO:claire@fitframephysio.com
END:VEVENT
BEGIN:VEVENT
DTSTART;TZID=Europe/London:20260925T104500
DTEND;TZID=Europe/London:20260925T234500
DTSTAMP:20260423T062137
CREATED:20200510T141707Z
LAST-MODIFIED:20200510T141707Z
UID:34466-1790333100-1790379900@bildeston.org
SUMMARY:Intermediate Pilates
DESCRIPTION:
URL:https://bildeston.org/event/intermediate-pilates-2/2026-09-25/
LOCATION:Chamberlin Hall
CATEGORIES:Chamberlin Hall
ORGANIZER;CN="Claire Jacobs":MAILTO:claire@fitframephysio.com
END:VEVENT
BEGIN:VEVENT
DTSTART;TZID=Europe/London:20260925T120000
DTEND;TZID=Europe/London:20260925T130000
DTSTAMP:20260423T062137
CREATED:20200510T142415Z
LAST-MODIFIED:20200510T142415Z
UID:34467-1790337600-1790341200@bildeston.org
SUMMARY:Beginners Pilates
DESCRIPTION:
URL:https://bildeston.org/event/beginners-pilates-cancelled-2023-05-05/2026-09-25/
LOCATION:Chamberlin Hall
CATEGORIES:Chamberlin Hall
ORGANIZER;CN="Claire Jacobs":MAILTO:claire@fitframephysio.com
END:VEVENT
BEGIN:VEVENT
DTSTART;TZID=Europe/London:20260925T190000
DTEND;TZID=Europe/London:20260925T190000
DTSTAMP:20260423T062137
CREATED:20211105T141555Z
LAST-MODIFIED:20211105T141555Z
UID:34469-1790362800-1790362800@bildeston.org
SUMMARY:Bowling social evening
DESCRIPTION:
URL:https://bildeston.org/event/bowling-social-evening/2026-09-25/
LOCATION:Chamberlin Hall
CATEGORIES:Chamberlin Hall
END:VEVENT
BEGIN:VEVENT
DTSTART;TZID=Europe/London:20260929T110000
DTEND;TZID=Europe/London:20260929T120000
DTSTAMP:20260423T062137
CREATED:20210816T205642Z
LAST-MODIFIED:20210816T205642Z
UID:34504-1790679600-1790683200@bildeston.org
SUMMARY:Rosie’s line dancing
DESCRIPTION:
URL:https://bildeston.org/event/rosies-line-dancing/2026-09-29/
LOCATION:Chamberlin Hall
CATEGORIES:Chamberlin Hall
END:VEVENT
BEGIN:VEVENT
DTSTART;TZID=Europe/London:20260929T130000
DTEND;TZID=Europe/London:20260929T130000
DTSTAMP:20260423T062137
CREATED:20220327T212757Z
LAST-MODIFIED:20220327T212757Z
UID:34507-1790686800-1790686800@bildeston.org
SUMMARY:Zumba Gold!
DESCRIPTION:
URL:https://bildeston.org/event/zumba-gold-3/2026-09-29/
LOCATION:Chamberlin Hall
CATEGORIES:Chamberlin Hall
ORGANIZER;CN="Jo Brown":MAILTO:joanna-m-brown@hotmail.co.uk
END:VEVENT
BEGIN:VEVENT
DTSTART;TZID=Europe/London:20260929T190000
DTEND;TZID=Europe/London:20260929T190000
DTSTAMP:20260423T062137
CREATED:20210816T211454Z
LAST-MODIFIED:20210816T211454Z
UID:34505-1790708400-1790708400@bildeston.org
SUMMARY:Snooker club
DESCRIPTION:
URL:https://bildeston.org/event/snooker-club-2/2026-09-29/
LOCATION:Chamberlin Hall
CATEGORIES:Chamberlin Hall
END:VEVENT
BEGIN:VEVENT
DTSTART;TZID=Europe/London:20260929T193000
DTEND;TZID=Europe/London:20260929T193000
DTSTAMP:20260423T062137
CREATED:20210827T153117Z
LAST-MODIFIED:20210827T153117Z
UID:34506-1790710200-1790710200@bildeston.org
SUMMARY:Bildeston Carpet Bowls Club
DESCRIPTION:New members are very welcome to join our friendly club. Please ring our Club Captain Mike on 01284 827688.
URL:https://bildeston.org/event/bildeston-carpet-bowls-club/2026-09-29/
LOCATION:Chamberlin Hall
CATEGORIES:Chamberlin Hall
END:VEVENT
BEGIN:VEVENT
DTSTART;TZID=Europe/London:20261001T091500
DTEND;TZID=Europe/London:20261001T101500
DTSTAMP:20260423T062137
CREATED:20211105T141138Z
LAST-MODIFIED:20211105T141138Z
UID:34527-1790846100-1790849700@bildeston.org
SUMMARY:Exercise classes
DESCRIPTION:Call 07718593532 for details
URL:https://bildeston.org/event/exercise-classes/2026-10-01/
LOCATION:Chamberlin Hall
CATEGORIES:Chamberlin Hall
END:VEVENT
BEGIN:VEVENT
DTSTART;TZID=Europe/London:20261001T100000
DTEND;TZID=Europe/London:20261001T104500
DTSTAMP:20260423T062137
CREATED:20210827T162858Z
LAST-MODIFIED:20210827T162858Z
UID:34526-1790848800-1790851500@bildeston.org
SUMMARY:Zumba Gold!
DESCRIPTION:£4 pay as you go \n(Every 10th class free)
URL:https://bildeston.org/event/zumba-gold-2/2026-10-01/
LOCATION:Chamberlin Hall
CATEGORIES:Chamberlin Hall
ORGANIZER;CN="Jo Brown":MAILTO:joanna-m-brown@hotmail.co.uk
END:VEVENT
BEGIN:VEVENT
DTSTART;TZID=Europe/London:20261001T190000
DTEND;TZID=Europe/London:20261001T220000
DTSTAMP:20260423T062137
CREATED:20211105T141438Z
LAST-MODIFIED:20211105T141438Z
UID:34528-1790881200-1790892000@bildeston.org
SUMMARY:VIPs Drama Group
DESCRIPTION:For details on how to join\, call Debbie: 01449 740375
URL:https://bildeston.org/event/vips-drama-group/2026-10-01/
LOCATION:Chamberlin Hall
CATEGORIES:Chamberlin Hall
END:VEVENT
BEGIN:VEVENT
DTSTART;TZID=Europe/London:20261002T091500
DTEND;TZID=Europe/London:20261002T113000
DTSTAMP:20260423T062137
CREATED:20211105T110322Z
LAST-MODIFIED:20211105T110322Z
UID:34538-1790932500-1790940600@bildeston.org
SUMMARY:Community coffee centre
DESCRIPTION:Come along to the Bildeston Community Cafe and enjoy tea\, coffee\, scones\, bacon rolls or one of our delicious cup cakes! Parents and children welcome.
URL:https://bildeston.org/event/community-coffee-centre/2026-10-02/
LOCATION:Bildeston Baptist Church\, Duke street\, Bildeston\, IP7 7EW\, United Kingdom
CATEGORIES:Bildeston Baptist Church
ORGANIZER;CN="Bildeston Baptist Church":MAILTO:bildestonbc@gmail.com
END:VEVENT
BEGIN:VEVENT
DTSTART;TZID=Europe/London:20261002T104500
DTEND;TZID=Europe/London:20261002T234500
DTSTAMP:20260423T062137
CREATED:20200510T141707Z
LAST-MODIFIED:20200510T141707Z
UID:34535-1790937900-1790984700@bildeston.org
SUMMARY:Intermediate Pilates
DESCRIPTION:
URL:https://bildeston.org/event/intermediate-pilates/2026-10-02/
LOCATION:Chamberlin Hall
CATEGORIES:Chamberlin Hall
ORGANIZER;CN="Claire Jacobs":MAILTO:claire@fitframephysio.com
END:VEVENT
BEGIN:VEVENT
DTSTART;TZID=Europe/London:20261002T104500
DTEND;TZID=Europe/London:20261002T234500
DTSTAMP:20260423T062137
CREATED:20200510T141707Z
LAST-MODIFIED:20200510T141707Z
UID:34536-1790937900-1790984700@bildeston.org
SUMMARY:Intermediate Pilates
DESCRIPTION:
URL:https://bildeston.org/event/intermediate-pilates-2/2026-10-02/
LOCATION:Chamberlin Hall
CATEGORIES:Chamberlin Hall
ORGANIZER;CN="Claire Jacobs":MAILTO:claire@fitframephysio.com
END:VEVENT
BEGIN:VEVENT
DTSTART;TZID=Europe/London:20261002T120000
DTEND;TZID=Europe/London:20261002T130000
DTSTAMP:20260423T062137
CREATED:20200510T142415Z
LAST-MODIFIED:20200510T142415Z
UID:34537-1790942400-1790946000@bildeston.org
SUMMARY:Beginners Pilates
DESCRIPTION:
URL:https://bildeston.org/event/beginners-pilates-cancelled-2023-05-05/2026-10-02/
LOCATION:Chamberlin Hall
CATEGORIES:Chamberlin Hall
ORGANIZER;CN="Claire Jacobs":MAILTO:claire@fitframephysio.com
END:VEVENT
BEGIN:VEVENT
DTSTART;TZID=Europe/London:20261002T190000
DTEND;TZID=Europe/London:20261002T190000
DTSTAMP:20260423T062137
CREATED:20211105T141555Z
LAST-MODIFIED:20211105T141555Z
UID:34539-1790967600-1790967600@bildeston.org
SUMMARY:Bowling social evening
DESCRIPTION:
URL:https://bildeston.org/event/bowling-social-evening/2026-10-02/
LOCATION:Chamberlin Hall
CATEGORIES:Chamberlin Hall
END:VEVENT
BEGIN:VEVENT
DTSTART;TZID=Europe/London:20261005T193000
DTEND;TZID=Europe/London:20261005T193000
DTSTAMP:20260423T062137
CREATED:20250926T162531Z
LAST-MODIFIED:20251020T110456Z
UID:73526-1791228600-1791228600@bildeston.org
SUMMARY:Parish Council Meeting
DESCRIPTION:This meeting will be held at Chamberlin Hall. Members of the public are welcome to attend; please see the agenda for more details.
URL:https://bildeston.org/event/parish-council-meeting-59/
LOCATION:Chamberlin Hall
CATEGORIES:Parish Council Meetings
END:VEVENT
BEGIN:VEVENT
DTSTART;TZID=Europe/London:20261006T110000
DTEND;TZID=Europe/London:20261006T120000
DTSTAMP:20260423T062137
CREATED:20210816T205642Z
LAST-MODIFIED:20210816T205642Z
UID:35958-1791284400-1791288000@bildeston.org
SUMMARY:Rosie’s line dancing
DESCRIPTION:
URL:https://bildeston.org/event/rosies-line-dancing/2026-10-06/
LOCATION:Chamberlin Hall
CATEGORIES:Chamberlin Hall
END:VEVENT
BEGIN:VEVENT
DTSTART;TZID=Europe/London:20261006T130000
DTEND;TZID=Europe/London:20261006T130000
DTSTAMP:20260423T062137
CREATED:20220327T212757Z
LAST-MODIFIED:20220327T212757Z
UID:35961-1791291600-1791291600@bildeston.org
SUMMARY:Zumba Gold!
DESCRIPTION:
URL:https://bildeston.org/event/zumba-gold-3/2026-10-06/
LOCATION:Chamberlin Hall
CATEGORIES:Chamberlin Hall
ORGANIZER;CN="Jo Brown":MAILTO:joanna-m-brown@hotmail.co.uk
END:VEVENT
BEGIN:VEVENT
DTSTART;TZID=Europe/London:20261006T190000
DTEND;TZID=Europe/London:20261006T190000
DTSTAMP:20260423T062137
CREATED:20210816T211454Z
LAST-MODIFIED:20210816T211454Z
UID:35959-1791313200-1791313200@bildeston.org
SUMMARY:Snooker club
DESCRIPTION:
URL:https://bildeston.org/event/snooker-club-2/2026-10-06/
LOCATION:Chamberlin Hall
CATEGORIES:Chamberlin Hall
END:VEVENT
BEGIN:VEVENT
DTSTART;TZID=Europe/London:20261006T193000
DTEND;TZID=Europe/London:20261006T193000
DTSTAMP:20260423T062137
CREATED:20210827T153117Z
LAST-MODIFIED:20210827T153117Z
UID:35960-1791315000-1791315000@bildeston.org
SUMMARY:Bildeston Carpet Bowls Club
DESCRIPTION:New members are very welcome to join our friendly club. Please ring our Club Captain Mike on 01284 827688.
URL:https://bildeston.org/event/bildeston-carpet-bowls-club/2026-10-06/
LOCATION:Chamberlin Hall
CATEGORIES:Chamberlin Hall
END:VEVENT
BEGIN:VEVENT
DTSTART;TZID=Europe/London:20261007T123000
DTEND;TZID=Europe/London:20261007T170000
DTSTAMP:20260423T062137
CREATED:20210923T092930Z
LAST-MODIFIED:20210923T092930Z
UID:35957-1791376200-1791392400@bildeston.org
SUMMARY:Lunch Club
DESCRIPTION:Lunch club runs the first Wednesday each month – please ring 07584 189356 to reserve a place
URL:https://bildeston.org/event/lunch-club-2/2026-10-07/
LOCATION:Bildeston Baptist Church\, Duke street\, Bildeston\, IP7 7EW\, United Kingdom
CATEGORIES:Bildeston Baptist Church
ORGANIZER;CN="Bildeston Baptist Church":MAILTO:bildestonbc@gmail.com
END:VEVENT
BEGIN:VEVENT
DTSTART;TZID=Europe/London:20261008T091500
DTEND;TZID=Europe/London:20261008T101500
DTSTAMP:20260423T062137
CREATED:20211105T141138Z
LAST-MODIFIED:20211105T141138Z
UID:35963-1791450900-1791454500@bildeston.org
SUMMARY:Exercise classes
DESCRIPTION:Call 07718593532 for details
URL:https://bildeston.org/event/exercise-classes/2026-10-08/
LOCATION:Chamberlin Hall
CATEGORIES:Chamberlin Hall
END:VEVENT
BEGIN:VEVENT
DTSTART;TZID=Europe/London:20261008T100000
DTEND;TZID=Europe/London:20261008T104500
DTSTAMP:20260423T062137
CREATED:20210827T162858Z
LAST-MODIFIED:20210827T162858Z
UID:35962-1791453600-1791456300@bildeston.org
SUMMARY:Zumba Gold!
DESCRIPTION:£4 pay as you go \n(Every 10th class free)
URL:https://bildeston.org/event/zumba-gold-2/2026-10-08/
LOCATION:Chamberlin Hall
CATEGORIES:Chamberlin Hall
ORGANIZER;CN="Jo Brown":MAILTO:joanna-m-brown@hotmail.co.uk
END:VEVENT
BEGIN:VEVENT
DTSTART;TZID=Europe/London:20261008T190000
DTEND;TZID=Europe/London:20261008T220000
DTSTAMP:20260423T062137
CREATED:20211105T141438Z
LAST-MODIFIED:20211105T141438Z
UID:35964-1791486000-1791496800@bildeston.org
SUMMARY:VIPs Drama Group
DESCRIPTION:For details on how to join\, call Debbie: 01449 740375
URL:https://bildeston.org/event/vips-drama-group/2026-10-08/
LOCATION:Chamberlin Hall
CATEGORIES:Chamberlin Hall
END:VEVENT
BEGIN:VEVENT
DTSTART;TZID=Europe/London:20261009T091500
DTEND;TZID=Europe/London:20261009T113000
DTSTAMP:20260423T062137
CREATED:20211105T110322Z
LAST-MODIFIED:20211105T110322Z
UID:35968-1791537300-1791545400@bildeston.org
SUMMARY:Community coffee centre
DESCRIPTION:Come along to the Bildeston Community Cafe and enjoy tea\, coffee\, scones\, bacon rolls or one of our delicious cup cakes! Parents and children welcome.
URL:https://bildeston.org/event/community-coffee-centre/2026-10-09/
LOCATION:Bildeston Baptist Church\, Duke street\, Bildeston\, IP7 7EW\, United Kingdom
CATEGORIES:Bildeston Baptist Church
ORGANIZER;CN="Bildeston Baptist Church":MAILTO:bildestonbc@gmail.com
END:VEVENT
BEGIN:VEVENT
DTSTART;TZID=Europe/London:20261009T104500
DTEND;TZID=Europe/London:20261009T234500
DTSTAMP:20260423T062137
CREATED:20200510T141707Z
LAST-MODIFIED:20200510T141707Z
UID:35965-1791542700-1791589500@bildeston.org
SUMMARY:Intermediate Pilates
DESCRIPTION:
URL:https://bildeston.org/event/intermediate-pilates/2026-10-09/
LOCATION:Chamberlin Hall
CATEGORIES:Chamberlin Hall
ORGANIZER;CN="Claire Jacobs":MAILTO:claire@fitframephysio.com
END:VEVENT
BEGIN:VEVENT
DTSTART;TZID=Europe/London:20261009T104500
DTEND;TZID=Europe/London:20261009T234500
DTSTAMP:20260423T062137
CREATED:20200510T141707Z
LAST-MODIFIED:20200510T141707Z
UID:35966-1791542700-1791589500@bildeston.org
SUMMARY:Intermediate Pilates
DESCRIPTION:
URL:https://bildeston.org/event/intermediate-pilates-2/2026-10-09/
LOCATION:Chamberlin Hall
CATEGORIES:Chamberlin Hall
ORGANIZER;CN="Claire Jacobs":MAILTO:claire@fitframephysio.com
END:VEVENT
END:VCALENDAR