BEGIN:VCALENDAR
VERSION:2.0
PRODID:-//Bildeston Village - ECPv6.15.18//NONSGML v1.0//EN
CALSCALE:GREGORIAN
METHOD:PUBLISH
X-WR-CALNAME:Bildeston Village
X-ORIGINAL-URL:https://bildeston.org
X-WR-CALDESC:Events for Bildeston Village
REFRESH-INTERVAL;VALUE=DURATION:PT1H
X-Robots-Tag:noindex
X-PUBLISHED-TTL:PT1H
BEGIN:VTIMEZONE
TZID:Europe/London
BEGIN:DAYLIGHT
TZOFFSETFROM:+0000
TZOFFSETTO:+0100
TZNAME:BST
DTSTART:20240331T010000
END:DAYLIGHT
BEGIN:STANDARD
TZOFFSETFROM:+0100
TZOFFSETTO:+0000
TZNAME:GMT
DTSTART:20241027T010000
END:STANDARD
BEGIN:DAYLIGHT
TZOFFSETFROM:+0000
TZOFFSETTO:+0100
TZNAME:BST
DTSTART:20250330T010000
END:DAYLIGHT
BEGIN:STANDARD
TZOFFSETFROM:+0100
TZOFFSETTO:+0000
TZNAME:GMT
DTSTART:20251026T010000
END:STANDARD
BEGIN:DAYLIGHT
TZOFFSETFROM:+0000
TZOFFSETTO:+0100
TZNAME:BST
DTSTART:20260329T010000
END:DAYLIGHT
BEGIN:STANDARD
TZOFFSETFROM:+0100
TZOFFSETTO:+0000
TZNAME:GMT
DTSTART:20261025T010000
END:STANDARD
END:VTIMEZONE
BEGIN:VEVENT
DTSTART;TZID=Europe/London:20250708T190000
DTEND;TZID=Europe/London:20250708T190000
DTSTAMP:20260421T062209
CREATED:20210816T211454Z
LAST-MODIFIED:20210816T211454Z
UID:23523-1752001200-1752001200@bildeston.org
SUMMARY:Snooker club
DESCRIPTION:
URL:https://bildeston.org/event/snooker-club-2/2025-07-08/
LOCATION:Chamberlin Hall
CATEGORIES:Chamberlin Hall
END:VEVENT
BEGIN:VEVENT
DTSTART;TZID=Europe/London:20250708T193000
DTEND;TZID=Europe/London:20250708T193000
DTSTAMP:20260421T062209
CREATED:20210827T153117Z
LAST-MODIFIED:20210827T153117Z
UID:23524-1752003000-1752003000@bildeston.org
SUMMARY:Bildeston Carpet Bowls Club
DESCRIPTION:New members are very welcome to join our friendly club. Please ring our Club Captain Mike on 01284 827688.
URL:https://bildeston.org/event/bildeston-carpet-bowls-club/2025-07-08/
LOCATION:Chamberlin Hall
CATEGORIES:Chamberlin Hall
END:VEVENT
BEGIN:VEVENT
DTSTART;TZID=Europe/London:20250710T091500
DTEND;TZID=Europe/London:20250710T101500
DTSTAMP:20260421T062209
CREATED:20211105T141138Z
LAST-MODIFIED:20211105T141138Z
UID:23537-1752138900-1752142500@bildeston.org
SUMMARY:Exercise classes
DESCRIPTION:Call 07718593532 for details
URL:https://bildeston.org/event/exercise-classes/2025-07-10/
LOCATION:Chamberlin Hall
CATEGORIES:Chamberlin Hall
END:VEVENT
BEGIN:VEVENT
DTSTART;TZID=Europe/London:20250710T100000
DTEND;TZID=Europe/London:20250710T104500
DTSTAMP:20260421T062209
CREATED:20210827T162858Z
LAST-MODIFIED:20210827T162858Z
UID:23536-1752141600-1752144300@bildeston.org
SUMMARY:Zumba Gold!
DESCRIPTION:£4 pay as you go \n(Every 10th class free)
URL:https://bildeston.org/event/zumba-gold-2/2025-07-10/
LOCATION:Chamberlin Hall
CATEGORIES:Chamberlin Hall
ORGANIZER;CN="Jo Brown":MAILTO:joanna-m-brown@hotmail.co.uk
END:VEVENT
BEGIN:VEVENT
DTSTART;TZID=Europe/London:20250710T190000
DTEND;TZID=Europe/London:20250710T220000
DTSTAMP:20260421T062209
CREATED:20211105T141438Z
LAST-MODIFIED:20211105T141438Z
UID:23538-1752174000-1752184800@bildeston.org
SUMMARY:VIPs Drama Group
DESCRIPTION:For details on how to join\, call Debbie: 01449 740375
URL:https://bildeston.org/event/vips-drama-group/2025-07-10/
LOCATION:Chamberlin Hall
CATEGORIES:Chamberlin Hall
END:VEVENT
BEGIN:VEVENT
DTSTART;TZID=Europe/London:20250711T091500
DTEND;TZID=Europe/London:20250711T113000
DTSTAMP:20260421T062209
CREATED:20211105T110322Z
LAST-MODIFIED:20211105T110322Z
UID:23547-1752225300-1752233400@bildeston.org
SUMMARY:Community coffee centre
DESCRIPTION:Come along to the Bildeston Community Cafe and enjoy tea\, coffee\, scones\, bacon rolls or one of our delicious cup cakes! Parents and children welcome.
URL:https://bildeston.org/event/community-coffee-centre/2025-07-11/
LOCATION:Bildeston Baptist Church\, Duke street\, Bildeston\, IP7 7EW\, United Kingdom
CATEGORIES:Bildeston Baptist Church
ORGANIZER;CN="Bildeston Baptist Church":MAILTO:bildestonbc@gmail.com
END:VEVENT
BEGIN:VEVENT
DTSTART;TZID=Europe/London:20250711T104500
DTEND;TZID=Europe/London:20250711T234500
DTSTAMP:20260421T062209
CREATED:20200510T141707Z
LAST-MODIFIED:20200510T141707Z
UID:23544-1752230700-1752277500@bildeston.org
SUMMARY:Intermediate Pilates
DESCRIPTION:
URL:https://bildeston.org/event/intermediate-pilates/2025-07-11/
LOCATION:Chamberlin Hall
CATEGORIES:Chamberlin Hall
ORGANIZER;CN="Claire Jacobs":MAILTO:claire@fitframephysio.com
END:VEVENT
BEGIN:VEVENT
DTSTART;TZID=Europe/London:20250711T104500
DTEND;TZID=Europe/London:20250711T234500
DTSTAMP:20260421T062209
CREATED:20200510T141707Z
LAST-MODIFIED:20200510T141707Z
UID:23545-1752230700-1752277500@bildeston.org
SUMMARY:Intermediate Pilates
DESCRIPTION:
URL:https://bildeston.org/event/intermediate-pilates-2/2025-07-11/
LOCATION:Chamberlin Hall
CATEGORIES:Chamberlin Hall
ORGANIZER;CN="Claire Jacobs":MAILTO:claire@fitframephysio.com
END:VEVENT
BEGIN:VEVENT
DTSTART;TZID=Europe/London:20250711T120000
DTEND;TZID=Europe/London:20250711T130000
DTSTAMP:20260421T062209
CREATED:20200510T142415Z
LAST-MODIFIED:20200510T142415Z
UID:23546-1752235200-1752238800@bildeston.org
SUMMARY:Beginners Pilates
DESCRIPTION:
URL:https://bildeston.org/event/beginners-pilates-cancelled-2023-05-05/2025-07-11/
LOCATION:Chamberlin Hall
CATEGORIES:Chamberlin Hall
ORGANIZER;CN="Claire Jacobs":MAILTO:claire@fitframephysio.com
END:VEVENT
BEGIN:VEVENT
DTSTART;TZID=Europe/London:20250711T190000
DTEND;TZID=Europe/London:20250711T190000
DTSTAMP:20260421T062209
CREATED:20211105T141555Z
LAST-MODIFIED:20211105T141555Z
UID:23548-1752260400-1752260400@bildeston.org
SUMMARY:Bowling social evening
DESCRIPTION:
URL:https://bildeston.org/event/bowling-social-evening/2025-07-11/
LOCATION:Chamberlin Hall
CATEGORIES:Chamberlin Hall
END:VEVENT
BEGIN:VEVENT
DTSTART;TZID=Europe/London:20250715T110000
DTEND;TZID=Europe/London:20250715T120000
DTSTAMP:20260421T062209
CREATED:20210816T205642Z
LAST-MODIFIED:20210816T205642Z
UID:23570-1752577200-1752580800@bildeston.org
SUMMARY:Rosie’s line dancing
DESCRIPTION:
URL:https://bildeston.org/event/rosies-line-dancing/2025-07-15/
LOCATION:Chamberlin Hall
CATEGORIES:Chamberlin Hall
END:VEVENT
BEGIN:VEVENT
DTSTART;TZID=Europe/London:20250715T130000
DTEND;TZID=Europe/London:20250715T130000
DTSTAMP:20260421T062209
CREATED:20220327T212757Z
LAST-MODIFIED:20220327T212757Z
UID:23573-1752584400-1752584400@bildeston.org
SUMMARY:Zumba Gold!
DESCRIPTION:
URL:https://bildeston.org/event/zumba-gold-3/2025-07-15/
LOCATION:Chamberlin Hall
CATEGORIES:Chamberlin Hall
ORGANIZER;CN="Jo Brown":MAILTO:joanna-m-brown@hotmail.co.uk
END:VEVENT
BEGIN:VEVENT
DTSTART;TZID=Europe/London:20250715T190000
DTEND;TZID=Europe/London:20250715T190000
DTSTAMP:20260421T062209
CREATED:20210816T211454Z
LAST-MODIFIED:20210816T211454Z
UID:23571-1752606000-1752606000@bildeston.org
SUMMARY:Snooker club
DESCRIPTION:
URL:https://bildeston.org/event/snooker-club-2/2025-07-15/
LOCATION:Chamberlin Hall
CATEGORIES:Chamberlin Hall
END:VEVENT
BEGIN:VEVENT
DTSTART;TZID=Europe/London:20250715T193000
DTEND;TZID=Europe/London:20250715T193000
DTSTAMP:20260421T062209
CREATED:20210827T153117Z
LAST-MODIFIED:20210827T153117Z
UID:23572-1752607800-1752607800@bildeston.org
SUMMARY:Bildeston Carpet Bowls Club
DESCRIPTION:New members are very welcome to join our friendly club. Please ring our Club Captain Mike on 01284 827688.
URL:https://bildeston.org/event/bildeston-carpet-bowls-club/2025-07-15/
LOCATION:Chamberlin Hall
CATEGORIES:Chamberlin Hall
END:VEVENT
BEGIN:VEVENT
DTSTART;TZID=Europe/London:20250717T091500
DTEND;TZID=Europe/London:20250717T101500
DTSTAMP:20260421T062209
CREATED:20211105T141138Z
LAST-MODIFIED:20211105T141138Z
UID:23577-1752743700-1752747300@bildeston.org
SUMMARY:Exercise classes
DESCRIPTION:Call 07718593532 for details
URL:https://bildeston.org/event/exercise-classes/2025-07-17/
LOCATION:Chamberlin Hall
CATEGORIES:Chamberlin Hall
END:VEVENT
BEGIN:VEVENT
DTSTART;TZID=Europe/London:20250717T100000
DTEND;TZID=Europe/London:20250717T104500
DTSTAMP:20260421T062209
CREATED:20210827T162858Z
LAST-MODIFIED:20210827T162858Z
UID:23576-1752746400-1752749100@bildeston.org
SUMMARY:Zumba Gold!
DESCRIPTION:£4 pay as you go \n(Every 10th class free)
URL:https://bildeston.org/event/zumba-gold-2/2025-07-17/
LOCATION:Chamberlin Hall
CATEGORIES:Chamberlin Hall
ORGANIZER;CN="Jo Brown":MAILTO:joanna-m-brown@hotmail.co.uk
END:VEVENT
BEGIN:VEVENT
DTSTART;TZID=Europe/London:20250717T190000
DTEND;TZID=Europe/London:20250717T220000
DTSTAMP:20260421T062209
CREATED:20211105T141438Z
LAST-MODIFIED:20211105T141438Z
UID:23578-1752778800-1752789600@bildeston.org
SUMMARY:VIPs Drama Group
DESCRIPTION:For details on how to join\, call Debbie: 01449 740375
URL:https://bildeston.org/event/vips-drama-group/2025-07-17/
LOCATION:Chamberlin Hall
CATEGORIES:Chamberlin Hall
END:VEVENT
BEGIN:VEVENT
DTSTART;TZID=Europe/London:20250717T190000
DTEND;TZID=Europe/London:20250717T220000
DTSTAMP:20260421T062209
CREATED:20250717T093826Z
LAST-MODIFIED:20250717T093956Z
UID:58467-1752778800-1752789600@bildeston.org
SUMMARY:BNatural Pub Quiz
DESCRIPTION:The BNATURAL PUB QUIZ is this Thursday 17th July at the Kings Head in Bildeston. To book tickets please email bnaturalmusicfestival@gmail.com. Tickets are £5 per person. We look forward to seeing you there!
URL:https://bildeston.org/event/bnatural-pub-quiz-2/
LOCATION:King’s Head Bildeston\, 132 High St\, Ipswich Bildeston\, IP7 7ED\, United Kingdom
CATEGORIES:BNatural Events
END:VEVENT
BEGIN:VEVENT
DTSTART;TZID=Europe/London:20250718T091500
DTEND;TZID=Europe/London:20250718T113000
DTSTAMP:20260421T062209
CREATED:20211105T110322Z
LAST-MODIFIED:20211105T110322Z
UID:23583-1752830100-1752838200@bildeston.org
SUMMARY:Community coffee centre
DESCRIPTION:Come along to the Bildeston Community Cafe and enjoy tea\, coffee\, scones\, bacon rolls or one of our delicious cup cakes! Parents and children welcome.
URL:https://bildeston.org/event/community-coffee-centre/2025-07-18/
LOCATION:Bildeston Baptist Church\, Duke street\, Bildeston\, IP7 7EW\, United Kingdom
CATEGORIES:Bildeston Baptist Church
ORGANIZER;CN="Bildeston Baptist Church":MAILTO:bildestonbc@gmail.com
END:VEVENT
BEGIN:VEVENT
DTSTART;TZID=Europe/London:20250718T104500
DTEND;TZID=Europe/London:20250718T234500
DTSTAMP:20260421T062209
CREATED:20200510T141707Z
LAST-MODIFIED:20200510T141707Z
UID:23580-1752835500-1752882300@bildeston.org
SUMMARY:Intermediate Pilates
DESCRIPTION:
URL:https://bildeston.org/event/intermediate-pilates/2025-07-18/
LOCATION:Chamberlin Hall
CATEGORIES:Chamberlin Hall
ORGANIZER;CN="Claire Jacobs":MAILTO:claire@fitframephysio.com
END:VEVENT
BEGIN:VEVENT
DTSTART;TZID=Europe/London:20250718T104500
DTEND;TZID=Europe/London:20250718T234500
DTSTAMP:20260421T062209
CREATED:20200510T141707Z
LAST-MODIFIED:20200510T141707Z
UID:23581-1752835500-1752882300@bildeston.org
SUMMARY:Intermediate Pilates
DESCRIPTION:
URL:https://bildeston.org/event/intermediate-pilates-2/2025-07-18/
LOCATION:Chamberlin Hall
CATEGORIES:Chamberlin Hall
ORGANIZER;CN="Claire Jacobs":MAILTO:claire@fitframephysio.com
END:VEVENT
BEGIN:VEVENT
DTSTART;TZID=Europe/London:20250718T120000
DTEND;TZID=Europe/London:20250718T130000
DTSTAMP:20260421T062209
CREATED:20200510T142415Z
LAST-MODIFIED:20200510T142415Z
UID:23582-1752840000-1752843600@bildeston.org
SUMMARY:Beginners Pilates
DESCRIPTION:
URL:https://bildeston.org/event/beginners-pilates-cancelled-2023-05-05/2025-07-18/
LOCATION:Chamberlin Hall
CATEGORIES:Chamberlin Hall
ORGANIZER;CN="Claire Jacobs":MAILTO:claire@fitframephysio.com
END:VEVENT
BEGIN:VEVENT
DTSTART;TZID=Europe/London:20250718T190000
DTEND;TZID=Europe/London:20250718T190000
DTSTAMP:20260421T062209
CREATED:20211105T141555Z
LAST-MODIFIED:20211105T141555Z
UID:23584-1752865200-1752865200@bildeston.org
SUMMARY:Bowling social evening
DESCRIPTION:
URL:https://bildeston.org/event/bowling-social-evening/2025-07-18/
LOCATION:Chamberlin Hall
CATEGORIES:Chamberlin Hall
END:VEVENT
BEGIN:VEVENT
DTSTART;TZID=Europe/London:20250722T110000
DTEND;TZID=Europe/London:20250722T120000
DTSTAMP:20260421T062209
CREATED:20210816T205642Z
LAST-MODIFIED:20210816T205642Z
UID:23595-1753182000-1753185600@bildeston.org
SUMMARY:Rosie’s line dancing
DESCRIPTION:
URL:https://bildeston.org/event/rosies-line-dancing/2025-07-22/
LOCATION:Chamberlin Hall
CATEGORIES:Chamberlin Hall
END:VEVENT
BEGIN:VEVENT
DTSTART;TZID=Europe/London:20250722T130000
DTEND;TZID=Europe/London:20250722T130000
DTSTAMP:20260421T062209
CREATED:20220327T212757Z
LAST-MODIFIED:20220327T212757Z
UID:23598-1753189200-1753189200@bildeston.org
SUMMARY:Zumba Gold!
DESCRIPTION:
URL:https://bildeston.org/event/zumba-gold-3/2025-07-22/
LOCATION:Chamberlin Hall
CATEGORIES:Chamberlin Hall
ORGANIZER;CN="Jo Brown":MAILTO:joanna-m-brown@hotmail.co.uk
END:VEVENT
BEGIN:VEVENT
DTSTART;TZID=Europe/London:20250722T190000
DTEND;TZID=Europe/London:20250722T190000
DTSTAMP:20260421T062209
CREATED:20210816T211454Z
LAST-MODIFIED:20210816T211454Z
UID:23596-1753210800-1753210800@bildeston.org
SUMMARY:Snooker club
DESCRIPTION:
URL:https://bildeston.org/event/snooker-club-2/2025-07-22/
LOCATION:Chamberlin Hall
CATEGORIES:Chamberlin Hall
END:VEVENT
BEGIN:VEVENT
DTSTART;TZID=Europe/London:20250722T193000
DTEND;TZID=Europe/London:20250722T193000
DTSTAMP:20260421T062209
CREATED:20210827T153117Z
LAST-MODIFIED:20210827T153117Z
UID:23597-1753212600-1753212600@bildeston.org
SUMMARY:Bildeston Carpet Bowls Club
DESCRIPTION:New members are very welcome to join our friendly club. Please ring our Club Captain Mike on 01284 827688.
URL:https://bildeston.org/event/bildeston-carpet-bowls-club/2025-07-22/
LOCATION:Chamberlin Hall
CATEGORIES:Chamberlin Hall
END:VEVENT
BEGIN:VEVENT
DTSTART;TZID=Europe/London:20250723T141000
DTEND;TZID=Europe/London:20250723T160000
DTSTAMP:20260421T062209
CREATED:20220124T224416Z
LAST-MODIFIED:20220124T224416Z
UID:23600-1753279800-1753286400@bildeston.org
SUMMARY:Mobile library
DESCRIPTION:The Mobile Library is operating as normal now\, but with the following provisions: \n\nOne customer at a time\nEveryone to sanitise their hands before entering\nStaff will wear face masks and customers encouraged to do the same\nPlease be as quick as possible to allow others time to choose\nThere is a temporary limit of 4 items per person\nAll returned stock is quarantined for 72 hours\nShelves are sanitised between stops\n\nThe Bildeston stops are as follows: \n\nBrooksfield at 14.10 to 14.25\nMarket Square 14.30 to 14.45\nNewberry Road 14.50 to 15.05\nPaddock Way 15.10 to 16.00
URL:https://bildeston.org/event/mobile-library/2025-07-23/
CATEGORIES:Market Square
END:VEVENT
BEGIN:VEVENT
DTSTART;TZID=Europe/London:20250724T091500
DTEND;TZID=Europe/London:20250724T101500
DTSTAMP:20260421T062209
CREATED:20211105T141138Z
LAST-MODIFIED:20211105T141138Z
UID:23603-1753348500-1753352100@bildeston.org
SUMMARY:Exercise classes
DESCRIPTION:Call 07718593532 for details
URL:https://bildeston.org/event/exercise-classes/2025-07-24/
LOCATION:Chamberlin Hall
CATEGORIES:Chamberlin Hall
END:VEVENT
BEGIN:VEVENT
DTSTART;TZID=Europe/London:20250724T100000
DTEND;TZID=Europe/London:20250724T104500
DTSTAMP:20260421T062209
CREATED:20210827T162858Z
LAST-MODIFIED:20210827T162858Z
UID:23602-1753351200-1753353900@bildeston.org
SUMMARY:Zumba Gold!
DESCRIPTION:£4 pay as you go \n(Every 10th class free)
URL:https://bildeston.org/event/zumba-gold-2/2025-07-24/
LOCATION:Chamberlin Hall
CATEGORIES:Chamberlin Hall
ORGANIZER;CN="Jo Brown":MAILTO:joanna-m-brown@hotmail.co.uk
END:VEVENT
END:VCALENDAR