BEGIN:VCALENDAR
VERSION:2.0
PRODID:-//Bildeston Village - ECPv6.15.18//NONSGML v1.0//EN
CALSCALE:GREGORIAN
METHOD:PUBLISH
X-WR-CALNAME:Bildeston Village
X-ORIGINAL-URL:https://bildeston.org
X-WR-CALDESC:Events for Bildeston Village
REFRESH-INTERVAL;VALUE=DURATION:PT1H
X-Robots-Tag:noindex
X-PUBLISHED-TTL:PT1H
BEGIN:VTIMEZONE
TZID:Europe/London
BEGIN:DAYLIGHT
TZOFFSETFROM:+0000
TZOFFSETTO:+0100
TZNAME:BST
DTSTART:20240331T010000
END:DAYLIGHT
BEGIN:STANDARD
TZOFFSETFROM:+0100
TZOFFSETTO:+0000
TZNAME:GMT
DTSTART:20241027T010000
END:STANDARD
BEGIN:DAYLIGHT
TZOFFSETFROM:+0000
TZOFFSETTO:+0100
TZNAME:BST
DTSTART:20250330T010000
END:DAYLIGHT
BEGIN:STANDARD
TZOFFSETFROM:+0100
TZOFFSETTO:+0000
TZNAME:GMT
DTSTART:20251026T010000
END:STANDARD
BEGIN:DAYLIGHT
TZOFFSETFROM:+0000
TZOFFSETTO:+0100
TZNAME:BST
DTSTART:20260329T010000
END:DAYLIGHT
BEGIN:STANDARD
TZOFFSETFROM:+0100
TZOFFSETTO:+0000
TZNAME:GMT
DTSTART:20261025T010000
END:STANDARD
END:VTIMEZONE
BEGIN:VEVENT
DTSTART;TZID=Europe/London:20250227T100000
DTEND;TZID=Europe/London:20250227T104500
DTSTAMP:20260421T064009
CREATED:20210827T162858Z
LAST-MODIFIED:20210827T162858Z
UID:22802-1740650400-1740653100@bildeston.org
SUMMARY:Zumba Gold!
DESCRIPTION:£4 pay as you go \n(Every 10th class free)
URL:https://bildeston.org/event/zumba-gold-2/2025-02-27/
LOCATION:Chamberlin Hall
CATEGORIES:Chamberlin Hall
ORGANIZER;CN="Jo Brown":MAILTO:joanna-m-brown@hotmail.co.uk
END:VEVENT
BEGIN:VEVENT
DTSTART;TZID=Europe/London:20250227T091500
DTEND;TZID=Europe/London:20250227T101500
DTSTAMP:20260421T064009
CREATED:20211105T141138Z
LAST-MODIFIED:20211105T141138Z
UID:22803-1740647700-1740651300@bildeston.org
SUMMARY:Exercise classes
DESCRIPTION:Call 07718593532 for details
URL:https://bildeston.org/event/exercise-classes/2025-02-27/
LOCATION:Chamberlin Hall
CATEGORIES:Chamberlin Hall
END:VEVENT
BEGIN:VEVENT
DTSTART;TZID=Europe/London:20250225T193000
DTEND;TZID=Europe/London:20250225T193000
DTSTAMP:20260421T064009
CREATED:20210827T153117Z
LAST-MODIFIED:20210827T153117Z
UID:22797-1740511800-1740511800@bildeston.org
SUMMARY:Bildeston Carpet Bowls Club
DESCRIPTION:New members are very welcome to join our friendly club. Please ring our Club Captain Mike on 01284 827688.
URL:https://bildeston.org/event/bildeston-carpet-bowls-club/2025-02-25/
LOCATION:Chamberlin Hall
CATEGORIES:Chamberlin Hall
END:VEVENT
BEGIN:VEVENT
DTSTART;TZID=Europe/London:20250225T190000
DTEND;TZID=Europe/London:20250225T190000
DTSTAMP:20260421T064009
CREATED:20210816T211454Z
LAST-MODIFIED:20210816T211454Z
UID:22796-1740510000-1740510000@bildeston.org
SUMMARY:Snooker club
DESCRIPTION:
URL:https://bildeston.org/event/snooker-club-2/2025-02-25/
LOCATION:Chamberlin Hall
CATEGORIES:Chamberlin Hall
END:VEVENT
BEGIN:VEVENT
DTSTART;TZID=Europe/London:20250225T130000
DTEND;TZID=Europe/London:20250225T130000
DTSTAMP:20260421T064009
CREATED:20220327T212757Z
LAST-MODIFIED:20220327T212757Z
UID:22798-1740488400-1740488400@bildeston.org
SUMMARY:Zumba Gold!
DESCRIPTION:
URL:https://bildeston.org/event/zumba-gold-3/2025-02-25/
LOCATION:Chamberlin Hall
CATEGORIES:Chamberlin Hall
ORGANIZER;CN="Jo Brown":MAILTO:joanna-m-brown@hotmail.co.uk
END:VEVENT
BEGIN:VEVENT
DTSTART;TZID=Europe/London:20250225T110000
DTEND;TZID=Europe/London:20250225T120000
DTSTAMP:20260421T064009
CREATED:20210816T205642Z
LAST-MODIFIED:20210816T205642Z
UID:22795-1740481200-1740484800@bildeston.org
SUMMARY:Rosie’s line dancing
DESCRIPTION:
URL:https://bildeston.org/event/rosies-line-dancing/2025-02-25/
LOCATION:Chamberlin Hall
CATEGORIES:Chamberlin Hall
END:VEVENT
BEGIN:VEVENT
DTSTART;TZID=Europe/London:20250221T190000
DTEND;TZID=Europe/London:20250221T190000
DTSTAMP:20260421T064009
CREATED:20211105T141555Z
LAST-MODIFIED:20211105T141555Z
UID:22784-1740164400-1740164400@bildeston.org
SUMMARY:Bowling social evening
DESCRIPTION:
URL:https://bildeston.org/event/bowling-social-evening/2025-02-21/
LOCATION:Chamberlin Hall
CATEGORIES:Chamberlin Hall
END:VEVENT
BEGIN:VEVENT
DTSTART;TZID=Europe/London:20250221T120000
DTEND;TZID=Europe/London:20250221T130000
DTSTAMP:20260421T064009
CREATED:20200510T142415Z
LAST-MODIFIED:20200510T142415Z
UID:22782-1740139200-1740142800@bildeston.org
SUMMARY:Beginners Pilates
DESCRIPTION:
URL:https://bildeston.org/event/beginners-pilates-cancelled-2023-05-05/2025-02-21/
LOCATION:Chamberlin Hall
CATEGORIES:Chamberlin Hall
ORGANIZER;CN="Claire Jacobs":MAILTO:claire@fitframephysio.com
END:VEVENT
BEGIN:VEVENT
DTSTART;TZID=Europe/London:20250221T104500
DTEND;TZID=Europe/London:20250221T234500
DTSTAMP:20260421T064009
CREATED:20200510T141707Z
LAST-MODIFIED:20200510T141707Z
UID:22780-1740134700-1740181500@bildeston.org
SUMMARY:Intermediate Pilates
DESCRIPTION:
URL:https://bildeston.org/event/intermediate-pilates/2025-02-21/
LOCATION:Chamberlin Hall
CATEGORIES:Chamberlin Hall
ORGANIZER;CN="Claire Jacobs":MAILTO:claire@fitframephysio.com
END:VEVENT
BEGIN:VEVENT
DTSTART;TZID=Europe/London:20250221T104500
DTEND;TZID=Europe/London:20250221T234500
DTSTAMP:20260421T064009
CREATED:20200510T141707Z
LAST-MODIFIED:20200510T141707Z
UID:22781-1740134700-1740181500@bildeston.org
SUMMARY:Intermediate Pilates
DESCRIPTION:
URL:https://bildeston.org/event/intermediate-pilates-2/2025-02-21/
LOCATION:Chamberlin Hall
CATEGORIES:Chamberlin Hall
ORGANIZER;CN="Claire Jacobs":MAILTO:claire@fitframephysio.com
END:VEVENT
BEGIN:VEVENT
DTSTART;TZID=Europe/London:20250221T091500
DTEND;TZID=Europe/London:20250221T113000
DTSTAMP:20260421T064009
CREATED:20211105T110322Z
LAST-MODIFIED:20211105T110322Z
UID:22783-1740129300-1740137400@bildeston.org
SUMMARY:Community coffee centre
DESCRIPTION:Come along to the Bildeston Community Cafe and enjoy tea\, coffee\, scones\, bacon rolls or one of our delicious cup cakes! Parents and children welcome.
URL:https://bildeston.org/event/community-coffee-centre/2025-02-21/
LOCATION:Bildeston Baptist Church\, Duke street\, Bildeston\, IP7 7EW\, United Kingdom
CATEGORIES:Bildeston Baptist Church
ORGANIZER;CN="Bildeston Baptist Church":MAILTO:bildestonbc@gmail.com
END:VEVENT
BEGIN:VEVENT
DTSTART;TZID=Europe/London:20250220T190000
DTEND;TZID=Europe/London:20250220T220000
DTSTAMP:20260421T064009
CREATED:20211105T141438Z
LAST-MODIFIED:20211105T141438Z
UID:22772-1740078000-1740088800@bildeston.org
SUMMARY:VIPs Drama Group
DESCRIPTION:For details on how to join\, call Debbie: 01449 740375
URL:https://bildeston.org/event/vips-drama-group/2025-02-20/
LOCATION:Chamberlin Hall
CATEGORIES:Chamberlin Hall
END:VEVENT
BEGIN:VEVENT
DTSTART;TZID=Europe/London:20250220T100000
DTEND;TZID=Europe/London:20250220T104500
DTSTAMP:20260421T064009
CREATED:20210827T162858Z
LAST-MODIFIED:20210827T162858Z
UID:22770-1740045600-1740048300@bildeston.org
SUMMARY:Zumba Gold!
DESCRIPTION:£4 pay as you go \n(Every 10th class free)
URL:https://bildeston.org/event/zumba-gold-2/2025-02-20/
LOCATION:Chamberlin Hall
CATEGORIES:Chamberlin Hall
ORGANIZER;CN="Jo Brown":MAILTO:joanna-m-brown@hotmail.co.uk
END:VEVENT
BEGIN:VEVENT
DTSTART;TZID=Europe/London:20250220T091500
DTEND;TZID=Europe/London:20250220T101500
DTSTAMP:20260421T064009
CREATED:20211105T141138Z
LAST-MODIFIED:20211105T141138Z
UID:22771-1740042900-1740046500@bildeston.org
SUMMARY:Exercise classes
DESCRIPTION:Call 07718593532 for details
URL:https://bildeston.org/event/exercise-classes/2025-02-20/
LOCATION:Chamberlin Hall
CATEGORIES:Chamberlin Hall
END:VEVENT
BEGIN:VEVENT
DTSTART;TZID=Europe/London:20250218T193000
DTEND;TZID=Europe/London:20250218T193000
DTSTAMP:20260421T064009
CREATED:20210827T153117Z
LAST-MODIFIED:20210827T153117Z
UID:22738-1739907000-1739907000@bildeston.org
SUMMARY:Bildeston Carpet Bowls Club
DESCRIPTION:New members are very welcome to join our friendly club. Please ring our Club Captain Mike on 01284 827688.
URL:https://bildeston.org/event/bildeston-carpet-bowls-club/2025-02-18/
LOCATION:Chamberlin Hall
CATEGORIES:Chamberlin Hall
END:VEVENT
BEGIN:VEVENT
DTSTART;TZID=Europe/London:20250218T190000
DTEND;TZID=Europe/London:20250218T190000
DTSTAMP:20260421T064009
CREATED:20210816T211454Z
LAST-MODIFIED:20210816T211454Z
UID:22737-1739905200-1739905200@bildeston.org
SUMMARY:Snooker club
DESCRIPTION:
URL:https://bildeston.org/event/snooker-club-2/2025-02-18/
LOCATION:Chamberlin Hall
CATEGORIES:Chamberlin Hall
END:VEVENT
BEGIN:VEVENT
DTSTART;TZID=Europe/London:20250218T130000
DTEND;TZID=Europe/London:20250218T130000
DTSTAMP:20260421T064009
CREATED:20220327T212757Z
LAST-MODIFIED:20220327T212757Z
UID:22739-1739883600-1739883600@bildeston.org
SUMMARY:Zumba Gold!
DESCRIPTION:
URL:https://bildeston.org/event/zumba-gold-3/2025-02-18/
LOCATION:Chamberlin Hall
CATEGORIES:Chamberlin Hall
ORGANIZER;CN="Jo Brown":MAILTO:joanna-m-brown@hotmail.co.uk
END:VEVENT
BEGIN:VEVENT
DTSTART;TZID=Europe/London:20250218T110000
DTEND;TZID=Europe/London:20250218T120000
DTSTAMP:20260421T064009
CREATED:20210816T205642Z
LAST-MODIFIED:20210816T205642Z
UID:22736-1739876400-1739880000@bildeston.org
SUMMARY:Rosie’s line dancing
DESCRIPTION:
URL:https://bildeston.org/event/rosies-line-dancing/2025-02-18/
LOCATION:Chamberlin Hall
CATEGORIES:Chamberlin Hall
END:VEVENT
BEGIN:VEVENT
DTSTART;TZID=Europe/London:20250214T190000
DTEND;TZID=Europe/London:20250214T190000
DTSTAMP:20260421T064009
CREATED:20211105T141555Z
LAST-MODIFIED:20211105T141555Z
UID:22728-1739559600-1739559600@bildeston.org
SUMMARY:Bowling social evening
DESCRIPTION:
URL:https://bildeston.org/event/bowling-social-evening/2025-02-14/
LOCATION:Chamberlin Hall
CATEGORIES:Chamberlin Hall
END:VEVENT
BEGIN:VEVENT
DTSTART;TZID=Europe/London:20250214T120000
DTEND;TZID=Europe/London:20250214T130000
DTSTAMP:20260421T064009
CREATED:20200510T142415Z
LAST-MODIFIED:20200510T142415Z
UID:22726-1739534400-1739538000@bildeston.org
SUMMARY:Beginners Pilates
DESCRIPTION:
URL:https://bildeston.org/event/beginners-pilates-cancelled-2023-05-05/2025-02-14/
LOCATION:Chamberlin Hall
CATEGORIES:Chamberlin Hall
ORGANIZER;CN="Claire Jacobs":MAILTO:claire@fitframephysio.com
END:VEVENT
BEGIN:VEVENT
DTSTART;TZID=Europe/London:20250214T104500
DTEND;TZID=Europe/London:20250214T234500
DTSTAMP:20260421T064009
CREATED:20200510T141707Z
LAST-MODIFIED:20200510T141707Z
UID:22725-1739529900-1739576700@bildeston.org
SUMMARY:Intermediate Pilates
DESCRIPTION:
URL:https://bildeston.org/event/intermediate-pilates-2/2025-02-14/
LOCATION:Chamberlin Hall
CATEGORIES:Chamberlin Hall
ORGANIZER;CN="Claire Jacobs":MAILTO:claire@fitframephysio.com
END:VEVENT
BEGIN:VEVENT
DTSTART;TZID=Europe/London:20250214T104500
DTEND;TZID=Europe/London:20250214T234500
DTSTAMP:20260421T064009
CREATED:20200510T141707Z
LAST-MODIFIED:20200510T141707Z
UID:22724-1739529900-1739576700@bildeston.org
SUMMARY:Intermediate Pilates
DESCRIPTION:
URL:https://bildeston.org/event/intermediate-pilates/2025-02-14/
LOCATION:Chamberlin Hall
CATEGORIES:Chamberlin Hall
ORGANIZER;CN="Claire Jacobs":MAILTO:claire@fitframephysio.com
END:VEVENT
BEGIN:VEVENT
DTSTART;TZID=Europe/London:20250214T091500
DTEND;TZID=Europe/London:20250214T113000
DTSTAMP:20260421T064009
CREATED:20211105T110322Z
LAST-MODIFIED:20211105T110322Z
UID:22727-1739524500-1739532600@bildeston.org
SUMMARY:Community coffee centre
DESCRIPTION:Come along to the Bildeston Community Cafe and enjoy tea\, coffee\, scones\, bacon rolls or one of our delicious cup cakes! Parents and children welcome.
URL:https://bildeston.org/event/community-coffee-centre/2025-02-14/
LOCATION:Bildeston Baptist Church\, Duke street\, Bildeston\, IP7 7EW\, United Kingdom
CATEGORIES:Bildeston Baptist Church
ORGANIZER;CN="Bildeston Baptist Church":MAILTO:bildestonbc@gmail.com
END:VEVENT
BEGIN:VEVENT
DTSTART;TZID=Europe/London:20250213T190000
DTEND;TZID=Europe/London:20250213T220000
DTSTAMP:20260421T064009
CREATED:20211105T141438Z
LAST-MODIFIED:20211105T141438Z
UID:22722-1739473200-1739484000@bildeston.org
SUMMARY:VIPs Drama Group
DESCRIPTION:For details on how to join\, call Debbie: 01449 740375
URL:https://bildeston.org/event/vips-drama-group/2025-02-13/
LOCATION:Chamberlin Hall
CATEGORIES:Chamberlin Hall
END:VEVENT
BEGIN:VEVENT
DTSTART;TZID=Europe/London:20250213T100000
DTEND;TZID=Europe/London:20250213T104500
DTSTAMP:20260421T064009
CREATED:20210827T162858Z
LAST-MODIFIED:20210827T162858Z
UID:22720-1739440800-1739443500@bildeston.org
SUMMARY:Zumba Gold!
DESCRIPTION:£4 pay as you go \n(Every 10th class free)
URL:https://bildeston.org/event/zumba-gold-2/2025-02-13/
LOCATION:Chamberlin Hall
CATEGORIES:Chamberlin Hall
ORGANIZER;CN="Jo Brown":MAILTO:joanna-m-brown@hotmail.co.uk
END:VEVENT
BEGIN:VEVENT
DTSTART;TZID=Europe/London:20250213T091500
DTEND;TZID=Europe/London:20250213T101500
DTSTAMP:20260421T064009
CREATED:20211105T141138Z
LAST-MODIFIED:20211105T141138Z
UID:22721-1739438100-1739441700@bildeston.org
SUMMARY:Exercise classes
DESCRIPTION:Call 07718593532 for details
URL:https://bildeston.org/event/exercise-classes/2025-02-13/
LOCATION:Chamberlin Hall
CATEGORIES:Chamberlin Hall
END:VEVENT
BEGIN:VEVENT
DTSTART;TZID=Europe/London:20250211T193000
DTEND;TZID=Europe/London:20250211T193000
DTSTAMP:20260421T064009
CREATED:20210827T153117Z
LAST-MODIFIED:20210827T153117Z
UID:22716-1739302200-1739302200@bildeston.org
SUMMARY:Bildeston Carpet Bowls Club
DESCRIPTION:New members are very welcome to join our friendly club. Please ring our Club Captain Mike on 01284 827688.
URL:https://bildeston.org/event/bildeston-carpet-bowls-club/2025-02-11/
LOCATION:Chamberlin Hall
CATEGORIES:Chamberlin Hall
END:VEVENT
BEGIN:VEVENT
DTSTART;TZID=Europe/London:20250211T190000
DTEND;TZID=Europe/London:20250211T190000
DTSTAMP:20260421T064009
CREATED:20210816T211454Z
LAST-MODIFIED:20210816T211454Z
UID:22715-1739300400-1739300400@bildeston.org
SUMMARY:Snooker club
DESCRIPTION:
URL:https://bildeston.org/event/snooker-club-2/2025-02-11/
LOCATION:Chamberlin Hall
CATEGORIES:Chamberlin Hall
END:VEVENT
BEGIN:VEVENT
DTSTART;TZID=Europe/London:20250211T130000
DTEND;TZID=Europe/London:20250211T130000
DTSTAMP:20260421T064009
CREATED:20220327T212757Z
LAST-MODIFIED:20220327T212757Z
UID:22717-1739278800-1739278800@bildeston.org
SUMMARY:Zumba Gold!
DESCRIPTION:
URL:https://bildeston.org/event/zumba-gold-3/2025-02-11/
LOCATION:Chamberlin Hall
CATEGORIES:Chamberlin Hall
ORGANIZER;CN="Jo Brown":MAILTO:joanna-m-brown@hotmail.co.uk
END:VEVENT
BEGIN:VEVENT
DTSTART;TZID=Europe/London:20250211T110000
DTEND;TZID=Europe/London:20250211T120000
DTSTAMP:20260421T064009
CREATED:20210816T205642Z
LAST-MODIFIED:20210816T205642Z
UID:22714-1739271600-1739275200@bildeston.org
SUMMARY:Rosie’s line dancing
DESCRIPTION:
URL:https://bildeston.org/event/rosies-line-dancing/2025-02-11/
LOCATION:Chamberlin Hall
CATEGORIES:Chamberlin Hall
END:VEVENT
END:VCALENDAR