BEGIN:VCALENDAR
VERSION:2.0
PRODID:-//Bildeston Village - ECPv6.15.18//NONSGML v1.0//EN
CALSCALE:GREGORIAN
METHOD:PUBLISH
X-ORIGINAL-URL:https://bildeston.org
X-WR-CALDESC:Events for Bildeston Village
REFRESH-INTERVAL;VALUE=DURATION:PT1H
X-Robots-Tag:noindex
X-PUBLISHED-TTL:PT1H
BEGIN:VTIMEZONE
TZID:Europe/London
BEGIN:DAYLIGHT
TZOFFSETFROM:+0000
TZOFFSETTO:+0100
TZNAME:BST
DTSTART:20240331T010000
END:DAYLIGHT
BEGIN:STANDARD
TZOFFSETFROM:+0100
TZOFFSETTO:+0000
TZNAME:GMT
DTSTART:20241027T010000
END:STANDARD
BEGIN:DAYLIGHT
TZOFFSETFROM:+0000
TZOFFSETTO:+0100
TZNAME:BST
DTSTART:20250330T010000
END:DAYLIGHT
BEGIN:STANDARD
TZOFFSETFROM:+0100
TZOFFSETTO:+0000
TZNAME:GMT
DTSTART:20251026T010000
END:STANDARD
BEGIN:DAYLIGHT
TZOFFSETFROM:+0000
TZOFFSETTO:+0100
TZNAME:BST
DTSTART:20260329T010000
END:DAYLIGHT
BEGIN:STANDARD
TZOFFSETFROM:+0100
TZOFFSETTO:+0000
TZNAME:GMT
DTSTART:20261025T010000
END:STANDARD
END:VTIMEZONE
BEGIN:VEVENT
DTSTART;TZID=Europe/London:20251118T110000
DTEND;TZID=Europe/London:20251118T120000
DTSTAMP:20260423T172325
CREATED:20210816T205642Z
LAST-MODIFIED:20210816T205642Z
UID:24166-1763463600-1763467200@bildeston.org
SUMMARY:Rosie’s line dancing
DESCRIPTION:
URL:https://bildeston.org/event/rosies-line-dancing/2025-11-18/
LOCATION:Chamberlin Hall
CATEGORIES:Chamberlin Hall
END:VEVENT
BEGIN:VEVENT
DTSTART;TZID=Europe/London:20251118T130000
DTEND;TZID=Europe/London:20251118T130000
DTSTAMP:20260423T172325
CREATED:20220327T212757Z
LAST-MODIFIED:20220327T212757Z
UID:24169-1763470800-1763470800@bildeston.org
SUMMARY:Zumba Gold!
DESCRIPTION:
URL:https://bildeston.org/event/zumba-gold-3/2025-11-18/
LOCATION:Chamberlin Hall
CATEGORIES:Chamberlin Hall
ORGANIZER;CN="Jo Brown":MAILTO:joanna-m-brown@hotmail.co.uk
END:VEVENT
BEGIN:VEVENT
DTSTART;TZID=Europe/London:20251118T190000
DTEND;TZID=Europe/London:20251118T190000
DTSTAMP:20260423T172325
CREATED:20210816T211454Z
LAST-MODIFIED:20210816T211454Z
UID:24167-1763492400-1763492400@bildeston.org
SUMMARY:Snooker club
DESCRIPTION:
URL:https://bildeston.org/event/snooker-club-2/2025-11-18/
LOCATION:Chamberlin Hall
CATEGORIES:Chamberlin Hall
END:VEVENT
BEGIN:VEVENT
DTSTART;TZID=Europe/London:20251118T193000
DTEND;TZID=Europe/London:20251118T193000
DTSTAMP:20260423T172325
CREATED:20210827T153117Z
LAST-MODIFIED:20210827T153117Z
UID:24168-1763494200-1763494200@bildeston.org
SUMMARY:Bildeston Carpet Bowls Club
DESCRIPTION:New members are very welcome to join our friendly club. Please ring our Club Captain Mike on 01284 827688.
URL:https://bildeston.org/event/bildeston-carpet-bowls-club/2025-11-18/
LOCATION:Chamberlin Hall
CATEGORIES:Chamberlin Hall
END:VEVENT
BEGIN:VEVENT
DTSTART;TZID=Europe/London:20251120T091500
DTEND;TZID=Europe/London:20251120T101500
DTSTAMP:20260423T172325
CREATED:20211105T141138Z
LAST-MODIFIED:20211105T141138Z
UID:24173-1763630100-1763633700@bildeston.org
SUMMARY:Exercise classes
DESCRIPTION:Call 07718593532 for details
URL:https://bildeston.org/event/exercise-classes/2025-11-20/
LOCATION:Chamberlin Hall
CATEGORIES:Chamberlin Hall
END:VEVENT
BEGIN:VEVENT
DTSTART;TZID=Europe/London:20251120T100000
DTEND;TZID=Europe/London:20251120T104500
DTSTAMP:20260423T172325
CREATED:20210827T162858Z
LAST-MODIFIED:20210827T162858Z
UID:24172-1763632800-1763635500@bildeston.org
SUMMARY:Zumba Gold!
DESCRIPTION:£4 pay as you go \n(Every 10th class free)
URL:https://bildeston.org/event/zumba-gold-2/2025-11-20/
LOCATION:Chamberlin Hall
CATEGORIES:Chamberlin Hall
ORGANIZER;CN="Jo Brown":MAILTO:joanna-m-brown@hotmail.co.uk
END:VEVENT
BEGIN:VEVENT
DTSTART;TZID=Europe/London:20251120T190000
DTEND;TZID=Europe/London:20251120T220000
DTSTAMP:20260423T172325
CREATED:20211105T141438Z
LAST-MODIFIED:20211105T141438Z
UID:24174-1763665200-1763676000@bildeston.org
SUMMARY:VIPs Drama Group
DESCRIPTION:For details on how to join\, call Debbie: 01449 740375
URL:https://bildeston.org/event/vips-drama-group/2025-11-20/
LOCATION:Chamberlin Hall
CATEGORIES:Chamberlin Hall
END:VEVENT
BEGIN:VEVENT
DTSTART;TZID=Europe/London:20251121T104500
DTEND;TZID=Europe/London:20251121T234500
DTSTAMP:20260423T172325
CREATED:20200510T141707Z
LAST-MODIFIED:20200510T141707Z
UID:24265-1763721900-1763768700@bildeston.org
SUMMARY:Intermediate Pilates
DESCRIPTION:
URL:https://bildeston.org/event/intermediate-pilates/2025-11-21/
LOCATION:Chamberlin Hall
CATEGORIES:Chamberlin Hall
ORGANIZER;CN="Claire Jacobs":MAILTO:claire@fitframephysio.com
END:VEVENT
BEGIN:VEVENT
DTSTART;TZID=Europe/London:20251121T104500
DTEND;TZID=Europe/London:20251121T234500
DTSTAMP:20260423T172325
CREATED:20200510T141707Z
LAST-MODIFIED:20200510T141707Z
UID:24266-1763721900-1763768700@bildeston.org
SUMMARY:Intermediate Pilates
DESCRIPTION:
URL:https://bildeston.org/event/intermediate-pilates-2/2025-11-21/
LOCATION:Chamberlin Hall
CATEGORIES:Chamberlin Hall
ORGANIZER;CN="Claire Jacobs":MAILTO:claire@fitframephysio.com
END:VEVENT
BEGIN:VEVENT
DTSTART;TZID=Europe/London:20251121T120000
DTEND;TZID=Europe/London:20251121T130000
DTSTAMP:20260423T172325
CREATED:20200510T142415Z
LAST-MODIFIED:20200510T142415Z
UID:24267-1763726400-1763730000@bildeston.org
SUMMARY:Beginners Pilates
DESCRIPTION:
URL:https://bildeston.org/event/beginners-pilates-cancelled-2023-05-05/2025-11-21/
LOCATION:Chamberlin Hall
CATEGORIES:Chamberlin Hall
ORGANIZER;CN="Claire Jacobs":MAILTO:claire@fitframephysio.com
END:VEVENT
BEGIN:VEVENT
DTSTART;TZID=Europe/London:20251121T190000
DTEND;TZID=Europe/London:20251121T190000
DTSTAMP:20260423T172325
CREATED:20211105T141555Z
LAST-MODIFIED:20211105T141555Z
UID:24269-1763751600-1763751600@bildeston.org
SUMMARY:Bowling social evening
DESCRIPTION:
URL:https://bildeston.org/event/bowling-social-evening/2025-11-21/
LOCATION:Chamberlin Hall
CATEGORIES:Chamberlin Hall
END:VEVENT
END:VCALENDAR