BEGIN:VCALENDAR
VERSION:2.0
PRODID:-//Bildeston Village - ECPv6.15.18//NONSGML v1.0//EN
CALSCALE:GREGORIAN
METHOD:PUBLISH
X-WR-CALNAME:Bildeston Village
X-ORIGINAL-URL:https://bildeston.org
X-WR-CALDESC:Events for Bildeston Village
REFRESH-INTERVAL;VALUE=DURATION:PT1H
X-Robots-Tag:noindex
X-PUBLISHED-TTL:PT1H
BEGIN:VTIMEZONE
TZID:Europe/London
BEGIN:DAYLIGHT
TZOFFSETFROM:+0000
TZOFFSETTO:+0100
TZNAME:BST
DTSTART:20250330T010000
END:DAYLIGHT
BEGIN:STANDARD
TZOFFSETFROM:+0100
TZOFFSETTO:+0000
TZNAME:GMT
DTSTART:20251026T010000
END:STANDARD
BEGIN:DAYLIGHT
TZOFFSETFROM:+0000
TZOFFSETTO:+0100
TZNAME:BST
DTSTART:20260329T010000
END:DAYLIGHT
BEGIN:STANDARD
TZOFFSETFROM:+0100
TZOFFSETTO:+0000
TZNAME:GMT
DTSTART:20261025T010000
END:STANDARD
BEGIN:DAYLIGHT
TZOFFSETFROM:+0000
TZOFFSETTO:+0100
TZNAME:BST
DTSTART:20270328T010000
END:DAYLIGHT
BEGIN:STANDARD
TZOFFSETFROM:+0100
TZOFFSETTO:+0000
TZNAME:GMT
DTSTART:20271031T010000
END:STANDARD
END:VTIMEZONE
BEGIN:VEVENT
DTSTART;TZID=Europe/London:20261006T130000
DTEND;TZID=Europe/London:20261006T130000
DTSTAMP:20260423T060117
CREATED:20220327T212757Z
LAST-MODIFIED:20220327T212757Z
UID:35961-1791291600-1791291600@bildeston.org
SUMMARY:Zumba Gold!
DESCRIPTION:
URL:https://bildeston.org/event/zumba-gold-3/2026-10-06/
LOCATION:Chamberlin Hall
CATEGORIES:Chamberlin Hall
ORGANIZER;CN="Jo Brown":MAILTO:joanna-m-brown@hotmail.co.uk
END:VEVENT
BEGIN:VEVENT
DTSTART;TZID=Europe/London:20261006T190000
DTEND;TZID=Europe/London:20261006T190000
DTSTAMP:20260423T060117
CREATED:20210816T211454Z
LAST-MODIFIED:20210816T211454Z
UID:35959-1791313200-1791313200@bildeston.org
SUMMARY:Snooker club
DESCRIPTION:
URL:https://bildeston.org/event/snooker-club-2/2026-10-06/
LOCATION:Chamberlin Hall
CATEGORIES:Chamberlin Hall
END:VEVENT
BEGIN:VEVENT
DTSTART;TZID=Europe/London:20261006T193000
DTEND;TZID=Europe/London:20261006T193000
DTSTAMP:20260423T060117
CREATED:20210827T153117Z
LAST-MODIFIED:20210827T153117Z
UID:35960-1791315000-1791315000@bildeston.org
SUMMARY:Bildeston Carpet Bowls Club
DESCRIPTION:New members are very welcome to join our friendly club. Please ring our Club Captain Mike on 01284 827688.
URL:https://bildeston.org/event/bildeston-carpet-bowls-club/2026-10-06/
LOCATION:Chamberlin Hall
CATEGORIES:Chamberlin Hall
END:VEVENT
BEGIN:VEVENT
DTSTART;TZID=Europe/London:20261008T091500
DTEND;TZID=Europe/London:20261008T101500
DTSTAMP:20260423T060117
CREATED:20211105T141138Z
LAST-MODIFIED:20211105T141138Z
UID:35963-1791450900-1791454500@bildeston.org
SUMMARY:Exercise classes
DESCRIPTION:Call 07718593532 for details
URL:https://bildeston.org/event/exercise-classes/2026-10-08/
LOCATION:Chamberlin Hall
CATEGORIES:Chamberlin Hall
END:VEVENT
BEGIN:VEVENT
DTSTART;TZID=Europe/London:20261008T100000
DTEND;TZID=Europe/London:20261008T104500
DTSTAMP:20260423T060117
CREATED:20210827T162858Z
LAST-MODIFIED:20210827T162858Z
UID:35962-1791453600-1791456300@bildeston.org
SUMMARY:Zumba Gold!
DESCRIPTION:£4 pay as you go \n(Every 10th class free)
URL:https://bildeston.org/event/zumba-gold-2/2026-10-08/
LOCATION:Chamberlin Hall
CATEGORIES:Chamberlin Hall
ORGANIZER;CN="Jo Brown":MAILTO:joanna-m-brown@hotmail.co.uk
END:VEVENT
BEGIN:VEVENT
DTSTART;TZID=Europe/London:20261008T190000
DTEND;TZID=Europe/London:20261008T220000
DTSTAMP:20260423T060117
CREATED:20211105T141438Z
LAST-MODIFIED:20211105T141438Z
UID:35964-1791486000-1791496800@bildeston.org
SUMMARY:VIPs Drama Group
DESCRIPTION:For details on how to join\, call Debbie: 01449 740375
URL:https://bildeston.org/event/vips-drama-group/2026-10-08/
LOCATION:Chamberlin Hall
CATEGORIES:Chamberlin Hall
END:VEVENT
BEGIN:VEVENT
DTSTART;TZID=Europe/London:20261009T104500
DTEND;TZID=Europe/London:20261009T234500
DTSTAMP:20260423T060117
CREATED:20200510T141707Z
LAST-MODIFIED:20200510T141707Z
UID:35965-1791542700-1791589500@bildeston.org
SUMMARY:Intermediate Pilates
DESCRIPTION:
URL:https://bildeston.org/event/intermediate-pilates/2026-10-09/
LOCATION:Chamberlin Hall
CATEGORIES:Chamberlin Hall
ORGANIZER;CN="Claire Jacobs":MAILTO:claire@fitframephysio.com
END:VEVENT
BEGIN:VEVENT
DTSTART;TZID=Europe/London:20261009T104500
DTEND;TZID=Europe/London:20261009T234500
DTSTAMP:20260423T060117
CREATED:20200510T141707Z
LAST-MODIFIED:20200510T141707Z
UID:35966-1791542700-1791589500@bildeston.org
SUMMARY:Intermediate Pilates
DESCRIPTION:
URL:https://bildeston.org/event/intermediate-pilates-2/2026-10-09/
LOCATION:Chamberlin Hall
CATEGORIES:Chamberlin Hall
ORGANIZER;CN="Claire Jacobs":MAILTO:claire@fitframephysio.com
END:VEVENT
BEGIN:VEVENT
DTSTART;TZID=Europe/London:20261009T120000
DTEND;TZID=Europe/London:20261009T130000
DTSTAMP:20260423T060117
CREATED:20200510T142415Z
LAST-MODIFIED:20200510T142415Z
UID:35967-1791547200-1791550800@bildeston.org
SUMMARY:Beginners Pilates
DESCRIPTION:
URL:https://bildeston.org/event/beginners-pilates-cancelled-2023-05-05/2026-10-09/
LOCATION:Chamberlin Hall
CATEGORIES:Chamberlin Hall
ORGANIZER;CN="Claire Jacobs":MAILTO:claire@fitframephysio.com
END:VEVENT
BEGIN:VEVENT
DTSTART;TZID=Europe/London:20261009T190000
DTEND;TZID=Europe/London:20261009T190000
DTSTAMP:20260423T060117
CREATED:20211105T141555Z
LAST-MODIFIED:20211105T141555Z
UID:35969-1791572400-1791572400@bildeston.org
SUMMARY:Bowling social evening
DESCRIPTION:
URL:https://bildeston.org/event/bowling-social-evening/2026-10-09/
LOCATION:Chamberlin Hall
CATEGORIES:Chamberlin Hall
END:VEVENT
BEGIN:VEVENT
DTSTART;TZID=Europe/London:20261013T110000
DTEND;TZID=Europe/London:20261013T120000
DTSTAMP:20260423T060117
CREATED:20210816T205642Z
LAST-MODIFIED:20210816T205642Z
UID:36857-1791889200-1791892800@bildeston.org
SUMMARY:Rosie’s line dancing
DESCRIPTION:
URL:https://bildeston.org/event/rosies-line-dancing/2026-10-13/
LOCATION:Chamberlin Hall
CATEGORIES:Chamberlin Hall
END:VEVENT
BEGIN:VEVENT
DTSTART;TZID=Europe/London:20261013T130000
DTEND;TZID=Europe/London:20261013T130000
DTSTAMP:20260423T060117
CREATED:20220327T212757Z
LAST-MODIFIED:20220327T212757Z
UID:36860-1791896400-1791896400@bildeston.org
SUMMARY:Zumba Gold!
DESCRIPTION:
URL:https://bildeston.org/event/zumba-gold-3/2026-10-13/
LOCATION:Chamberlin Hall
CATEGORIES:Chamberlin Hall
ORGANIZER;CN="Jo Brown":MAILTO:joanna-m-brown@hotmail.co.uk
END:VEVENT
BEGIN:VEVENT
DTSTART;TZID=Europe/London:20261013T190000
DTEND;TZID=Europe/London:20261013T190000
DTSTAMP:20260423T060117
CREATED:20210816T211454Z
LAST-MODIFIED:20210816T211454Z
UID:36858-1791918000-1791918000@bildeston.org
SUMMARY:Snooker club
DESCRIPTION:
URL:https://bildeston.org/event/snooker-club-2/2026-10-13/
LOCATION:Chamberlin Hall
CATEGORIES:Chamberlin Hall
END:VEVENT
BEGIN:VEVENT
DTSTART;TZID=Europe/London:20261013T193000
DTEND;TZID=Europe/London:20261013T193000
DTSTAMP:20260423T060117
CREATED:20210827T153117Z
LAST-MODIFIED:20210827T153117Z
UID:36859-1791919800-1791919800@bildeston.org
SUMMARY:Bildeston Carpet Bowls Club
DESCRIPTION:New members are very welcome to join our friendly club. Please ring our Club Captain Mike on 01284 827688.
URL:https://bildeston.org/event/bildeston-carpet-bowls-club/2026-10-13/
LOCATION:Chamberlin Hall
CATEGORIES:Chamberlin Hall
END:VEVENT
BEGIN:VEVENT
DTSTART;TZID=Europe/London:20261015T091500
DTEND;TZID=Europe/London:20261015T101500
DTSTAMP:20260423T060117
CREATED:20211105T141138Z
LAST-MODIFIED:20211105T141138Z
UID:37181-1792055700-1792059300@bildeston.org
SUMMARY:Exercise classes
DESCRIPTION:Call 07718593532 for details
URL:https://bildeston.org/event/exercise-classes/2026-10-15/
LOCATION:Chamberlin Hall
CATEGORIES:Chamberlin Hall
END:VEVENT
BEGIN:VEVENT
DTSTART;TZID=Europe/London:20261015T100000
DTEND;TZID=Europe/London:20261015T104500
DTSTAMP:20260423T060117
CREATED:20210827T162858Z
LAST-MODIFIED:20210827T162858Z
UID:37180-1792058400-1792061100@bildeston.org
SUMMARY:Zumba Gold!
DESCRIPTION:£4 pay as you go \n(Every 10th class free)
URL:https://bildeston.org/event/zumba-gold-2/2026-10-15/
LOCATION:Chamberlin Hall
CATEGORIES:Chamberlin Hall
ORGANIZER;CN="Jo Brown":MAILTO:joanna-m-brown@hotmail.co.uk
END:VEVENT
BEGIN:VEVENT
DTSTART;TZID=Europe/London:20261015T190000
DTEND;TZID=Europe/London:20261015T220000
DTSTAMP:20260423T060117
CREATED:20211105T141438Z
LAST-MODIFIED:20211105T141438Z
UID:37182-1792090800-1792101600@bildeston.org
SUMMARY:VIPs Drama Group
DESCRIPTION:For details on how to join\, call Debbie: 01449 740375
URL:https://bildeston.org/event/vips-drama-group/2026-10-15/
LOCATION:Chamberlin Hall
CATEGORIES:Chamberlin Hall
END:VEVENT
BEGIN:VEVENT
DTSTART;TZID=Europe/London:20261016T104500
DTEND;TZID=Europe/London:20261016T234500
DTSTAMP:20260423T060117
CREATED:20200510T141707Z
LAST-MODIFIED:20200510T141707Z
UID:37378-1792147500-1792194300@bildeston.org
SUMMARY:Intermediate Pilates
DESCRIPTION:
URL:https://bildeston.org/event/intermediate-pilates/2026-10-16/
LOCATION:Chamberlin Hall
CATEGORIES:Chamberlin Hall
ORGANIZER;CN="Claire Jacobs":MAILTO:claire@fitframephysio.com
END:VEVENT
BEGIN:VEVENT
DTSTART;TZID=Europe/London:20261016T104500
DTEND;TZID=Europe/London:20261016T234500
DTSTAMP:20260423T060117
CREATED:20200510T141707Z
LAST-MODIFIED:20200510T141707Z
UID:37379-1792147500-1792194300@bildeston.org
SUMMARY:Intermediate Pilates
DESCRIPTION:
URL:https://bildeston.org/event/intermediate-pilates-2/2026-10-16/
LOCATION:Chamberlin Hall
CATEGORIES:Chamberlin Hall
ORGANIZER;CN="Claire Jacobs":MAILTO:claire@fitframephysio.com
END:VEVENT
BEGIN:VEVENT
DTSTART;TZID=Europe/London:20261016T120000
DTEND;TZID=Europe/London:20261016T130000
DTSTAMP:20260423T060117
CREATED:20200510T142415Z
LAST-MODIFIED:20200510T142415Z
UID:37380-1792152000-1792155600@bildeston.org
SUMMARY:Beginners Pilates
DESCRIPTION:
URL:https://bildeston.org/event/beginners-pilates-cancelled-2023-05-05/2026-10-16/
LOCATION:Chamberlin Hall
CATEGORIES:Chamberlin Hall
ORGANIZER;CN="Claire Jacobs":MAILTO:claire@fitframephysio.com
END:VEVENT
BEGIN:VEVENT
DTSTART;TZID=Europe/London:20261016T190000
DTEND;TZID=Europe/London:20261016T190000
DTSTAMP:20260423T060117
CREATED:20211105T141555Z
LAST-MODIFIED:20211105T141555Z
UID:37382-1792177200-1792177200@bildeston.org
SUMMARY:Bowling social evening
DESCRIPTION:
URL:https://bildeston.org/event/bowling-social-evening/2026-10-16/
LOCATION:Chamberlin Hall
CATEGORIES:Chamberlin Hall
END:VEVENT
BEGIN:VEVENT
DTSTART;TZID=Europe/London:20261020T110000
DTEND;TZID=Europe/London:20261020T120000
DTSTAMP:20260423T060117
CREATED:20210816T205642Z
LAST-MODIFIED:20210816T205642Z
UID:37909-1792494000-1792497600@bildeston.org
SUMMARY:Rosie’s line dancing
DESCRIPTION:
URL:https://bildeston.org/event/rosies-line-dancing/2026-10-20/
LOCATION:Chamberlin Hall
CATEGORIES:Chamberlin Hall
END:VEVENT
BEGIN:VEVENT
DTSTART;TZID=Europe/London:20261020T130000
DTEND;TZID=Europe/London:20261020T130000
DTSTAMP:20260423T060117
CREATED:20220327T212757Z
LAST-MODIFIED:20220327T212757Z
UID:37912-1792501200-1792501200@bildeston.org
SUMMARY:Zumba Gold!
DESCRIPTION:
URL:https://bildeston.org/event/zumba-gold-3/2026-10-20/
LOCATION:Chamberlin Hall
CATEGORIES:Chamberlin Hall
ORGANIZER;CN="Jo Brown":MAILTO:joanna-m-brown@hotmail.co.uk
END:VEVENT
BEGIN:VEVENT
DTSTART;TZID=Europe/London:20261020T190000
DTEND;TZID=Europe/London:20261020T190000
DTSTAMP:20260423T060117
CREATED:20210816T211454Z
LAST-MODIFIED:20210816T211454Z
UID:37910-1792522800-1792522800@bildeston.org
SUMMARY:Snooker club
DESCRIPTION:
URL:https://bildeston.org/event/snooker-club-2/2026-10-20/
LOCATION:Chamberlin Hall
CATEGORIES:Chamberlin Hall
END:VEVENT
BEGIN:VEVENT
DTSTART;TZID=Europe/London:20261020T193000
DTEND;TZID=Europe/London:20261020T193000
DTSTAMP:20260423T060117
CREATED:20210827T153117Z
LAST-MODIFIED:20210827T153117Z
UID:37911-1792524600-1792524600@bildeston.org
SUMMARY:Bildeston Carpet Bowls Club
DESCRIPTION:New members are very welcome to join our friendly club. Please ring our Club Captain Mike on 01284 827688.
URL:https://bildeston.org/event/bildeston-carpet-bowls-club/2026-10-20/
LOCATION:Chamberlin Hall
CATEGORIES:Chamberlin Hall
END:VEVENT
BEGIN:VEVENT
DTSTART;TZID=Europe/London:20261022T091500
DTEND;TZID=Europe/London:20261022T101500
DTSTAMP:20260423T060117
CREATED:20211105T141138Z
LAST-MODIFIED:20211105T141138Z
UID:38327-1792660500-1792664100@bildeston.org
SUMMARY:Exercise classes
DESCRIPTION:Call 07718593532 for details
URL:https://bildeston.org/event/exercise-classes/2026-10-22/
LOCATION:Chamberlin Hall
CATEGORIES:Chamberlin Hall
END:VEVENT
BEGIN:VEVENT
DTSTART;TZID=Europe/London:20261022T100000
DTEND;TZID=Europe/London:20261022T104500
DTSTAMP:20260423T060117
CREATED:20210827T162858Z
LAST-MODIFIED:20210827T162858Z
UID:38326-1792663200-1792665900@bildeston.org
SUMMARY:Zumba Gold!
DESCRIPTION:£4 pay as you go \n(Every 10th class free)
URL:https://bildeston.org/event/zumba-gold-2/2026-10-22/
LOCATION:Chamberlin Hall
CATEGORIES:Chamberlin Hall
ORGANIZER;CN="Jo Brown":MAILTO:joanna-m-brown@hotmail.co.uk
END:VEVENT
BEGIN:VEVENT
DTSTART;TZID=Europe/London:20261022T190000
DTEND;TZID=Europe/London:20261022T220000
DTSTAMP:20260423T060117
CREATED:20211105T141438Z
LAST-MODIFIED:20211105T141438Z
UID:38328-1792695600-1792706400@bildeston.org
SUMMARY:VIPs Drama Group
DESCRIPTION:For details on how to join\, call Debbie: 01449 740375
URL:https://bildeston.org/event/vips-drama-group/2026-10-22/
LOCATION:Chamberlin Hall
CATEGORIES:Chamberlin Hall
END:VEVENT
BEGIN:VEVENT
DTSTART;TZID=Europe/London:20261023T104500
DTEND;TZID=Europe/London:20261023T234500
DTSTAMP:20260423T060117
CREATED:20200510T141707Z
LAST-MODIFIED:20200510T141707Z
UID:38563-1792752300-1792799100@bildeston.org
SUMMARY:Intermediate Pilates
DESCRIPTION:
URL:https://bildeston.org/event/intermediate-pilates/2026-10-23/
LOCATION:Chamberlin Hall
CATEGORIES:Chamberlin Hall
ORGANIZER;CN="Claire Jacobs":MAILTO:claire@fitframephysio.com
END:VEVENT
BEGIN:VEVENT
DTSTART;TZID=Europe/London:20261023T104500
DTEND;TZID=Europe/London:20261023T234500
DTSTAMP:20260423T060117
CREATED:20200510T141707Z
LAST-MODIFIED:20200510T141707Z
UID:38564-1792752300-1792799100@bildeston.org
SUMMARY:Intermediate Pilates
DESCRIPTION:
URL:https://bildeston.org/event/intermediate-pilates-2/2026-10-23/
LOCATION:Chamberlin Hall
CATEGORIES:Chamberlin Hall
ORGANIZER;CN="Claire Jacobs":MAILTO:claire@fitframephysio.com
END:VEVENT
END:VCALENDAR