BEGIN:VCALENDAR
VERSION:2.0
PRODID:-//Bildeston Village - ECPv6.15.18//NONSGML v1.0//EN
CALSCALE:GREGORIAN
METHOD:PUBLISH
X-ORIGINAL-URL:https://bildeston.org
X-WR-CALDESC:Events for Bildeston Village
REFRESH-INTERVAL;VALUE=DURATION:PT1H
X-Robots-Tag:noindex
X-PUBLISHED-TTL:PT1H
BEGIN:VTIMEZONE
TZID:Europe/London
BEGIN:DAYLIGHT
TZOFFSETFROM:+0000
TZOFFSETTO:+0100
TZNAME:BST
DTSTART:20230326T010000
END:DAYLIGHT
BEGIN:STANDARD
TZOFFSETFROM:+0100
TZOFFSETTO:+0000
TZNAME:GMT
DTSTART:20231029T010000
END:STANDARD
BEGIN:DAYLIGHT
TZOFFSETFROM:+0000
TZOFFSETTO:+0100
TZNAME:BST
DTSTART:20240331T010000
END:DAYLIGHT
BEGIN:STANDARD
TZOFFSETFROM:+0100
TZOFFSETTO:+0000
TZNAME:GMT
DTSTART:20241027T010000
END:STANDARD
BEGIN:DAYLIGHT
TZOFFSETFROM:+0000
TZOFFSETTO:+0100
TZNAME:BST
DTSTART:20250330T010000
END:DAYLIGHT
BEGIN:STANDARD
TZOFFSETFROM:+0100
TZOFFSETTO:+0000
TZNAME:GMT
DTSTART:20251026T010000
END:STANDARD
END:VTIMEZONE
BEGIN:VEVENT
DTSTART;TZID=Europe/London:20240808T091500
DTEND;TZID=Europe/London:20240808T101500
DTSTAMP:20260421T113347
CREATED:20211105T141138Z
LAST-MODIFIED:20211105T141138Z
UID:18876-1723108500-1723112100@bildeston.org
SUMMARY:Exercise classes
DESCRIPTION:Call 07718593532 for details
URL:https://bildeston.org/event/exercise-classes/2024-08-08/
LOCATION:Chamberlin Hall
CATEGORIES:Chamberlin Hall
END:VEVENT
BEGIN:VEVENT
DTSTART;TZID=Europe/London:20240808T100000
DTEND;TZID=Europe/London:20240808T104500
DTSTAMP:20260421T113347
CREATED:20210827T162858Z
LAST-MODIFIED:20210827T162858Z
UID:18875-1723111200-1723113900@bildeston.org
SUMMARY:Zumba Gold!
DESCRIPTION:£4 pay as you go \n(Every 10th class free)
URL:https://bildeston.org/event/zumba-gold-2/2024-08-08/
LOCATION:Chamberlin Hall
CATEGORIES:Chamberlin Hall
ORGANIZER;CN="Jo Brown":MAILTO:joanna-m-brown@hotmail.co.uk
END:VEVENT
BEGIN:VEVENT
DTSTART;TZID=Europe/London:20240808T190000
DTEND;TZID=Europe/London:20240808T220000
DTSTAMP:20260421T113347
CREATED:20211105T141438Z
LAST-MODIFIED:20211105T141438Z
UID:18877-1723143600-1723154400@bildeston.org
SUMMARY:VIPs Drama Group
DESCRIPTION:For details on how to join\, call Debbie: 01449 740375
URL:https://bildeston.org/event/vips-drama-group/2024-08-08/
LOCATION:Chamberlin Hall
CATEGORIES:Chamberlin Hall
END:VEVENT
BEGIN:VEVENT
DTSTART;TZID=Europe/London:20240808T190000
DTEND;TZID=Europe/London:20240808T223000
DTSTAMP:20260421T113347
CREATED:20240729T114529Z
LAST-MODIFIED:20240729T114620Z
UID:32811-1723143600-1723156200@bildeston.org
SUMMARY:BNatural Quiz Night - 8th August - The Kings Head Bildeston
DESCRIPTION:Thursday 8th August – BNatural Quiz Night – Doors Open at 5pm\, quiz starts at 7pm \nTickets available in advance from Tim Hooper:  timwhooper@hotmail.com
URL:https://bildeston.org/event/bnatural-quiz-night-8th-august-the-kings-head-bildeston/
LOCATION:King’s Head Bildeston\, 132 High St\, Ipswich Bildeston\, IP7 7ED\, United Kingdom
CATEGORIES:BNatural Events
END:VEVENT
END:VCALENDAR