BEGIN:VCALENDAR
VERSION:2.0
PRODID:-//Bildeston Village - ECPv6.15.18//NONSGML v1.0//EN
CALSCALE:GREGORIAN
METHOD:PUBLISH
X-WR-CALNAME:Bildeston Village
X-ORIGINAL-URL:https://bildeston.org
X-WR-CALDESC:Events for Bildeston Village
REFRESH-INTERVAL;VALUE=DURATION:PT1H
X-Robots-Tag:noindex
X-PUBLISHED-TTL:PT1H
BEGIN:VTIMEZONE
TZID:Europe/London
BEGIN:DAYLIGHT
TZOFFSETFROM:+0000
TZOFFSETTO:+0100
TZNAME:BST
DTSTART:20230326T010000
END:DAYLIGHT
BEGIN:STANDARD
TZOFFSETFROM:+0100
TZOFFSETTO:+0000
TZNAME:GMT
DTSTART:20231029T010000
END:STANDARD
BEGIN:DAYLIGHT
TZOFFSETFROM:+0000
TZOFFSETTO:+0100
TZNAME:BST
DTSTART:20240331T010000
END:DAYLIGHT
BEGIN:STANDARD
TZOFFSETFROM:+0100
TZOFFSETTO:+0000
TZNAME:GMT
DTSTART:20241027T010000
END:STANDARD
BEGIN:DAYLIGHT
TZOFFSETFROM:+0000
TZOFFSETTO:+0100
TZNAME:BST
DTSTART:20250330T010000
END:DAYLIGHT
BEGIN:STANDARD
TZOFFSETFROM:+0100
TZOFFSETTO:+0000
TZNAME:GMT
DTSTART:20251026T010000
END:STANDARD
END:VTIMEZONE
BEGIN:VEVENT
DTSTART;TZID=Europe/London:20240626T141000
DTEND;TZID=Europe/London:20240626T160000
DTSTAMP:20260422T024903
CREATED:20220124T224416Z
LAST-MODIFIED:20220124T224416Z
UID:18585-1719411000-1719417600@bildeston.org
SUMMARY:Mobile library
DESCRIPTION:The Mobile Library is operating as normal now\, but with the following provisions: \n\nOne customer at a time\nEveryone to sanitise their hands before entering\nStaff will wear face masks and customers encouraged to do the same\nPlease be as quick as possible to allow others time to choose\nThere is a temporary limit of 4 items per person\nAll returned stock is quarantined for 72 hours\nShelves are sanitised between stops\n\nThe Bildeston stops are as follows: \n\nBrooksfield at 14.10 to 14.25\nMarket Square 14.30 to 14.45\nNewberry Road 14.50 to 15.05\nPaddock Way 15.10 to 16.00
URL:https://bildeston.org/event/mobile-library/2024-06-26/
CATEGORIES:Market Square
END:VEVENT
END:VCALENDAR