BEGIN:VCALENDAR
VERSION:2.0
PRODID:-//Bildeston Village - ECPv6.15.18//NONSGML v1.0//EN
CALSCALE:GREGORIAN
METHOD:PUBLISH
X-ORIGINAL-URL:https://bildeston.org
X-WR-CALDESC:Events for Bildeston Village
REFRESH-INTERVAL;VALUE=DURATION:PT1H
X-Robots-Tag:noindex
X-PUBLISHED-TTL:PT1H
BEGIN:VTIMEZONE
TZID:Europe/London
BEGIN:DAYLIGHT
TZOFFSETFROM:+0000
TZOFFSETTO:+0100
TZNAME:BST
DTSTART:20210328T010000
END:DAYLIGHT
BEGIN:STANDARD
TZOFFSETFROM:+0100
TZOFFSETTO:+0000
TZNAME:GMT
DTSTART:20211031T010000
END:STANDARD
BEGIN:DAYLIGHT
TZOFFSETFROM:+0000
TZOFFSETTO:+0100
TZNAME:BST
DTSTART:20220327T010000
END:DAYLIGHT
BEGIN:STANDARD
TZOFFSETFROM:+0100
TZOFFSETTO:+0000
TZNAME:GMT
DTSTART:20221030T010000
END:STANDARD
BEGIN:DAYLIGHT
TZOFFSETFROM:+0000
TZOFFSETTO:+0100
TZNAME:BST
DTSTART:20230326T010000
END:DAYLIGHT
BEGIN:STANDARD
TZOFFSETFROM:+0100
TZOFFSETTO:+0000
TZNAME:GMT
DTSTART:20231029T010000
END:STANDARD
END:VTIMEZONE
BEGIN:VEVENT
DTSTART;TZID=Europe/London:20221009T100000
DTEND;TZID=Europe/London:20221009T123000
DTSTAMP:20260421T090353
CREATED:20220302T231447Z
LAST-MODIFIED:20220927T123947Z
UID:17369-1665309600-1665318600@bildeston.org
SUMMARY:Social sundays
DESCRIPTION:Social Sundays will be an opportunity for all members of the village from all age groups to join together with\nneighbours and friends to take some exercise around the field and beyond or just enjoy the view from the warmth of the pavilion\, chatting whilst indulging in a bacon roll\, (veggie options too) hot chocolate\, tea\, coffee\, cakes and more. \nMake it a date in your diary for the first one. Join us on Sunday 3rd April 10.00am – 12.00 noon.\nWe will be having a meeting on Sunday 13th March at the pavilion at 10.00am to plan these events. If you would like to get involved in this or you have any other ideas of how we can increase the use of our facilities\, please join us\, we would love to see you and hear your ideas.
URL:https://bildeston.org/event/social-sundays/2022-10-09/
LOCATION:Bildeston Sports Pavilion\, Consent Lane\, Bildeston\, United Kingdom
CATEGORIES:Sports Pavilion
END:VEVENT
END:VCALENDAR