BEGIN:VCALENDAR
VERSION:2.0
PRODID:-//Bildeston Village - ECPv6.15.18//NONSGML v1.0//EN
CALSCALE:GREGORIAN
METHOD:PUBLISH
X-WR-CALNAME:Bildeston Village
X-ORIGINAL-URL:https://bildeston.org
X-WR-CALDESC:Events for Bildeston Village
REFRESH-INTERVAL;VALUE=DURATION:PT1H
X-Robots-Tag:noindex
X-PUBLISHED-TTL:PT1H
BEGIN:VTIMEZONE
TZID:Europe/London
BEGIN:DAYLIGHT
TZOFFSETFROM:+0000
TZOFFSETTO:+0100
TZNAME:BST
DTSTART:20250330T010000
END:DAYLIGHT
BEGIN:STANDARD
TZOFFSETFROM:+0100
TZOFFSETTO:+0000
TZNAME:GMT
DTSTART:20251026T010000
END:STANDARD
BEGIN:DAYLIGHT
TZOFFSETFROM:+0000
TZOFFSETTO:+0100
TZNAME:BST
DTSTART:20260329T010000
END:DAYLIGHT
BEGIN:STANDARD
TZOFFSETFROM:+0100
TZOFFSETTO:+0000
TZNAME:GMT
DTSTART:20261025T010000
END:STANDARD
BEGIN:DAYLIGHT
TZOFFSETFROM:+0000
TZOFFSETTO:+0100
TZNAME:BST
DTSTART:20270328T010000
END:DAYLIGHT
BEGIN:STANDARD
TZOFFSETFROM:+0100
TZOFFSETTO:+0000
TZNAME:GMT
DTSTART:20271031T010000
END:STANDARD
END:VTIMEZONE
BEGIN:VEVENT
DTSTART;TZID=Europe/London:20260424T104500
DTEND;TZID=Europe/London:20260424T234500
DTSTAMP:20260424T123613
CREATED:20200510T141707Z
LAST-MODIFIED:20200510T141707Z
UID:28647-1777027500-1777074300@bildeston.org
SUMMARY:Intermediate Pilates
DESCRIPTION:
URL:https://bildeston.org/event/intermediate-pilates/2026-04-24/
LOCATION:Chamberlin Hall
CATEGORIES:Chamberlin Hall
ORGANIZER;CN="Claire Jacobs":MAILTO:claire@fitframephysio.com
END:VEVENT
BEGIN:VEVENT
DTSTART;TZID=Europe/London:20260501T104500
DTEND;TZID=Europe/London:20260501T234500
DTSTAMP:20260424T123613
CREATED:20200510T141707Z
LAST-MODIFIED:20200510T141707Z
UID:28793-1777632300-1777679100@bildeston.org
SUMMARY:Intermediate Pilates
DESCRIPTION:
URL:https://bildeston.org/event/intermediate-pilates/2026-05-01/
LOCATION:Chamberlin Hall
CATEGORIES:Chamberlin Hall
ORGANIZER;CN="Claire Jacobs":MAILTO:claire@fitframephysio.com
END:VEVENT
BEGIN:VEVENT
DTSTART;TZID=Europe/London:20260508T104500
DTEND;TZID=Europe/London:20260508T234500
DTSTAMP:20260424T123613
CREATED:20200510T141707Z
LAST-MODIFIED:20200510T141707Z
UID:29155-1778237100-1778283900@bildeston.org
SUMMARY:Intermediate Pilates
DESCRIPTION:
URL:https://bildeston.org/event/intermediate-pilates/2026-05-08/
LOCATION:Chamberlin Hall
CATEGORIES:Chamberlin Hall
ORGANIZER;CN="Claire Jacobs":MAILTO:claire@fitframephysio.com
END:VEVENT
BEGIN:VEVENT
DTSTART;TZID=Europe/London:20260515T104500
DTEND;TZID=Europe/London:20260515T234500
DTSTAMP:20260424T123613
CREATED:20200510T141707Z
LAST-MODIFIED:20200510T141707Z
UID:30035-1778841900-1778888700@bildeston.org
SUMMARY:Intermediate Pilates
DESCRIPTION:
URL:https://bildeston.org/event/intermediate-pilates/2026-05-15/
LOCATION:Chamberlin Hall
CATEGORIES:Chamberlin Hall
ORGANIZER;CN="Claire Jacobs":MAILTO:claire@fitframephysio.com
END:VEVENT
BEGIN:VEVENT
DTSTART;TZID=Europe/London:20260522T104500
DTEND;TZID=Europe/London:20260522T234500
DTSTAMP:20260424T123613
CREATED:20200510T141707Z
LAST-MODIFIED:20200510T141707Z
UID:30648-1779446700-1779493500@bildeston.org
SUMMARY:Intermediate Pilates
DESCRIPTION:
URL:https://bildeston.org/event/intermediate-pilates/2026-05-22/
LOCATION:Chamberlin Hall
CATEGORIES:Chamberlin Hall
ORGANIZER;CN="Claire Jacobs":MAILTO:claire@fitframephysio.com
END:VEVENT
BEGIN:VEVENT
DTSTART;TZID=Europe/London:20260529T104500
DTEND;TZID=Europe/London:20260529T234500
DTSTAMP:20260424T123613
CREATED:20200510T141707Z
LAST-MODIFIED:20200510T141707Z
UID:30732-1780051500-1780098300@bildeston.org
SUMMARY:Intermediate Pilates
DESCRIPTION:
URL:https://bildeston.org/event/intermediate-pilates/2026-05-29/
LOCATION:Chamberlin Hall
CATEGORIES:Chamberlin Hall
ORGANIZER;CN="Claire Jacobs":MAILTO:claire@fitframephysio.com
END:VEVENT
BEGIN:VEVENT
DTSTART;TZID=Europe/London:20260605T104500
DTEND;TZID=Europe/London:20260605T234500
DTSTAMP:20260424T123613
CREATED:20200510T141707Z
LAST-MODIFIED:20200510T141707Z
UID:31389-1780656300-1780703100@bildeston.org
SUMMARY:Intermediate Pilates
DESCRIPTION:
URL:https://bildeston.org/event/intermediate-pilates/2026-06-05/
LOCATION:Chamberlin Hall
CATEGORIES:Chamberlin Hall
ORGANIZER;CN="Claire Jacobs":MAILTO:claire@fitframephysio.com
END:VEVENT
BEGIN:VEVENT
DTSTART;TZID=Europe/London:20260612T104500
DTEND;TZID=Europe/London:20260612T234500
DTSTAMP:20260424T123613
CREATED:20200510T141707Z
LAST-MODIFIED:20200510T141707Z
UID:31702-1781261100-1781307900@bildeston.org
SUMMARY:Intermediate Pilates
DESCRIPTION:
URL:https://bildeston.org/event/intermediate-pilates/2026-06-12/
LOCATION:Chamberlin Hall
CATEGORIES:Chamberlin Hall
ORGANIZER;CN="Claire Jacobs":MAILTO:claire@fitframephysio.com
END:VEVENT
BEGIN:VEVENT
DTSTART;TZID=Europe/London:20260619T104500
DTEND;TZID=Europe/London:20260619T234500
DTSTAMP:20260424T123613
CREATED:20200510T141707Z
LAST-MODIFIED:20200510T141707Z
UID:31805-1781865900-1781912700@bildeston.org
SUMMARY:Intermediate Pilates
DESCRIPTION:
URL:https://bildeston.org/event/intermediate-pilates/2026-06-19/
LOCATION:Chamberlin Hall
CATEGORIES:Chamberlin Hall
ORGANIZER;CN="Claire Jacobs":MAILTO:claire@fitframephysio.com
END:VEVENT
BEGIN:VEVENT
DTSTART;TZID=Europe/London:20260626T104500
DTEND;TZID=Europe/London:20260626T234500
DTSTAMP:20260424T123613
CREATED:20200510T141707Z
LAST-MODIFIED:20200510T141707Z
UID:32006-1782470700-1782517500@bildeston.org
SUMMARY:Intermediate Pilates
DESCRIPTION:
URL:https://bildeston.org/event/intermediate-pilates/2026-06-26/
LOCATION:Chamberlin Hall
CATEGORIES:Chamberlin Hall
ORGANIZER;CN="Claire Jacobs":MAILTO:claire@fitframephysio.com
END:VEVENT
BEGIN:VEVENT
DTSTART;TZID=Europe/London:20260703T104500
DTEND;TZID=Europe/London:20260703T234500
DTSTAMP:20260424T123613
CREATED:20200510T141707Z
LAST-MODIFIED:20200510T141707Z
UID:32269-1783075500-1783122300@bildeston.org
SUMMARY:Intermediate Pilates
DESCRIPTION:
URL:https://bildeston.org/event/intermediate-pilates/2026-07-03/
LOCATION:Chamberlin Hall
CATEGORIES:Chamberlin Hall
ORGANIZER;CN="Claire Jacobs":MAILTO:claire@fitframephysio.com
END:VEVENT
BEGIN:VEVENT
DTSTART;TZID=Europe/London:20260710T104500
DTEND;TZID=Europe/London:20260710T234500
DTSTAMP:20260424T123613
CREATED:20200510T141707Z
LAST-MODIFIED:20200510T141707Z
UID:32449-1783680300-1783727100@bildeston.org
SUMMARY:Intermediate Pilates
DESCRIPTION:
URL:https://bildeston.org/event/intermediate-pilates/2026-07-10/
LOCATION:Chamberlin Hall
CATEGORIES:Chamberlin Hall
ORGANIZER;CN="Claire Jacobs":MAILTO:claire@fitframephysio.com
END:VEVENT
BEGIN:VEVENT
DTSTART;TZID=Europe/London:20260717T104500
DTEND;TZID=Europe/London:20260717T234500
DTSTAMP:20260424T123613
CREATED:20200510T141707Z
LAST-MODIFIED:20200510T141707Z
UID:32554-1784285100-1784331900@bildeston.org
SUMMARY:Intermediate Pilates
DESCRIPTION:
URL:https://bildeston.org/event/intermediate-pilates/2026-07-17/
LOCATION:Chamberlin Hall
CATEGORIES:Chamberlin Hall
ORGANIZER;CN="Claire Jacobs":MAILTO:claire@fitframephysio.com
END:VEVENT
BEGIN:VEVENT
DTSTART;TZID=Europe/London:20260724T104500
DTEND;TZID=Europe/London:20260724T234500
DTSTAMP:20260424T123613
CREATED:20200510T141707Z
LAST-MODIFIED:20200510T141707Z
UID:32649-1784889900-1784936700@bildeston.org
SUMMARY:Intermediate Pilates
DESCRIPTION:
URL:https://bildeston.org/event/intermediate-pilates/2026-07-24/
LOCATION:Chamberlin Hall
CATEGORIES:Chamberlin Hall
ORGANIZER;CN="Claire Jacobs":MAILTO:claire@fitframephysio.com
END:VEVENT
BEGIN:VEVENT
DTSTART;TZID=Europe/London:20260731T104500
DTEND;TZID=Europe/London:20260731T234500
DTSTAMP:20260424T123613
CREATED:20200510T141707Z
LAST-MODIFIED:20200510T141707Z
UID:32966-1785494700-1785541500@bildeston.org
SUMMARY:Intermediate Pilates
DESCRIPTION:
URL:https://bildeston.org/event/intermediate-pilates/2026-07-31/
LOCATION:Chamberlin Hall
CATEGORIES:Chamberlin Hall
ORGANIZER;CN="Claire Jacobs":MAILTO:claire@fitframephysio.com
END:VEVENT
BEGIN:VEVENT
DTSTART;TZID=Europe/London:20260807T104500
DTEND;TZID=Europe/London:20260807T234500
DTSTAMP:20260424T123613
CREATED:20200510T141707Z
LAST-MODIFIED:20200510T141707Z
UID:33267-1786099500-1786146300@bildeston.org
SUMMARY:Intermediate Pilates
DESCRIPTION:
URL:https://bildeston.org/event/intermediate-pilates/2026-08-07/
LOCATION:Chamberlin Hall
CATEGORIES:Chamberlin Hall
ORGANIZER;CN="Claire Jacobs":MAILTO:claire@fitframephysio.com
END:VEVENT
BEGIN:VEVENT
DTSTART;TZID=Europe/London:20260814T104500
DTEND;TZID=Europe/London:20260814T234500
DTSTAMP:20260424T123613
CREATED:20200510T141707Z
LAST-MODIFIED:20200510T141707Z
UID:33615-1786704300-1786751100@bildeston.org
SUMMARY:Intermediate Pilates
DESCRIPTION:
URL:https://bildeston.org/event/intermediate-pilates/2026-08-14/
LOCATION:Chamberlin Hall
CATEGORIES:Chamberlin Hall
ORGANIZER;CN="Claire Jacobs":MAILTO:claire@fitframephysio.com
END:VEVENT
BEGIN:VEVENT
DTSTART;TZID=Europe/London:20260821T104500
DTEND;TZID=Europe/London:20260821T234500
DTSTAMP:20260424T123613
CREATED:20200510T141707Z
LAST-MODIFIED:20200510T141707Z
UID:33821-1787309100-1787355900@bildeston.org
SUMMARY:Intermediate Pilates
DESCRIPTION:
URL:https://bildeston.org/event/intermediate-pilates/2026-08-21/
LOCATION:Chamberlin Hall
CATEGORIES:Chamberlin Hall
ORGANIZER;CN="Claire Jacobs":MAILTO:claire@fitframephysio.com
END:VEVENT
BEGIN:VEVENT
DTSTART;TZID=Europe/London:20260828T104500
DTEND;TZID=Europe/London:20260828T234500
DTSTAMP:20260424T123613
CREATED:20200510T141707Z
LAST-MODIFIED:20200510T141707Z
UID:33931-1787913900-1787960700@bildeston.org
SUMMARY:Intermediate Pilates
DESCRIPTION:
URL:https://bildeston.org/event/intermediate-pilates/2026-08-28/
LOCATION:Chamberlin Hall
CATEGORIES:Chamberlin Hall
ORGANIZER;CN="Claire Jacobs":MAILTO:claire@fitframephysio.com
END:VEVENT
BEGIN:VEVENT
DTSTART;TZID=Europe/London:20260904T104500
DTEND;TZID=Europe/London:20260904T234500
DTSTAMP:20260424T123613
CREATED:20200510T141707Z
LAST-MODIFIED:20200510T141707Z
UID:34011-1788518700-1788565500@bildeston.org
SUMMARY:Intermediate Pilates
DESCRIPTION:
URL:https://bildeston.org/event/intermediate-pilates/2026-09-04/
LOCATION:Chamberlin Hall
CATEGORIES:Chamberlin Hall
ORGANIZER;CN="Claire Jacobs":MAILTO:claire@fitframephysio.com
END:VEVENT
BEGIN:VEVENT
DTSTART;TZID=Europe/London:20260911T104500
DTEND;TZID=Europe/London:20260911T234500
DTSTAMP:20260424T123613
CREATED:20200510T141707Z
LAST-MODIFIED:20200510T141707Z
UID:34087-1789123500-1789170300@bildeston.org
SUMMARY:Intermediate Pilates
DESCRIPTION:
URL:https://bildeston.org/event/intermediate-pilates/2026-09-11/
LOCATION:Chamberlin Hall
CATEGORIES:Chamberlin Hall
ORGANIZER;CN="Claire Jacobs":MAILTO:claire@fitframephysio.com
END:VEVENT
BEGIN:VEVENT
DTSTART;TZID=Europe/London:20260918T104500
DTEND;TZID=Europe/London:20260918T234500
DTSTAMP:20260424T123613
CREATED:20200510T141707Z
LAST-MODIFIED:20200510T141707Z
UID:34156-1789728300-1789775100@bildeston.org
SUMMARY:Intermediate Pilates
DESCRIPTION:
URL:https://bildeston.org/event/intermediate-pilates/2026-09-18/
LOCATION:Chamberlin Hall
CATEGORIES:Chamberlin Hall
ORGANIZER;CN="Claire Jacobs":MAILTO:claire@fitframephysio.com
END:VEVENT
BEGIN:VEVENT
DTSTART;TZID=Europe/London:20260925T104500
DTEND;TZID=Europe/London:20260925T234500
DTSTAMP:20260424T123613
CREATED:20200510T141707Z
LAST-MODIFIED:20200510T141707Z
UID:34465-1790333100-1790379900@bildeston.org
SUMMARY:Intermediate Pilates
DESCRIPTION:
URL:https://bildeston.org/event/intermediate-pilates/2026-09-25/
LOCATION:Chamberlin Hall
CATEGORIES:Chamberlin Hall
ORGANIZER;CN="Claire Jacobs":MAILTO:claire@fitframephysio.com
END:VEVENT
BEGIN:VEVENT
DTSTART;TZID=Europe/London:20261002T104500
DTEND;TZID=Europe/London:20261002T234500
DTSTAMP:20260424T123613
CREATED:20200510T141707Z
LAST-MODIFIED:20200510T141707Z
UID:34535-1790937900-1790984700@bildeston.org
SUMMARY:Intermediate Pilates
DESCRIPTION:
URL:https://bildeston.org/event/intermediate-pilates/2026-10-02/
LOCATION:Chamberlin Hall
CATEGORIES:Chamberlin Hall
ORGANIZER;CN="Claire Jacobs":MAILTO:claire@fitframephysio.com
END:VEVENT
BEGIN:VEVENT
DTSTART;TZID=Europe/London:20261009T104500
DTEND;TZID=Europe/London:20261009T234500
DTSTAMP:20260424T123613
CREATED:20200510T141707Z
LAST-MODIFIED:20200510T141707Z
UID:35965-1791542700-1791589500@bildeston.org
SUMMARY:Intermediate Pilates
DESCRIPTION:
URL:https://bildeston.org/event/intermediate-pilates/2026-10-09/
LOCATION:Chamberlin Hall
CATEGORIES:Chamberlin Hall
ORGANIZER;CN="Claire Jacobs":MAILTO:claire@fitframephysio.com
END:VEVENT
BEGIN:VEVENT
DTSTART;TZID=Europe/London:20261016T104500
DTEND;TZID=Europe/London:20261016T234500
DTSTAMP:20260424T123613
CREATED:20200510T141707Z
LAST-MODIFIED:20200510T141707Z
UID:37378-1792147500-1792194300@bildeston.org
SUMMARY:Intermediate Pilates
DESCRIPTION:
URL:https://bildeston.org/event/intermediate-pilates/2026-10-16/
LOCATION:Chamberlin Hall
CATEGORIES:Chamberlin Hall
ORGANIZER;CN="Claire Jacobs":MAILTO:claire@fitframephysio.com
END:VEVENT
BEGIN:VEVENT
DTSTART;TZID=Europe/London:20261023T104500
DTEND;TZID=Europe/London:20261023T234500
DTSTAMP:20260424T123613
CREATED:20200510T141707Z
LAST-MODIFIED:20200510T141707Z
UID:38563-1792752300-1792799100@bildeston.org
SUMMARY:Intermediate Pilates
DESCRIPTION:
URL:https://bildeston.org/event/intermediate-pilates/2026-10-23/
LOCATION:Chamberlin Hall
CATEGORIES:Chamberlin Hall
ORGANIZER;CN="Claire Jacobs":MAILTO:claire@fitframephysio.com
END:VEVENT
BEGIN:VEVENT
DTSTART;TZID=Europe/London:20261030T104500
DTEND;TZID=Europe/London:20261030T234500
DTSTAMP:20260424T123613
CREATED:20200510T141707Z
LAST-MODIFIED:20200510T141707Z
UID:39397-1793357100-1793403900@bildeston.org
SUMMARY:Intermediate Pilates
DESCRIPTION:
URL:https://bildeston.org/event/intermediate-pilates/2026-10-30/
LOCATION:Chamberlin Hall
CATEGORIES:Chamberlin Hall
ORGANIZER;CN="Claire Jacobs":MAILTO:claire@fitframephysio.com
END:VEVENT
BEGIN:VEVENT
DTSTART;TZID=Europe/London:20261106T104500
DTEND;TZID=Europe/London:20261106T234500
DTSTAMP:20260424T123613
CREATED:20200510T141707Z
LAST-MODIFIED:20200510T141707Z
UID:42356-1793961900-1794008700@bildeston.org
SUMMARY:Intermediate Pilates
DESCRIPTION:
URL:https://bildeston.org/event/intermediate-pilates/2026-11-06/
LOCATION:Chamberlin Hall
CATEGORIES:Chamberlin Hall
ORGANIZER;CN="Claire Jacobs":MAILTO:claire@fitframephysio.com
END:VEVENT
BEGIN:VEVENT
DTSTART;TZID=Europe/London:20261113T104500
DTEND;TZID=Europe/London:20261113T234500
DTSTAMP:20260424T123613
CREATED:20200510T141707Z
LAST-MODIFIED:20200510T141707Z
UID:48047-1794566700-1794613500@bildeston.org
SUMMARY:Intermediate Pilates
DESCRIPTION:
URL:https://bildeston.org/event/intermediate-pilates/2026-11-13/
LOCATION:Chamberlin Hall
CATEGORIES:Chamberlin Hall
ORGANIZER;CN="Claire Jacobs":MAILTO:claire@fitframephysio.com
END:VEVENT
END:VCALENDAR