BEGIN:VCALENDAR
VERSION:2.0
PRODID:-//Bildeston Village - ECPv6.15.20//NONSGML v1.0//EN
CALSCALE:GREGORIAN
METHOD:PUBLISH
X-ORIGINAL-URL:https://bildeston.org
X-WR-CALDESC:Events for Bildeston Village
REFRESH-INTERVAL;VALUE=DURATION:PT1H
X-Robots-Tag:noindex
X-PUBLISHED-TTL:PT1H
BEGIN:VTIMEZONE
TZID:Europe/London
BEGIN:DAYLIGHT
TZOFFSETFROM:+0000
TZOFFSETTO:+0100
TZNAME:BST
DTSTART:20240331T010000
END:DAYLIGHT
BEGIN:STANDARD
TZOFFSETFROM:+0100
TZOFFSETTO:+0000
TZNAME:GMT
DTSTART:20241027T010000
END:STANDARD
BEGIN:DAYLIGHT
TZOFFSETFROM:+0000
TZOFFSETTO:+0100
TZNAME:BST
DTSTART:20250330T010000
END:DAYLIGHT
BEGIN:STANDARD
TZOFFSETFROM:+0100
TZOFFSETTO:+0000
TZNAME:GMT
DTSTART:20251026T010000
END:STANDARD
BEGIN:DAYLIGHT
TZOFFSETFROM:+0000
TZOFFSETTO:+0100
TZNAME:BST
DTSTART:20260329T010000
END:DAYLIGHT
BEGIN:STANDARD
TZOFFSETFROM:+0100
TZOFFSETTO:+0000
TZNAME:GMT
DTSTART:20261025T010000
END:STANDARD
BEGIN:DAYLIGHT
TZOFFSETFROM:+0000
TZOFFSETTO:+0100
TZNAME:BST
DTSTART:20270328T010000
END:DAYLIGHT
BEGIN:STANDARD
TZOFFSETFROM:+0100
TZOFFSETTO:+0000
TZNAME:GMT
DTSTART:20271031T010000
END:STANDARD
END:VTIMEZONE
BEGIN:VEVENT
DTSTART;TZID=Europe/London:20260417T104500
DTEND;TZID=Europe/London:20260417T234500
DTSTAMP:20260424T142021
CREATED:20200510T141707Z
LAST-MODIFIED:20200510T141707Z
UID:28543-1776422700-1776469500@bildeston.org
SUMMARY:Intermediate Pilates
DESCRIPTION:
URL:https://bildeston.org/event/intermediate-pilates-2/2026-04-17/
LOCATION:Chamberlin Hall
CATEGORIES:Chamberlin Hall
ORGANIZER;CN="Claire Jacobs":MAILTO:claire@fitframephysio.com
END:VEVENT
BEGIN:VEVENT
DTSTART;TZID=Europe/London:20260410T104500
DTEND;TZID=Europe/London:20260410T234500
DTSTAMP:20260424T142021
CREATED:20200510T141707Z
LAST-MODIFIED:20200510T141707Z
UID:28358-1775817900-1775864700@bildeston.org
SUMMARY:Intermediate Pilates
DESCRIPTION:
URL:https://bildeston.org/event/intermediate-pilates-2/2026-04-10/
LOCATION:Chamberlin Hall
CATEGORIES:Chamberlin Hall
ORGANIZER;CN="Claire Jacobs":MAILTO:claire@fitframephysio.com
END:VEVENT
BEGIN:VEVENT
DTSTART;TZID=Europe/London:20260403T104500
DTEND;TZID=Europe/London:20260403T234500
DTSTAMP:20260424T142021
CREATED:20200510T141707Z
LAST-MODIFIED:20200510T141707Z
UID:28219-1775213100-1775259900@bildeston.org
SUMMARY:Intermediate Pilates
DESCRIPTION:
URL:https://bildeston.org/event/intermediate-pilates-2/2026-04-03/
LOCATION:Chamberlin Hall
CATEGORIES:Chamberlin Hall
ORGANIZER;CN="Claire Jacobs":MAILTO:claire@fitframephysio.com
END:VEVENT
BEGIN:VEVENT
DTSTART;TZID=Europe/London:20260327T104500
DTEND;TZID=Europe/London:20260327T234500
DTSTAMP:20260424T142021
CREATED:20200510T141707Z
LAST-MODIFIED:20200510T141707Z
UID:28032-1774608300-1774655100@bildeston.org
SUMMARY:Intermediate Pilates
DESCRIPTION:
URL:https://bildeston.org/event/intermediate-pilates-2/2026-03-27/
LOCATION:Chamberlin Hall
CATEGORIES:Chamberlin Hall
ORGANIZER;CN="Claire Jacobs":MAILTO:claire@fitframephysio.com
END:VEVENT
BEGIN:VEVENT
DTSTART;TZID=Europe/London:20260320T104500
DTEND;TZID=Europe/London:20260320T234500
DTSTAMP:20260424T142021
CREATED:20200510T141707Z
LAST-MODIFIED:20200510T141707Z
UID:27941-1774003500-1774050300@bildeston.org
SUMMARY:Intermediate Pilates
DESCRIPTION:
URL:https://bildeston.org/event/intermediate-pilates-2/2026-03-20/
LOCATION:Chamberlin Hall
CATEGORIES:Chamberlin Hall
ORGANIZER;CN="Claire Jacobs":MAILTO:claire@fitframephysio.com
END:VEVENT
BEGIN:VEVENT
DTSTART;TZID=Europe/London:20260313T104500
DTEND;TZID=Europe/London:20260313T234500
DTSTAMP:20260424T142021
CREATED:20200510T141707Z
LAST-MODIFIED:20200510T141707Z
UID:27865-1773398700-1773445500@bildeston.org
SUMMARY:Intermediate Pilates
DESCRIPTION:
URL:https://bildeston.org/event/intermediate-pilates-2/2026-03-13/
LOCATION:Chamberlin Hall
CATEGORIES:Chamberlin Hall
ORGANIZER;CN="Claire Jacobs":MAILTO:claire@fitframephysio.com
END:VEVENT
BEGIN:VEVENT
DTSTART;TZID=Europe/London:20260306T104500
DTEND;TZID=Europe/London:20260306T234500
DTSTAMP:20260424T142021
CREATED:20200510T141707Z
LAST-MODIFIED:20200510T141707Z
UID:27749-1772793900-1772840700@bildeston.org
SUMMARY:Intermediate Pilates
DESCRIPTION:
URL:https://bildeston.org/event/intermediate-pilates-2/2026-03-06/
LOCATION:Chamberlin Hall
CATEGORIES:Chamberlin Hall
ORGANIZER;CN="Claire Jacobs":MAILTO:claire@fitframephysio.com
END:VEVENT
BEGIN:VEVENT
DTSTART;TZID=Europe/London:20260227T104500
DTEND;TZID=Europe/London:20260227T234500
DTSTAMP:20260424T142021
CREATED:20200510T141707Z
LAST-MODIFIED:20200510T141707Z
UID:27615-1772189100-1772235900@bildeston.org
SUMMARY:Intermediate Pilates
DESCRIPTION:
URL:https://bildeston.org/event/intermediate-pilates-2/2026-02-27/
LOCATION:Chamberlin Hall
CATEGORIES:Chamberlin Hall
ORGANIZER;CN="Claire Jacobs":MAILTO:claire@fitframephysio.com
END:VEVENT
BEGIN:VEVENT
DTSTART;TZID=Europe/London:20260220T104500
DTEND;TZID=Europe/London:20260220T234500
DTSTAMP:20260424T142021
CREATED:20200510T141707Z
LAST-MODIFIED:20200510T141707Z
UID:27475-1771584300-1771631100@bildeston.org
SUMMARY:Intermediate Pilates
DESCRIPTION:
URL:https://bildeston.org/event/intermediate-pilates-2/2026-02-20/
LOCATION:Chamberlin Hall
CATEGORIES:Chamberlin Hall
ORGANIZER;CN="Claire Jacobs":MAILTO:claire@fitframephysio.com
END:VEVENT
BEGIN:VEVENT
DTSTART;TZID=Europe/London:20260213T104500
DTEND;TZID=Europe/London:20260213T234500
DTSTAMP:20260424T142021
CREATED:20200510T141707Z
LAST-MODIFIED:20200510T141707Z
UID:27222-1770979500-1771026300@bildeston.org
SUMMARY:Intermediate Pilates
DESCRIPTION:
URL:https://bildeston.org/event/intermediate-pilates-2/2026-02-13/
LOCATION:Chamberlin Hall
CATEGORIES:Chamberlin Hall
ORGANIZER;CN="Claire Jacobs":MAILTO:claire@fitframephysio.com
END:VEVENT
BEGIN:VEVENT
DTSTART;TZID=Europe/London:20260206T104500
DTEND;TZID=Europe/London:20260206T234500
DTSTAMP:20260424T142021
CREATED:20200510T141707Z
LAST-MODIFIED:20200510T141707Z
UID:26926-1770374700-1770421500@bildeston.org
SUMMARY:Intermediate Pilates
DESCRIPTION:
URL:https://bildeston.org/event/intermediate-pilates-2/2026-02-06/
LOCATION:Chamberlin Hall
CATEGORIES:Chamberlin Hall
ORGANIZER;CN="Claire Jacobs":MAILTO:claire@fitframephysio.com
END:VEVENT
BEGIN:VEVENT
DTSTART;TZID=Europe/London:20260130T104500
DTEND;TZID=Europe/London:20260130T234500
DTSTAMP:20260424T142021
CREATED:20200510T141707Z
LAST-MODIFIED:20200510T141707Z
UID:26526-1769769900-1769816700@bildeston.org
SUMMARY:Intermediate Pilates
DESCRIPTION:
URL:https://bildeston.org/event/intermediate-pilates-2/2026-01-30/
LOCATION:Chamberlin Hall
CATEGORIES:Chamberlin Hall
ORGANIZER;CN="Claire Jacobs":MAILTO:claire@fitframephysio.com
END:VEVENT
BEGIN:VEVENT
DTSTART;TZID=Europe/London:20260123T104500
DTEND;TZID=Europe/London:20260123T234500
DTSTAMP:20260424T142021
CREATED:20200510T141707Z
LAST-MODIFIED:20200510T141707Z
UID:26148-1769165100-1769211900@bildeston.org
SUMMARY:Intermediate Pilates
DESCRIPTION:
URL:https://bildeston.org/event/intermediate-pilates-2/2026-01-23/
LOCATION:Chamberlin Hall
CATEGORIES:Chamberlin Hall
ORGANIZER;CN="Claire Jacobs":MAILTO:claire@fitframephysio.com
END:VEVENT
BEGIN:VEVENT
DTSTART;TZID=Europe/London:20260116T104500
DTEND;TZID=Europe/London:20260116T234500
DTSTAMP:20260424T142021
CREATED:20200510T141707Z
LAST-MODIFIED:20200510T141707Z
UID:25971-1768560300-1768607100@bildeston.org
SUMMARY:Intermediate Pilates
DESCRIPTION:
URL:https://bildeston.org/event/intermediate-pilates-2/2026-01-16/
LOCATION:Chamberlin Hall
CATEGORIES:Chamberlin Hall
ORGANIZER;CN="Claire Jacobs":MAILTO:claire@fitframephysio.com
END:VEVENT
BEGIN:VEVENT
DTSTART;TZID=Europe/London:20260109T104500
DTEND;TZID=Europe/London:20260109T234500
DTSTAMP:20260424T142021
CREATED:20200510T141707Z
LAST-MODIFIED:20200510T141707Z
UID:25774-1767955500-1768002300@bildeston.org
SUMMARY:Intermediate Pilates
DESCRIPTION:
URL:https://bildeston.org/event/intermediate-pilates-2/2026-01-09/
LOCATION:Chamberlin Hall
CATEGORIES:Chamberlin Hall
ORGANIZER;CN="Claire Jacobs":MAILTO:claire@fitframephysio.com
END:VEVENT
BEGIN:VEVENT
DTSTART;TZID=Europe/London:20260102T104500
DTEND;TZID=Europe/London:20260102T234500
DTSTAMP:20260424T142021
CREATED:20200510T141707Z
LAST-MODIFIED:20200510T141707Z
UID:25593-1767350700-1767397500@bildeston.org
SUMMARY:Intermediate Pilates
DESCRIPTION:
URL:https://bildeston.org/event/intermediate-pilates-2/2026-01-02/
LOCATION:Chamberlin Hall
CATEGORIES:Chamberlin Hall
ORGANIZER;CN="Claire Jacobs":MAILTO:claire@fitframephysio.com
END:VEVENT
BEGIN:VEVENT
DTSTART;TZID=Europe/London:20251226T104500
DTEND;TZID=Europe/London:20251226T234500
DTSTAMP:20260424T142021
CREATED:20200510T141707Z
LAST-MODIFIED:20200510T141707Z
UID:25405-1766745900-1766792700@bildeston.org
SUMMARY:Intermediate Pilates
DESCRIPTION:
URL:https://bildeston.org/event/intermediate-pilates-2/2025-12-26/
LOCATION:Chamberlin Hall
CATEGORIES:Chamberlin Hall
ORGANIZER;CN="Claire Jacobs":MAILTO:claire@fitframephysio.com
END:VEVENT
BEGIN:VEVENT
DTSTART;TZID=Europe/London:20251219T104500
DTEND;TZID=Europe/London:20251219T234500
DTSTAMP:20260424T142021
CREATED:20200510T141707Z
LAST-MODIFIED:20200510T141707Z
UID:25198-1766141100-1766187900@bildeston.org
SUMMARY:Intermediate Pilates
DESCRIPTION:
URL:https://bildeston.org/event/intermediate-pilates-2/2025-12-19/
LOCATION:Chamberlin Hall
CATEGORIES:Chamberlin Hall
ORGANIZER;CN="Claire Jacobs":MAILTO:claire@fitframephysio.com
END:VEVENT
BEGIN:VEVENT
DTSTART;TZID=Europe/London:20251212T104500
DTEND;TZID=Europe/London:20251212T234500
DTSTAMP:20260424T142021
CREATED:20200510T141707Z
LAST-MODIFIED:20200510T141707Z
UID:24979-1765536300-1765583100@bildeston.org
SUMMARY:Intermediate Pilates
DESCRIPTION:
URL:https://bildeston.org/event/intermediate-pilates-2/2025-12-12/
LOCATION:Chamberlin Hall
CATEGORIES:Chamberlin Hall
ORGANIZER;CN="Claire Jacobs":MAILTO:claire@fitframephysio.com
END:VEVENT
BEGIN:VEVENT
DTSTART;TZID=Europe/London:20251205T104500
DTEND;TZID=Europe/London:20251205T234500
DTSTAMP:20260424T142021
CREATED:20200510T141707Z
LAST-MODIFIED:20200510T141707Z
UID:24786-1764931500-1764978300@bildeston.org
SUMMARY:Intermediate Pilates
DESCRIPTION:
URL:https://bildeston.org/event/intermediate-pilates-2/2025-12-05/
LOCATION:Chamberlin Hall
CATEGORIES:Chamberlin Hall
ORGANIZER;CN="Claire Jacobs":MAILTO:claire@fitframephysio.com
END:VEVENT
BEGIN:VEVENT
DTSTART;TZID=Europe/London:20251128T104500
DTEND;TZID=Europe/London:20251128T234500
DTSTAMP:20260424T142021
CREATED:20200510T141707Z
LAST-MODIFIED:20200510T141707Z
UID:24580-1764326700-1764373500@bildeston.org
SUMMARY:Intermediate Pilates
DESCRIPTION:
URL:https://bildeston.org/event/intermediate-pilates-2/2025-11-28/
LOCATION:Chamberlin Hall
CATEGORIES:Chamberlin Hall
ORGANIZER;CN="Claire Jacobs":MAILTO:claire@fitframephysio.com
END:VEVENT
BEGIN:VEVENT
DTSTART;TZID=Europe/London:20251121T104500
DTEND;TZID=Europe/London:20251121T234500
DTSTAMP:20260424T142021
CREATED:20200510T141707Z
LAST-MODIFIED:20200510T141707Z
UID:24266-1763721900-1763768700@bildeston.org
SUMMARY:Intermediate Pilates
DESCRIPTION:
URL:https://bildeston.org/event/intermediate-pilates-2/2025-11-21/
LOCATION:Chamberlin Hall
CATEGORIES:Chamberlin Hall
ORGANIZER;CN="Claire Jacobs":MAILTO:claire@fitframephysio.com
END:VEVENT
BEGIN:VEVENT
DTSTART;TZID=Europe/London:20251114T104500
DTEND;TZID=Europe/London:20251114T234500
DTSTAMP:20260424T142021
CREATED:20200510T141707Z
LAST-MODIFIED:20200510T141707Z
UID:24150-1763117100-1763163900@bildeston.org
SUMMARY:Intermediate Pilates
DESCRIPTION:
URL:https://bildeston.org/event/intermediate-pilates-2/2025-11-14/
LOCATION:Chamberlin Hall
CATEGORIES:Chamberlin Hall
ORGANIZER;CN="Claire Jacobs":MAILTO:claire@fitframephysio.com
END:VEVENT
BEGIN:VEVENT
DTSTART;TZID=Europe/London:20251107T104500
DTEND;TZID=Europe/London:20251107T234500
DTSTAMP:20260424T142021
CREATED:20200510T141707Z
LAST-MODIFIED:20200510T141707Z
UID:24100-1762512300-1762559100@bildeston.org
SUMMARY:Intermediate Pilates
DESCRIPTION:
URL:https://bildeston.org/event/intermediate-pilates-2/2025-11-07/
LOCATION:Chamberlin Hall
CATEGORIES:Chamberlin Hall
ORGANIZER;CN="Claire Jacobs":MAILTO:claire@fitframephysio.com
END:VEVENT
BEGIN:VEVENT
DTSTART;TZID=Europe/London:20251031T104500
DTEND;TZID=Europe/London:20251031T234500
DTSTAMP:20260424T142021
CREATED:20200510T141707Z
LAST-MODIFIED:20200510T141707Z
UID:24072-1761907500-1761954300@bildeston.org
SUMMARY:Intermediate Pilates
DESCRIPTION:
URL:https://bildeston.org/event/intermediate-pilates-2/2025-10-31/
LOCATION:Chamberlin Hall
CATEGORIES:Chamberlin Hall
ORGANIZER;CN="Claire Jacobs":MAILTO:claire@fitframephysio.com
END:VEVENT
BEGIN:VEVENT
DTSTART;TZID=Europe/London:20251024T104500
DTEND;TZID=Europe/London:20251024T234500
DTSTAMP:20260424T142021
CREATED:20200510T141707Z
LAST-MODIFIED:20200510T141707Z
UID:24041-1761302700-1761349500@bildeston.org
SUMMARY:Intermediate Pilates
DESCRIPTION:
URL:https://bildeston.org/event/intermediate-pilates-2/2025-10-24/
LOCATION:Chamberlin Hall
CATEGORIES:Chamberlin Hall
ORGANIZER;CN="Claire Jacobs":MAILTO:claire@fitframephysio.com
END:VEVENT
BEGIN:VEVENT
DTSTART;TZID=Europe/London:20251017T104500
DTEND;TZID=Europe/London:20251017T234500
DTSTAMP:20260424T142021
CREATED:20200510T141707Z
LAST-MODIFIED:20200510T141707Z
UID:24014-1760697900-1760744700@bildeston.org
SUMMARY:Intermediate Pilates
DESCRIPTION:
URL:https://bildeston.org/event/intermediate-pilates-2/2025-10-17/
LOCATION:Chamberlin Hall
CATEGORIES:Chamberlin Hall
ORGANIZER;CN="Claire Jacobs":MAILTO:claire@fitframephysio.com
END:VEVENT
BEGIN:VEVENT
DTSTART;TZID=Europe/London:20251010T104500
DTEND;TZID=Europe/London:20251010T234500
DTSTAMP:20260424T142021
CREATED:20200510T141707Z
LAST-MODIFIED:20200510T141707Z
UID:23973-1760093100-1760139900@bildeston.org
SUMMARY:Intermediate Pilates
DESCRIPTION:
URL:https://bildeston.org/event/intermediate-pilates-2/2025-10-10/
LOCATION:Chamberlin Hall
CATEGORIES:Chamberlin Hall
ORGANIZER;CN="Claire Jacobs":MAILTO:claire@fitframephysio.com
END:VEVENT
BEGIN:VEVENT
DTSTART;TZID=Europe/London:20251003T104500
DTEND;TZID=Europe/London:20251003T234500
DTSTAMP:20260424T142021
CREATED:20200510T141707Z
LAST-MODIFIED:20200510T141707Z
UID:23949-1759488300-1759535100@bildeston.org
SUMMARY:Intermediate Pilates
DESCRIPTION:
URL:https://bildeston.org/event/intermediate-pilates-2/2025-10-03/
LOCATION:Chamberlin Hall
CATEGORIES:Chamberlin Hall
ORGANIZER;CN="Claire Jacobs":MAILTO:claire@fitframephysio.com
END:VEVENT
BEGIN:VEVENT
DTSTART;TZID=Europe/London:20250926T104500
DTEND;TZID=Europe/London:20250926T234500
DTSTAMP:20260424T142021
CREATED:20200510T141707Z
LAST-MODIFIED:20200510T141707Z
UID:23896-1758883500-1758930300@bildeston.org
SUMMARY:Intermediate Pilates
DESCRIPTION:
URL:https://bildeston.org/event/intermediate-pilates-2/2025-09-26/
LOCATION:Chamberlin Hall
CATEGORIES:Chamberlin Hall
ORGANIZER;CN="Claire Jacobs":MAILTO:claire@fitframephysio.com
END:VEVENT
END:VCALENDAR