BEGIN:VCALENDAR
VERSION:2.0
PRODID:-//Bildeston Village - ECPv6.15.20//NONSGML v1.0//EN
CALSCALE:GREGORIAN
METHOD:PUBLISH
X-WR-CALNAME:Bildeston Village
X-ORIGINAL-URL:https://bildeston.org
X-WR-CALDESC:Events for Bildeston Village
REFRESH-INTERVAL;VALUE=DURATION:PT1H
X-Robots-Tag:noindex
X-PUBLISHED-TTL:PT1H
BEGIN:VTIMEZONE
TZID:Europe/London
BEGIN:DAYLIGHT
TZOFFSETFROM:+0000
TZOFFSETTO:+0100
TZNAME:BST
DTSTART:20240331T010000
END:DAYLIGHT
BEGIN:STANDARD
TZOFFSETFROM:+0100
TZOFFSETTO:+0000
TZNAME:GMT
DTSTART:20241027T010000
END:STANDARD
BEGIN:DAYLIGHT
TZOFFSETFROM:+0000
TZOFFSETTO:+0100
TZNAME:BST
DTSTART:20250330T010000
END:DAYLIGHT
BEGIN:STANDARD
TZOFFSETFROM:+0100
TZOFFSETTO:+0000
TZNAME:GMT
DTSTART:20251026T010000
END:STANDARD
BEGIN:DAYLIGHT
TZOFFSETFROM:+0000
TZOFFSETTO:+0100
TZNAME:BST
DTSTART:20260329T010000
END:DAYLIGHT
BEGIN:STANDARD
TZOFFSETFROM:+0100
TZOFFSETTO:+0000
TZNAME:GMT
DTSTART:20261025T010000
END:STANDARD
BEGIN:DAYLIGHT
TZOFFSETFROM:+0000
TZOFFSETTO:+0100
TZNAME:BST
DTSTART:20270328T010000
END:DAYLIGHT
BEGIN:STANDARD
TZOFFSETFROM:+0100
TZOFFSETTO:+0000
TZNAME:GMT
DTSTART:20271031T010000
END:STANDARD
END:VTIMEZONE
BEGIN:VEVENT
DTSTART;TZID=Europe/London:20260424T120000
DTEND;TZID=Europe/London:20260424T130000
DTSTAMP:20260424T142307
CREATED:20200510T142415Z
LAST-MODIFIED:20200510T142415Z
UID:28649-1777032000-1777035600@bildeston.org
SUMMARY:Beginners Pilates
DESCRIPTION:
URL:https://bildeston.org/event/beginners-pilates-cancelled-2023-05-05/2026-04-24/
LOCATION:Chamberlin Hall
CATEGORIES:Chamberlin Hall
ORGANIZER;CN="Claire Jacobs":MAILTO:claire@fitframephysio.com
END:VEVENT
BEGIN:VEVENT
DTSTART;TZID=Europe/London:20260417T120000
DTEND;TZID=Europe/London:20260417T130000
DTSTAMP:20260424T142307
CREATED:20200510T142415Z
LAST-MODIFIED:20200510T142415Z
UID:28544-1776427200-1776430800@bildeston.org
SUMMARY:Beginners Pilates
DESCRIPTION:
URL:https://bildeston.org/event/beginners-pilates-cancelled-2023-05-05/2026-04-17/
LOCATION:Chamberlin Hall
CATEGORIES:Chamberlin Hall
ORGANIZER;CN="Claire Jacobs":MAILTO:claire@fitframephysio.com
END:VEVENT
BEGIN:VEVENT
DTSTART;TZID=Europe/London:20260410T120000
DTEND;TZID=Europe/London:20260410T130000
DTSTAMP:20260424T142307
CREATED:20200510T142415Z
LAST-MODIFIED:20200510T142415Z
UID:28359-1775822400-1775826000@bildeston.org
SUMMARY:Beginners Pilates
DESCRIPTION:
URL:https://bildeston.org/event/beginners-pilates-cancelled-2023-05-05/2026-04-10/
LOCATION:Chamberlin Hall
CATEGORIES:Chamberlin Hall
ORGANIZER;CN="Claire Jacobs":MAILTO:claire@fitframephysio.com
END:VEVENT
BEGIN:VEVENT
DTSTART;TZID=Europe/London:20260403T120000
DTEND;TZID=Europe/London:20260403T130000
DTSTAMP:20260424T142307
CREATED:20200510T142415Z
LAST-MODIFIED:20200510T142415Z
UID:28220-1775217600-1775221200@bildeston.org
SUMMARY:Beginners Pilates
DESCRIPTION:
URL:https://bildeston.org/event/beginners-pilates-cancelled-2023-05-05/2026-04-03/
LOCATION:Chamberlin Hall
CATEGORIES:Chamberlin Hall
ORGANIZER;CN="Claire Jacobs":MAILTO:claire@fitframephysio.com
END:VEVENT
BEGIN:VEVENT
DTSTART;TZID=Europe/London:20260327T120000
DTEND;TZID=Europe/London:20260327T130000
DTSTAMP:20260424T142307
CREATED:20200510T142415Z
LAST-MODIFIED:20200510T142415Z
UID:28033-1774612800-1774616400@bildeston.org
SUMMARY:Beginners Pilates
DESCRIPTION:
URL:https://bildeston.org/event/beginners-pilates-cancelled-2023-05-05/2026-03-27/
LOCATION:Chamberlin Hall
CATEGORIES:Chamberlin Hall
ORGANIZER;CN="Claire Jacobs":MAILTO:claire@fitframephysio.com
END:VEVENT
BEGIN:VEVENT
DTSTART;TZID=Europe/London:20260320T120000
DTEND;TZID=Europe/London:20260320T130000
DTSTAMP:20260424T142307
CREATED:20200510T142415Z
LAST-MODIFIED:20200510T142415Z
UID:27942-1774008000-1774011600@bildeston.org
SUMMARY:Beginners Pilates
DESCRIPTION:
URL:https://bildeston.org/event/beginners-pilates-cancelled-2023-05-05/2026-03-20/
LOCATION:Chamberlin Hall
CATEGORIES:Chamberlin Hall
ORGANIZER;CN="Claire Jacobs":MAILTO:claire@fitframephysio.com
END:VEVENT
BEGIN:VEVENT
DTSTART;TZID=Europe/London:20260313T120000
DTEND;TZID=Europe/London:20260313T130000
DTSTAMP:20260424T142307
CREATED:20200510T142415Z
LAST-MODIFIED:20200510T142415Z
UID:27866-1773403200-1773406800@bildeston.org
SUMMARY:Beginners Pilates
DESCRIPTION:
URL:https://bildeston.org/event/beginners-pilates-cancelled-2023-05-05/2026-03-13/
LOCATION:Chamberlin Hall
CATEGORIES:Chamberlin Hall
ORGANIZER;CN="Claire Jacobs":MAILTO:claire@fitframephysio.com
END:VEVENT
BEGIN:VEVENT
DTSTART;TZID=Europe/London:20260306T120000
DTEND;TZID=Europe/London:20260306T130000
DTSTAMP:20260424T142307
CREATED:20200510T142415Z
LAST-MODIFIED:20200510T142415Z
UID:27750-1772798400-1772802000@bildeston.org
SUMMARY:Beginners Pilates
DESCRIPTION:
URL:https://bildeston.org/event/beginners-pilates-cancelled-2023-05-05/2026-03-06/
LOCATION:Chamberlin Hall
CATEGORIES:Chamberlin Hall
ORGANIZER;CN="Claire Jacobs":MAILTO:claire@fitframephysio.com
END:VEVENT
BEGIN:VEVENT
DTSTART;TZID=Europe/London:20260227T120000
DTEND;TZID=Europe/London:20260227T130000
DTSTAMP:20260424T142307
CREATED:20200510T142415Z
LAST-MODIFIED:20200510T142415Z
UID:27616-1772193600-1772197200@bildeston.org
SUMMARY:Beginners Pilates
DESCRIPTION:
URL:https://bildeston.org/event/beginners-pilates-cancelled-2023-05-05/2026-02-27/
LOCATION:Chamberlin Hall
CATEGORIES:Chamberlin Hall
ORGANIZER;CN="Claire Jacobs":MAILTO:claire@fitframephysio.com
END:VEVENT
BEGIN:VEVENT
DTSTART;TZID=Europe/London:20260220T120000
DTEND;TZID=Europe/London:20260220T130000
DTSTAMP:20260424T142307
CREATED:20200510T142415Z
LAST-MODIFIED:20200510T142415Z
UID:27476-1771588800-1771592400@bildeston.org
SUMMARY:Beginners Pilates
DESCRIPTION:
URL:https://bildeston.org/event/beginners-pilates-cancelled-2023-05-05/2026-02-20/
LOCATION:Chamberlin Hall
CATEGORIES:Chamberlin Hall
ORGANIZER;CN="Claire Jacobs":MAILTO:claire@fitframephysio.com
END:VEVENT
BEGIN:VEVENT
DTSTART;TZID=Europe/London:20260213T120000
DTEND;TZID=Europe/London:20260213T130000
DTSTAMP:20260424T142307
CREATED:20200510T142415Z
LAST-MODIFIED:20200510T142415Z
UID:27223-1770984000-1770987600@bildeston.org
SUMMARY:Beginners Pilates
DESCRIPTION:
URL:https://bildeston.org/event/beginners-pilates-cancelled-2023-05-05/2026-02-13/
LOCATION:Chamberlin Hall
CATEGORIES:Chamberlin Hall
ORGANIZER;CN="Claire Jacobs":MAILTO:claire@fitframephysio.com
END:VEVENT
BEGIN:VEVENT
DTSTART;TZID=Europe/London:20260206T120000
DTEND;TZID=Europe/London:20260206T130000
DTSTAMP:20260424T142307
CREATED:20200510T142415Z
LAST-MODIFIED:20200510T142415Z
UID:26927-1770379200-1770382800@bildeston.org
SUMMARY:Beginners Pilates
DESCRIPTION:
URL:https://bildeston.org/event/beginners-pilates-cancelled-2023-05-05/2026-02-06/
LOCATION:Chamberlin Hall
CATEGORIES:Chamberlin Hall
ORGANIZER;CN="Claire Jacobs":MAILTO:claire@fitframephysio.com
END:VEVENT
BEGIN:VEVENT
DTSTART;TZID=Europe/London:20260130T120000
DTEND;TZID=Europe/London:20260130T130000
DTSTAMP:20260424T142307
CREATED:20200510T142415Z
LAST-MODIFIED:20200510T142415Z
UID:26527-1769774400-1769778000@bildeston.org
SUMMARY:Beginners Pilates
DESCRIPTION:
URL:https://bildeston.org/event/beginners-pilates-cancelled-2023-05-05/2026-01-30/
LOCATION:Chamberlin Hall
CATEGORIES:Chamberlin Hall
ORGANIZER;CN="Claire Jacobs":MAILTO:claire@fitframephysio.com
END:VEVENT
BEGIN:VEVENT
DTSTART;TZID=Europe/London:20260123T120000
DTEND;TZID=Europe/London:20260123T130000
DTSTAMP:20260424T142307
CREATED:20200510T142415Z
LAST-MODIFIED:20200510T142415Z
UID:26149-1769169600-1769173200@bildeston.org
SUMMARY:Beginners Pilates
DESCRIPTION:
URL:https://bildeston.org/event/beginners-pilates-cancelled-2023-05-05/2026-01-23/
LOCATION:Chamberlin Hall
CATEGORIES:Chamberlin Hall
ORGANIZER;CN="Claire Jacobs":MAILTO:claire@fitframephysio.com
END:VEVENT
BEGIN:VEVENT
DTSTART;TZID=Europe/London:20260116T120000
DTEND;TZID=Europe/London:20260116T130000
DTSTAMP:20260424T142307
CREATED:20200510T142415Z
LAST-MODIFIED:20200510T142415Z
UID:25972-1768564800-1768568400@bildeston.org
SUMMARY:Beginners Pilates
DESCRIPTION:
URL:https://bildeston.org/event/beginners-pilates-cancelled-2023-05-05/2026-01-16/
LOCATION:Chamberlin Hall
CATEGORIES:Chamberlin Hall
ORGANIZER;CN="Claire Jacobs":MAILTO:claire@fitframephysio.com
END:VEVENT
BEGIN:VEVENT
DTSTART;TZID=Europe/London:20260109T120000
DTEND;TZID=Europe/London:20260109T130000
DTSTAMP:20260424T142307
CREATED:20200510T142415Z
LAST-MODIFIED:20200510T142415Z
UID:25775-1767960000-1767963600@bildeston.org
SUMMARY:Beginners Pilates
DESCRIPTION:
URL:https://bildeston.org/event/beginners-pilates-cancelled-2023-05-05/2026-01-09/
LOCATION:Chamberlin Hall
CATEGORIES:Chamberlin Hall
ORGANIZER;CN="Claire Jacobs":MAILTO:claire@fitframephysio.com
END:VEVENT
BEGIN:VEVENT
DTSTART;TZID=Europe/London:20260102T120000
DTEND;TZID=Europe/London:20260102T130000
DTSTAMP:20260424T142307
CREATED:20200510T142415Z
LAST-MODIFIED:20200510T142415Z
UID:25594-1767355200-1767358800@bildeston.org
SUMMARY:Beginners Pilates
DESCRIPTION:
URL:https://bildeston.org/event/beginners-pilates-cancelled-2023-05-05/2026-01-02/
LOCATION:Chamberlin Hall
CATEGORIES:Chamberlin Hall
ORGANIZER;CN="Claire Jacobs":MAILTO:claire@fitframephysio.com
END:VEVENT
BEGIN:VEVENT
DTSTART;TZID=Europe/London:20251226T120000
DTEND;TZID=Europe/London:20251226T130000
DTSTAMP:20260424T142307
CREATED:20200510T142415Z
LAST-MODIFIED:20200510T142415Z
UID:25406-1766750400-1766754000@bildeston.org
SUMMARY:Beginners Pilates
DESCRIPTION:
URL:https://bildeston.org/event/beginners-pilates-cancelled-2023-05-05/2025-12-26/
LOCATION:Chamberlin Hall
CATEGORIES:Chamberlin Hall
ORGANIZER;CN="Claire Jacobs":MAILTO:claire@fitframephysio.com
END:VEVENT
BEGIN:VEVENT
DTSTART;TZID=Europe/London:20251219T120000
DTEND;TZID=Europe/London:20251219T130000
DTSTAMP:20260424T142307
CREATED:20200510T142415Z
LAST-MODIFIED:20200510T142415Z
UID:25199-1766145600-1766149200@bildeston.org
SUMMARY:Beginners Pilates
DESCRIPTION:
URL:https://bildeston.org/event/beginners-pilates-cancelled-2023-05-05/2025-12-19/
LOCATION:Chamberlin Hall
CATEGORIES:Chamberlin Hall
ORGANIZER;CN="Claire Jacobs":MAILTO:claire@fitframephysio.com
END:VEVENT
BEGIN:VEVENT
DTSTART;TZID=Europe/London:20251212T120000
DTEND;TZID=Europe/London:20251212T130000
DTSTAMP:20260424T142307
CREATED:20200510T142415Z
LAST-MODIFIED:20200510T142415Z
UID:24980-1765540800-1765544400@bildeston.org
SUMMARY:Beginners Pilates
DESCRIPTION:
URL:https://bildeston.org/event/beginners-pilates-cancelled-2023-05-05/2025-12-12/
LOCATION:Chamberlin Hall
CATEGORIES:Chamberlin Hall
ORGANIZER;CN="Claire Jacobs":MAILTO:claire@fitframephysio.com
END:VEVENT
BEGIN:VEVENT
DTSTART;TZID=Europe/London:20251205T120000
DTEND;TZID=Europe/London:20251205T130000
DTSTAMP:20260424T142307
CREATED:20200510T142415Z
LAST-MODIFIED:20200510T142415Z
UID:24787-1764936000-1764939600@bildeston.org
SUMMARY:Beginners Pilates
DESCRIPTION:
URL:https://bildeston.org/event/beginners-pilates-cancelled-2023-05-05/2025-12-05/
LOCATION:Chamberlin Hall
CATEGORIES:Chamberlin Hall
ORGANIZER;CN="Claire Jacobs":MAILTO:claire@fitframephysio.com
END:VEVENT
BEGIN:VEVENT
DTSTART;TZID=Europe/London:20251128T120000
DTEND;TZID=Europe/London:20251128T130000
DTSTAMP:20260424T142307
CREATED:20200510T142415Z
LAST-MODIFIED:20200510T142415Z
UID:24581-1764331200-1764334800@bildeston.org
SUMMARY:Beginners Pilates
DESCRIPTION:
URL:https://bildeston.org/event/beginners-pilates-cancelled-2023-05-05/2025-11-28/
LOCATION:Chamberlin Hall
CATEGORIES:Chamberlin Hall
ORGANIZER;CN="Claire Jacobs":MAILTO:claire@fitframephysio.com
END:VEVENT
BEGIN:VEVENT
DTSTART;TZID=Europe/London:20251121T120000
DTEND;TZID=Europe/London:20251121T130000
DTSTAMP:20260424T142307
CREATED:20200510T142415Z
LAST-MODIFIED:20200510T142415Z
UID:24267-1763726400-1763730000@bildeston.org
SUMMARY:Beginners Pilates
DESCRIPTION:
URL:https://bildeston.org/event/beginners-pilates-cancelled-2023-05-05/2025-11-21/
LOCATION:Chamberlin Hall
CATEGORIES:Chamberlin Hall
ORGANIZER;CN="Claire Jacobs":MAILTO:claire@fitframephysio.com
END:VEVENT
BEGIN:VEVENT
DTSTART;TZID=Europe/London:20251114T120000
DTEND;TZID=Europe/London:20251114T130000
DTSTAMP:20260424T142307
CREATED:20200510T142415Z
LAST-MODIFIED:20200510T142415Z
UID:24151-1763121600-1763125200@bildeston.org
SUMMARY:Beginners Pilates
DESCRIPTION:
URL:https://bildeston.org/event/beginners-pilates-cancelled-2023-05-05/2025-11-14/
LOCATION:Chamberlin Hall
CATEGORIES:Chamberlin Hall
ORGANIZER;CN="Claire Jacobs":MAILTO:claire@fitframephysio.com
END:VEVENT
BEGIN:VEVENT
DTSTART;TZID=Europe/London:20251107T120000
DTEND;TZID=Europe/London:20251107T130000
DTSTAMP:20260424T142307
CREATED:20200510T142415Z
LAST-MODIFIED:20200510T142415Z
UID:24101-1762516800-1762520400@bildeston.org
SUMMARY:Beginners Pilates
DESCRIPTION:
URL:https://bildeston.org/event/beginners-pilates-cancelled-2023-05-05/2025-11-07/
LOCATION:Chamberlin Hall
CATEGORIES:Chamberlin Hall
ORGANIZER;CN="Claire Jacobs":MAILTO:claire@fitframephysio.com
END:VEVENT
BEGIN:VEVENT
DTSTART;TZID=Europe/London:20251031T120000
DTEND;TZID=Europe/London:20251031T130000
DTSTAMP:20260424T142307
CREATED:20200510T142415Z
LAST-MODIFIED:20200510T142415Z
UID:24073-1761912000-1761915600@bildeston.org
SUMMARY:Beginners Pilates
DESCRIPTION:
URL:https://bildeston.org/event/beginners-pilates-cancelled-2023-05-05/2025-10-31/
LOCATION:Chamberlin Hall
CATEGORIES:Chamberlin Hall
ORGANIZER;CN="Claire Jacobs":MAILTO:claire@fitframephysio.com
END:VEVENT
BEGIN:VEVENT
DTSTART;TZID=Europe/London:20251024T120000
DTEND;TZID=Europe/London:20251024T130000
DTSTAMP:20260424T142307
CREATED:20200510T142415Z
LAST-MODIFIED:20200510T142415Z
UID:24042-1761307200-1761310800@bildeston.org
SUMMARY:Beginners Pilates
DESCRIPTION:
URL:https://bildeston.org/event/beginners-pilates-cancelled-2023-05-05/2025-10-24/
LOCATION:Chamberlin Hall
CATEGORIES:Chamberlin Hall
ORGANIZER;CN="Claire Jacobs":MAILTO:claire@fitframephysio.com
END:VEVENT
BEGIN:VEVENT
DTSTART;TZID=Europe/London:20251017T120000
DTEND;TZID=Europe/London:20251017T130000
DTSTAMP:20260424T142307
CREATED:20200510T142415Z
LAST-MODIFIED:20200510T142415Z
UID:24015-1760702400-1760706000@bildeston.org
SUMMARY:Beginners Pilates
DESCRIPTION:
URL:https://bildeston.org/event/beginners-pilates-cancelled-2023-05-05/2025-10-17/
LOCATION:Chamberlin Hall
CATEGORIES:Chamberlin Hall
ORGANIZER;CN="Claire Jacobs":MAILTO:claire@fitframephysio.com
END:VEVENT
BEGIN:VEVENT
DTSTART;TZID=Europe/London:20251010T120000
DTEND;TZID=Europe/London:20251010T130000
DTSTAMP:20260424T142307
CREATED:20200510T142415Z
LAST-MODIFIED:20200510T142415Z
UID:23974-1760097600-1760101200@bildeston.org
SUMMARY:Beginners Pilates
DESCRIPTION:
URL:https://bildeston.org/event/beginners-pilates-cancelled-2023-05-05/2025-10-10/
LOCATION:Chamberlin Hall
CATEGORIES:Chamberlin Hall
ORGANIZER;CN="Claire Jacobs":MAILTO:claire@fitframephysio.com
END:VEVENT
BEGIN:VEVENT
DTSTART;TZID=Europe/London:20251003T120000
DTEND;TZID=Europe/London:20251003T130000
DTSTAMP:20260424T142307
CREATED:20200510T142415Z
LAST-MODIFIED:20200510T142415Z
UID:23950-1759492800-1759496400@bildeston.org
SUMMARY:Beginners Pilates
DESCRIPTION:
URL:https://bildeston.org/event/beginners-pilates-cancelled-2023-05-05/2025-10-03/
LOCATION:Chamberlin Hall
CATEGORIES:Chamberlin Hall
ORGANIZER;CN="Claire Jacobs":MAILTO:claire@fitframephysio.com
END:VEVENT
END:VCALENDAR